| Back to Multiple platform build/check report for BioC 3.7 |
|
This page was generated on 2018-10-17 08:43:22 -0400 (Wed, 17 Oct 2018).
| Package 534/1561 | Hostname | OS / Arch | INSTALL | BUILD | CHECK | BUILD BIN | ||||||
| funtooNorm 1.4.0 Kathleen Klein
| malbec2 | Linux (Ubuntu 16.04.1 LTS) / x86_64 | OK | OK | OK | |||||||
| tokay2 | Windows Server 2012 R2 Standard / x64 | [ OK ] | OK | OK | OK | |||||||
| merida2 | OS X 10.11.6 El Capitan / x86_64 | OK | OK | OK | OK |
| Package: funtooNorm |
| Version: 1.4.0 |
| Command: C:\cygwin\bin\curl.exe -O https://malbec2.bioconductor.org/BBS/3.7/bioc/src/contrib/funtooNorm_1.4.0.tar.gz && rm -rf funtooNorm.buildbin-libdir && mkdir funtooNorm.buildbin-libdir && C:\Users\biocbuild\bbs-3.7-bioc\R\bin\R.exe CMD INSTALL --merge-multiarch --build --library=funtooNorm.buildbin-libdir funtooNorm_1.4.0.tar.gz && C:\Users\biocbuild\bbs-3.7-bioc\R\bin\R.exe CMD INSTALL funtooNorm_1.4.0.zip && rm funtooNorm_1.4.0.tar.gz funtooNorm_1.4.0.zip |
| StartedAt: 2018-10-16 20:21:39 -0400 (Tue, 16 Oct 2018) |
| EndedAt: 2018-10-16 20:22:35 -0400 (Tue, 16 Oct 2018) |
| EllapsedTime: 56.4 seconds |
| RetCode: 0 |
| Status: OK |
##############################################################################
##############################################################################
###
### Running command:
###
### C:\cygwin\bin\curl.exe -O https://malbec2.bioconductor.org/BBS/3.7/bioc/src/contrib/funtooNorm_1.4.0.tar.gz && rm -rf funtooNorm.buildbin-libdir && mkdir funtooNorm.buildbin-libdir && C:\Users\biocbuild\bbs-3.7-bioc\R\bin\R.exe CMD INSTALL --merge-multiarch --build --library=funtooNorm.buildbin-libdir funtooNorm_1.4.0.tar.gz && C:\Users\biocbuild\bbs-3.7-bioc\R\bin\R.exe CMD INSTALL funtooNorm_1.4.0.zip && rm funtooNorm_1.4.0.tar.gz funtooNorm_1.4.0.zip
###
##############################################################################
##############################################################################
% Total % Received % Xferd Average Speed Time Time Time Current
Dload Upload Total Spent Left Speed
0 0 0 0 0 0 0 0 --:--:-- --:--:-- --:--:-- 0
100 2509k 100 2509k 0 0 30.0M 0 --:--:-- --:--:-- --:--:-- 32.6M
install for i386
* installing *source* package 'funtooNorm' ...
** R
** inst
** byte-compile and prepare package for lazy loading
** help
*** installing help indices
converting help for package 'funtooNorm'
finding HTML links ... done
SampleSet-class html
agreement html
fromGenStudFiles html
fromRGChannelSet html
funtooNorm-package html
funtooNorm html
getGRanges html
getNormBeta html
getNormM html
getRawBeta html
getSnpM html
plotValidationGraph html
show-SampleSet-method html
** building package indices
** installing vignettes
** testing if installed package can be loaded
In R CMD INSTALL
install for x64
* installing *source* package 'funtooNorm' ...
** testing if installed package can be loaded
* MD5 sums
packaged installation of 'funtooNorm' as funtooNorm_1.4.0.zip
* DONE (funtooNorm)
In R CMD INSTALL
In R CMD INSTALL
* installing to library 'C:/Users/biocbuild/bbs-3.7-bioc/R/library'
package 'funtooNorm' successfully unpacked and MD5 sums checked
In R CMD INSTALL