| Back to Multiple platform build/check report for BioC 3.7 |
|
This page was generated on 2018-10-17 08:35:29 -0400 (Wed, 17 Oct 2018).
| Package 521/1561 | Hostname | OS / Arch | INSTALL | BUILD | CHECK | BUILD BIN | ||||||
| flowType 2.18.0 Nima Aghaeepour
| malbec2 | Linux (Ubuntu 16.04.1 LTS) / x86_64 | OK | OK | OK | |||||||
| tokay2 | Windows Server 2012 R2 Standard / x64 | [ OK ] | OK | OK | OK | |||||||
| merida2 | OS X 10.11.6 El Capitan / x86_64 | OK | OK | WARNINGS | OK |
| Package: flowType |
| Version: 2.18.0 |
| Command: C:\cygwin\bin\curl.exe -O https://malbec2.bioconductor.org/BBS/3.7/bioc/src/contrib/flowType_2.18.0.tar.gz && rm -rf flowType.buildbin-libdir && mkdir flowType.buildbin-libdir && C:\Users\biocbuild\bbs-3.7-bioc\R\bin\R.exe CMD INSTALL --merge-multiarch --build --library=flowType.buildbin-libdir flowType_2.18.0.tar.gz && C:\Users\biocbuild\bbs-3.7-bioc\R\bin\R.exe CMD INSTALL flowType_2.18.0.zip && rm flowType_2.18.0.tar.gz flowType_2.18.0.zip |
| StartedAt: 2018-10-16 19:51:08 -0400 (Tue, 16 Oct 2018) |
| EndedAt: 2018-10-16 19:52:16 -0400 (Tue, 16 Oct 2018) |
| EllapsedTime: 67.9 seconds |
| RetCode: 0 |
| Status: OK |
##############################################################################
##############################################################################
###
### Running command:
###
### C:\cygwin\bin\curl.exe -O https://malbec2.bioconductor.org/BBS/3.7/bioc/src/contrib/flowType_2.18.0.tar.gz && rm -rf flowType.buildbin-libdir && mkdir flowType.buildbin-libdir && C:\Users\biocbuild\bbs-3.7-bioc\R\bin\R.exe CMD INSTALL --merge-multiarch --build --library=flowType.buildbin-libdir flowType_2.18.0.tar.gz && C:\Users\biocbuild\bbs-3.7-bioc\R\bin\R.exe CMD INSTALL flowType_2.18.0.zip && rm flowType_2.18.0.tar.gz flowType_2.18.0.zip
###
##############################################################################
##############################################################################
% Total % Received % Xferd Average Speed Time Time Time Current
Dload Upload Total Spent Left Speed
0 0 0 0 0 0 0 0 --:--:-- --:--:-- --:--:-- 0
100 843k 100 843k 0 0 11.6M 0 --:--:-- --:--:-- --:--:-- 12.8M
install for i386
* installing *source* package 'flowType' ...
** libs
C:/Rtools/mingw_32/bin/g++ -I"C:/Users/BIOCBU˜1/BBS-3˜1.7-B/R/include" -DNDEBUG -I"C:/Users/biocbuild/bbs-3.7-bioc/R/library/Rcpp/include" -I"C:/Users/biocbuild/bbs-3.7-bioc/R/library/BH/include" -I"C:/extsoft/include" -O2 -Wall -mtune=generic -c countsAndMeans.cpp -o countsAndMeans.o
C:/Rtools/mingw_32/bin/g++ -I"C:/Users/BIOCBU˜1/BBS-3˜1.7-B/R/include" -DNDEBUG -I"C:/Users/biocbuild/bbs-3.7-bioc/R/library/Rcpp/include" -I"C:/Users/biocbuild/bbs-3.7-bioc/R/library/BH/include" -I"C:/extsoft/include" -O2 -Wall -mtune=generic -c flowType.cpp -o flowType.o
C:/Rtools/mingw_32/bin/g++ -I"C:/Users/BIOCBU˜1/BBS-3˜1.7-B/R/include" -DNDEBUG -I"C:/Users/biocbuild/bbs-3.7-bioc/R/library/Rcpp/include" -I"C:/Users/biocbuild/bbs-3.7-bioc/R/library/BH/include" -I"C:/extsoft/include" -O2 -Wall -mtune=generic -c numberGenerator.cpp -o numberGenerator.o
C:/Rtools/mingw_32/bin/g++ -shared -s -static-libgcc -o flowType.dll tmp.def countsAndMeans.o flowType.o numberGenerator.o -LC:/extsoft/lib/i386 -LC:/extsoft/lib -LC:/Users/BIOCBU˜1/BBS-3˜1.7-B/R/bin/i386 -lR
installing to C:/Users/biocbuild/bbs-3.7-bioc/meat/flowType.buildbin-libdir/flowType/libs/i386
** R
** data
** inst
** byte-compile and prepare package for lazy loading
** help
*** installing help indices
converting help for package 'flowType'
finding HTML links ... done
DLBCLExample html
HIVData html
HIVMetaData html
Phenotypes html
calcMemUse html
calcNumPops html
decodePhenotype-methods html
encodePhenotype html
flowType-package html
flowType html
getLabels html
plot html
summary-methods html
** building package indices
** installing vignettes
** testing if installed package can be loaded
In R CMD INSTALL
install for x64
* installing *source* package 'flowType' ...
** libs
C:/Rtools/mingw_64/bin/g++ -I"C:/Users/BIOCBU˜1/BBS-3˜1.7-B/R/include" -DNDEBUG -I"C:/Users/biocbuild/bbs-3.7-bioc/R/library/Rcpp/include" -I"C:/Users/biocbuild/bbs-3.7-bioc/R/library/BH/include" -I"C:/extsoft/include" -O2 -Wall -mtune=generic -c countsAndMeans.cpp -o countsAndMeans.o
C:/Rtools/mingw_64/bin/g++ -I"C:/Users/BIOCBU˜1/BBS-3˜1.7-B/R/include" -DNDEBUG -I"C:/Users/biocbuild/bbs-3.7-bioc/R/library/Rcpp/include" -I"C:/Users/biocbuild/bbs-3.7-bioc/R/library/BH/include" -I"C:/extsoft/include" -O2 -Wall -mtune=generic -c flowType.cpp -o flowType.o
C:/Rtools/mingw_64/bin/g++ -I"C:/Users/BIOCBU˜1/BBS-3˜1.7-B/R/include" -DNDEBUG -I"C:/Users/biocbuild/bbs-3.7-bioc/R/library/Rcpp/include" -I"C:/Users/biocbuild/bbs-3.7-bioc/R/library/BH/include" -I"C:/extsoft/include" -O2 -Wall -mtune=generic -c numberGenerator.cpp -o numberGenerator.o
C:/Rtools/mingw_64/bin/g++ -shared -s -static-libgcc -o flowType.dll tmp.def countsAndMeans.o flowType.o numberGenerator.o -LC:/extsoft/lib/x64 -LC:/extsoft/lib -LC:/Users/BIOCBU˜1/BBS-3˜1.7-B/R/bin/x64 -lR
installing to C:/Users/biocbuild/bbs-3.7-bioc/meat/flowType.buildbin-libdir/flowType/libs/x64
** testing if installed package can be loaded
* MD5 sums
packaged installation of 'flowType' as flowType_2.18.0.zip
* DONE (flowType)
In R CMD INSTALL
In R CMD INSTALL
* installing to library 'C:/Users/biocbuild/bbs-3.7-bioc/R/library'
package 'flowType' successfully unpacked and MD5 sums checked
In R CMD INSTALL