| Back to Multiple platform build/check report for BioC 3.7 |
|
This page was generated on 2018-10-17 08:35:16 -0400 (Wed, 17 Oct 2018).
| Package 513/1561 | Hostname | OS / Arch | INSTALL | BUILD | CHECK | BUILD BIN | ||||||
| flowPlots 1.28.0 N. Hawkins
| malbec2 | Linux (Ubuntu 16.04.1 LTS) / x86_64 | OK | OK | OK | |||||||
| tokay2 | Windows Server 2012 R2 Standard / x64 | [ OK ] | OK | OK | OK | |||||||
| merida2 | OS X 10.11.6 El Capitan / x86_64 | OK | OK | OK | OK |
| Package: flowPlots |
| Version: 1.28.0 |
| Command: C:\cygwin\bin\curl.exe -O https://malbec2.bioconductor.org/BBS/3.7/bioc/src/contrib/flowPlots_1.28.0.tar.gz && rm -rf flowPlots.buildbin-libdir && mkdir flowPlots.buildbin-libdir && C:\Users\biocbuild\bbs-3.7-bioc\R\bin\R.exe CMD INSTALL --merge-multiarch --build --library=flowPlots.buildbin-libdir flowPlots_1.28.0.tar.gz && C:\Users\biocbuild\bbs-3.7-bioc\R\bin\R.exe CMD INSTALL flowPlots_1.28.0.zip && rm flowPlots_1.28.0.tar.gz flowPlots_1.28.0.zip |
| StartedAt: 2018-10-16 18:46:42 -0400 (Tue, 16 Oct 2018) |
| EndedAt: 2018-10-16 18:47:27 -0400 (Tue, 16 Oct 2018) |
| EllapsedTime: 45.0 seconds |
| RetCode: 0 |
| Status: OK |
##############################################################################
##############################################################################
###
### Running command:
###
### C:\cygwin\bin\curl.exe -O https://malbec2.bioconductor.org/BBS/3.7/bioc/src/contrib/flowPlots_1.28.0.tar.gz && rm -rf flowPlots.buildbin-libdir && mkdir flowPlots.buildbin-libdir && C:\Users\biocbuild\bbs-3.7-bioc\R\bin\R.exe CMD INSTALL --merge-multiarch --build --library=flowPlots.buildbin-libdir flowPlots_1.28.0.tar.gz && C:\Users\biocbuild\bbs-3.7-bioc\R\bin\R.exe CMD INSTALL flowPlots_1.28.0.zip && rm flowPlots_1.28.0.tar.gz flowPlots_1.28.0.zip
###
##############################################################################
##############################################################################
% Total % Received % Xferd Average Speed Time Time Time Current
Dload Upload Total Spent Left Speed
0 0 0 0 0 0 0 0 --:--:-- --:--:-- --:--:-- 0
100 193k 100 193k 0 0 2845k 0 --:--:-- --:--:-- --:--:-- 3218k
install for i386
* installing *source* package 'flowPlots' ...
** R
** data
*** moving datasets to lazyload DB
** inst
** byte-compile and prepare package for lazy loading
** help
*** installing help indices
converting help for package 'flowPlots'
finding HTML links ... done
GroupListBoxplot html
StackedData-class html
adultsNeonates html
computeMarginalData-methods html
computeMarkers-methods html
computePFDData-methods html
computePFDGroupStatsList html
computePFDPartsData-methods html
computeProfileData-methods html
legendPFDStatsGroupNames html
makeBarplotData html
makeDataList html
makeTernaryData html
marginalDF html
marginalData-methods html
markerMatrix html
markers-methods html
pfdDF html
pfdData-methods html
pfdPartsData-methods html
pfdPartsList html
profileDF html
profileData-methods html
readStackedData-methods html
stackedData-methods html
** building package indices
** installing vignettes
** testing if installed package can be loaded
In R CMD INSTALL
install for x64
* installing *source* package 'flowPlots' ...
** testing if installed package can be loaded
* MD5 sums
packaged installation of 'flowPlots' as flowPlots_1.28.0.zip
* DONE (flowPlots)
In R CMD INSTALL
In R CMD INSTALL
* installing to library 'C:/Users/biocbuild/bbs-3.7-bioc/R/library'
package 'flowPlots' successfully unpacked and MD5 sums checked
In R CMD INSTALL