| Back to Multiple platform build/check report for BioC 3.7 |
|
This page was generated on 2018-10-17 08:37:18 -0400 (Wed, 17 Oct 2018).
| Package 495/1561 | Hostname | OS / Arch | INSTALL | BUILD | CHECK | BUILD BIN | ||||||
| flowBeads 1.18.0 Nikolas Pontikos
| malbec2 | Linux (Ubuntu 16.04.1 LTS) / x86_64 | OK | OK | OK | |||||||
| tokay2 | Windows Server 2012 R2 Standard / x64 | [ OK ] | OK | OK | OK | |||||||
| merida2 | OS X 10.11.6 El Capitan / x86_64 | OK | OK | OK | OK |
| Package: flowBeads |
| Version: 1.18.0 |
| Command: C:\cygwin\bin\curl.exe -O https://malbec2.bioconductor.org/BBS/3.7/bioc/src/contrib/flowBeads_1.18.0.tar.gz && rm -rf flowBeads.buildbin-libdir && mkdir flowBeads.buildbin-libdir && C:\Users\biocbuild\bbs-3.7-bioc\R\bin\R.exe CMD INSTALL --merge-multiarch --build --library=flowBeads.buildbin-libdir flowBeads_1.18.0.tar.gz && C:\Users\biocbuild\bbs-3.7-bioc\R\bin\R.exe CMD INSTALL flowBeads_1.18.0.zip && rm flowBeads_1.18.0.tar.gz flowBeads_1.18.0.zip |
| StartedAt: 2018-10-16 19:01:04 -0400 (Tue, 16 Oct 2018) |
| EndedAt: 2018-10-16 19:02:04 -0400 (Tue, 16 Oct 2018) |
| EllapsedTime: 60.1 seconds |
| RetCode: 0 |
| Status: OK |
##############################################################################
##############################################################################
###
### Running command:
###
### C:\cygwin\bin\curl.exe -O https://malbec2.bioconductor.org/BBS/3.7/bioc/src/contrib/flowBeads_1.18.0.tar.gz && rm -rf flowBeads.buildbin-libdir && mkdir flowBeads.buildbin-libdir && C:\Users\biocbuild\bbs-3.7-bioc\R\bin\R.exe CMD INSTALL --merge-multiarch --build --library=flowBeads.buildbin-libdir flowBeads_1.18.0.tar.gz && C:\Users\biocbuild\bbs-3.7-bioc\R\bin\R.exe CMD INSTALL flowBeads_1.18.0.zip && rm flowBeads_1.18.0.tar.gz flowBeads_1.18.0.zip
###
##############################################################################
##############################################################################
% Total % Received % Xferd Average Speed Time Time Time Current
Dload Upload Total Spent Left Speed
0 0 0 0 0 0 0 0 --:--:-- --:--:-- --:--:-- 0
100 590k 100 590k 0 0 8726k 0 --:--:-- --:--:-- --:--:-- 9672k
install for i386
* installing *source* package 'flowBeads' ...
** R
** data
** inst
** byte-compile and prepare package for lazy loading
** help
*** installing help indices
converting help for package 'flowBeads'
finding HTML links ... done
BeadFlowFrame-class html
finding level-2 HTML links ... done
GatedBeadFlowFrame-class html
absoluteNormalise-methods html
beads1 html
beads2 html
cytocalmef html
dakomef html
flowBeads-package html
gateBeads-methods html
generateReport-methods html
getClusteringStats-methods html
getDate-methods html
getMEFparams-methods html
getMEFtransform-methods html
getParams-methods html
getTransformFunction-methods html
hasMEF-methods html
length-methods html
mefTransform html
plot-methods html
relativeNormalise-methods html
show-methods html
toMEF-methods html
** building package indices
** installing vignettes
** testing if installed package can be loaded
In R CMD INSTALL
install for x64
* installing *source* package 'flowBeads' ...
** testing if installed package can be loaded
* MD5 sums
packaged installation of 'flowBeads' as flowBeads_1.18.0.zip
* DONE (flowBeads)
In R CMD INSTALL
In R CMD INSTALL
* installing to library 'C:/Users/biocbuild/bbs-3.7-bioc/R/library'
package 'flowBeads' successfully unpacked and MD5 sums checked
In R CMD INSTALL