| Back to Multiple platform build/check report for BioC 3.7 |
|
This page was generated on 2018-03-05 14:53:23 -0500 (Mon, 05 Mar 2018).
| Package 461/1503 | Hostname | OS / Arch | INSTALL | BUILD | CHECK | BUILD BIN | ||||||
| facopy 1.13.0 David Mosen-Ansorena
| malbec2 | Linux (Ubuntu 16.04.1 LTS) / x86_64 | OK | OK | OK | |||||||
| merida2 | OS X 10.11.6 El Capitan / x86_64 | OK | OK | OK | [ OK ] |
| Package: facopy |
| Version: 1.13.0 |
| Command: rm -rf facopy.buildbin-libdir && mkdir facopy.buildbin-libdir && /Users/biocbuild/BBS/utils/build-universal.sh facopy_1.13.0.tar.gz /Library/Frameworks/R.framework/Versions/Current/Resources/bin/R facopy.buildbin-libdir |
| StartedAt: 2018-03-05 04:30:36 -0500 (Mon, 05 Mar 2018) |
| EndedAt: 2018-03-05 04:31:14 -0500 (Mon, 05 Mar 2018) |
| EllapsedTime: 37.9 seconds |
| RetCode: 0 |
| Status: OK |
| PackageFile: facopy_1.13.0.tgz |
| PackageFileSize: 1.071 MiB |
############################################################################## ############################################################################## ### ### Running command: ### ### rm -rf facopy.buildbin-libdir && mkdir facopy.buildbin-libdir && /Users/biocbuild/BBS/utils/build-universal.sh facopy_1.13.0.tar.gz /Library/Frameworks/R.framework/Versions/Current/Resources/bin/R facopy.buildbin-libdir ### ############################################################################## ############################################################################## >>>>>>> >>>>>>> INSTALLATION WITH 'R CMD INSTALL --preclean --no-multiarch --library=facopy.buildbin-libdir facopy_1.13.0.tar.gz' >>>>>>> * installing *source* package ‘facopy’ ... ** R ** data ** inst ** byte-compile and prepare package for lazy loading ** help *** installing help indices ** building package indices ** installing vignettes ** testing if installed package can be loaded * DONE (facopy)