| Back to Multiple platform build/check report for BioC 3.7 |
|
This page was generated on 2018-10-17 08:55:21 -0400 (Wed, 17 Oct 2018).
| Package 419/1561 | Hostname | OS / Arch | INSTALL | BUILD | CHECK | BUILD BIN | ||||||
| dupRadar 1.10.0 Sergi Sayols
| malbec2 | Linux (Ubuntu 16.04.1 LTS) / x86_64 | OK | OK | OK | |||||||
| tokay2 | Windows Server 2012 R2 Standard / x64 | ...NOT SUPPORTED... | ||||||||||
| merida2 | OS X 10.11.6 El Capitan / x86_64 | OK | OK | OK | [ OK ] | |||||||
| Package: dupRadar |
| Version: 1.10.0 |
| Command: rm -rf dupRadar.buildbin-libdir && mkdir dupRadar.buildbin-libdir && /Users/biocbuild/BBS/utils/build-universal.sh dupRadar_1.10.0.tar.gz /Library/Frameworks/R.framework/Versions/Current/Resources/bin/R dupRadar.buildbin-libdir |
| StartedAt: 2018-10-17 01:15:33 -0400 (Wed, 17 Oct 2018) |
| EndedAt: 2018-10-17 01:16:20 -0400 (Wed, 17 Oct 2018) |
| EllapsedTime: 47.6 seconds |
| RetCode: 0 |
| Status: OK |
| PackageFile: dupRadar_1.10.0.tgz |
| PackageFileSize: 5.562 MiB |
############################################################################## ############################################################################## ### ### Running command: ### ### rm -rf dupRadar.buildbin-libdir && mkdir dupRadar.buildbin-libdir && /Users/biocbuild/BBS/utils/build-universal.sh dupRadar_1.10.0.tar.gz /Library/Frameworks/R.framework/Versions/Current/Resources/bin/R dupRadar.buildbin-libdir ### ############################################################################## ############################################################################## >>>>>>> >>>>>>> INSTALLATION WITH 'R CMD INSTALL --preclean --no-multiarch --library=dupRadar.buildbin-libdir dupRadar_1.10.0.tar.gz' >>>>>>> * installing *source* package ‘dupRadar’ ... ** R ** data *** moving datasets to lazyload DB ** inst ** byte-compile and prepare package for lazy loading ** help *** installing help indices ** building package indices ** installing vignettes ** testing if installed package can be loaded * DONE (dupRadar)