| Back to Multiple platform build/check report for BioC 3.7 |
|
This page was generated on 2018-10-14 10:47:50 -0400 (Sun, 14 Oct 2018).
| Package 370/1561 | Hostname | OS / Arch | INSTALL | BUILD | CHECK | BUILD BIN | ||||||
| derfinder 1.14.0 Leonardo Collado-Torres
| malbec2 | Linux (Ubuntu 16.04.1 LTS) / x86_64 | OK | OK | OK | |||||||
| tokay2 | Windows Server 2012 R2 Standard / x64 | OK | OK | OK | [ OK ] | |||||||
| merida2 | OS X 10.11.6 El Capitan / x86_64 | OK | OK | OK | OK |
| Package: derfinder |
| Version: 1.14.0 |
| Command: rm -rf derfinder.buildbin-libdir && mkdir derfinder.buildbin-libdir && C:\Users\biocbuild\bbs-3.7-bioc\R\bin\R.exe CMD INSTALL --merge-multiarch --build --library=derfinder.buildbin-libdir derfinder_1.14.0.tar.gz |
| StartedAt: 2018-10-14 06:30:51 -0400 (Sun, 14 Oct 2018) |
| EndedAt: 2018-10-14 06:31:35 -0400 (Sun, 14 Oct 2018) |
| EllapsedTime: 44.1 seconds |
| RetCode: 0 |
| Status: OK |
| PackageFile: derfinder_1.14.0.zip |
| PackageFileSize: 2.546 MiB |
##############################################################################
##############################################################################
###
### Running command:
###
### rm -rf derfinder.buildbin-libdir && mkdir derfinder.buildbin-libdir && C:\Users\biocbuild\bbs-3.7-bioc\R\bin\R.exe CMD INSTALL --merge-multiarch --build --library=derfinder.buildbin-libdir derfinder_1.14.0.tar.gz
###
##############################################################################
##############################################################################
install for i386
* installing *source* package 'derfinder' ...
** R
** data
*** moving datasets to lazyload DB
** inst
** byte-compile and prepare package for lazy loading
No methods found in package 'IRanges' for request: 'subset' when loading 'derfinder'
** help
*** installing help indices
converting help for package 'derfinder'
finding HTML links ... done
analyzeChr html
annotateRegions html
calculatePvalues html
calculateStats html
coerceGR html
collapseFullCoverage html
coverageToExon html
createBw html
createBwSample html
define_cluster html
derfinder-deprecated html
derfinder-package html
extendedMapSeqlevels html
filterData html
findRegions html
fullCoverage html
genomeData html
genomeDataRaw html
genomeFstats html
genomeInfo html
genomeRegions html
genomicState html
getRegionCoverage html
getTotalMapped html
loadCoverage html
makeGenomicState html
makeModels html
mergeResults html
preprocessCoverage html
railMatrix html
rawFiles html
regionMatrix html
sampleDepth html
** building package indices
** installing vignettes
** testing if installed package can be loaded
No methods found in package 'IRanges' for request: 'subset' when loading 'derfinder'
In R CMD INSTALL
install for x64
* installing *source* package 'derfinder' ...
** testing if installed package can be loaded
No methods found in package 'IRanges' for request: 'subset' when loading 'derfinder'
* MD5 sums
packaged installation of 'derfinder' as derfinder_1.14.0.zip
* DONE (derfinder)
In R CMD INSTALL
In R CMD INSTALL