| Back to Multiple platform build/check report for BioC 3.7 |
|
This page was generated on 2018-10-17 08:42:39 -0400 (Wed, 17 Oct 2018).
| Package 331/1561 | Hostname | OS / Arch | INSTALL | BUILD | CHECK | BUILD BIN | ||||||
| ctsGE 1.6.1 Michal Sharabi-Schwager
| malbec2 | Linux (Ubuntu 16.04.1 LTS) / x86_64 | OK | OK | OK | |||||||
| tokay2 | Windows Server 2012 R2 Standard / x64 | OK | [ OK ] | OK | OK | |||||||
| merida2 | OS X 10.11.6 El Capitan / x86_64 | OK | OK | OK | OK |
| Package: ctsGE |
| Version: 1.6.1 |
| Command: chmod a+r ctsGE -R && C:\Users\biocbuild\bbs-3.7-bioc\R\bin\R.exe CMD build --keep-empty-dirs --no-resave-data ctsGE |
| StartedAt: 2018-10-16 23:15:18 -0400 (Tue, 16 Oct 2018) |
| EndedAt: 2018-10-16 23:15:52 -0400 (Tue, 16 Oct 2018) |
| EllapsedTime: 34.7 seconds |
| RetCode: 0 |
| Status: OK |
| PackageFile: ctsGE_1.6.1.tar.gz |
| PackageFileSize: 717.2 KiB |
##############################################################################
##############################################################################
###
### Running command:
###
### chmod a+r ctsGE -R && C:\Users\biocbuild\bbs-3.7-bioc\R\bin\R.exe CMD build --keep-empty-dirs --no-resave-data ctsGE
###
##############################################################################
##############################################################################
* checking for file 'ctsGE/DESCRIPTION' ... OK
* preparing 'ctsGE':
* checking DESCRIPTION meta-information ... OK
* installing the package to build vignettes
* creating vignettes ... OK
Warning: 'inst/doc' file
'ctsGE.html'
ignored as vignettes have been rebuilt.
Run R CMD build with --no-build-vignettes to prevent rebuilding.
* checking for LF line-endings in source and make files and shell scripts
* checking for empty or unneeded directories
* building 'ctsGE_1.6.1.tar.gz'