| Back to Multiple platform build/check report for BioC 3.7 |
|
This page was generated on 2018-10-17 08:39:29 -0400 (Wed, 17 Oct 2018).
| Package 327/1561 | Hostname | OS / Arch | INSTALL | BUILD | CHECK | BUILD BIN | ||||||
| csaw 1.14.1 Aaron Lun
| malbec2 | Linux (Ubuntu 16.04.1 LTS) / x86_64 | OK | OK | OK | |||||||
| tokay2 | Windows Server 2012 R2 Standard / x64 | [ OK ] | OK | OK | OK | |||||||
| merida2 | OS X 10.11.6 El Capitan / x86_64 | OK | OK | OK | OK |
| Package: csaw |
| Version: 1.14.1 |
| Command: C:\cygwin\bin\curl.exe -O https://malbec2.bioconductor.org/BBS/3.7/bioc/src/contrib/csaw_1.14.1.tar.gz && rm -rf csaw.buildbin-libdir && mkdir csaw.buildbin-libdir && C:\Users\biocbuild\bbs-3.7-bioc\R\bin\R.exe CMD INSTALL --merge-multiarch --build --library=csaw.buildbin-libdir csaw_1.14.1.tar.gz && C:\Users\biocbuild\bbs-3.7-bioc\R\bin\R.exe CMD INSTALL csaw_1.14.1.zip && rm csaw_1.14.1.tar.gz csaw_1.14.1.zip |
| StartedAt: 2018-10-16 20:00:35 -0400 (Tue, 16 Oct 2018) |
| EndedAt: 2018-10-16 20:04:31 -0400 (Tue, 16 Oct 2018) |
| EllapsedTime: 236.0 seconds |
| RetCode: 0 |
| Status: OK |
##############################################################################
##############################################################################
###
### Running command:
###
### C:\cygwin\bin\curl.exe -O https://malbec2.bioconductor.org/BBS/3.7/bioc/src/contrib/csaw_1.14.1.tar.gz && rm -rf csaw.buildbin-libdir && mkdir csaw.buildbin-libdir && C:\Users\biocbuild\bbs-3.7-bioc\R\bin\R.exe CMD INSTALL --merge-multiarch --build --library=csaw.buildbin-libdir csaw_1.14.1.tar.gz && C:\Users\biocbuild\bbs-3.7-bioc\R\bin\R.exe CMD INSTALL csaw_1.14.1.zip && rm csaw_1.14.1.tar.gz csaw_1.14.1.zip
###
##############################################################################
##############################################################################
% Total % Received % Xferd Average Speed Time Time Time Current
Dload Upload Total Spent Left Speed
0 0 0 0 0 0 0 0 --:--:-- --:--:-- --:--:-- 0
100 950k 100 950k 0 0 15.5M 0 --:--:-- --:--:-- --:--:-- 17.1M
install for i386
* installing *source* package 'csaw' ...
** libs
C:/Rtools/mingw_32/bin/g++ -std=gnu++11 -I"C:/Users/BIOCBU˜1/BBS-3˜1.7-B/R/include" -DNDEBUG -I"C:/Users/biocbuild/bbs-3.7-bioc/R/library/Rhtslib/include" -I"C:/Users/biocbuild/bbs-3.7-bioc/R/library/zlibbioc/include" -I"C:/Users/biocbuild/bbs-3.7-bioc/R/library/Rcpp/include" -I"C:/extsoft/include" -O2 -Wall -mtune=generic -c annotator.cpp -o annotator.o
C:/Rtools/mingw_32/bin/g++ -std=gnu++11 -I"C:/Users/BIOCBU˜1/BBS-3˜1.7-B/R/include" -DNDEBUG -I"C:/Users/biocbuild/bbs-3.7-bioc/R/library/Rhtslib/include" -I"C:/Users/biocbuild/bbs-3.7-bioc/R/library/zlibbioc/include" -I"C:/Users/biocbuild/bbs-3.7-bioc/R/library/Rcpp/include" -I"C:/extsoft/include" -O2 -Wall -mtune=generic -c bam_utils.cpp -o bam_utils.o
C:/Rtools/mingw_32/bin/g++ -std=gnu++11 -I"C:/Users/BIOCBU˜1/BBS-3˜1.7-B/R/include" -DNDEBUG -I"C:/Users/biocbuild/bbs-3.7-bioc/R/library/Rhtslib/include" -I"C:/Users/biocbuild/bbs-3.7-bioc/R/library/zlibbioc/include" -I"C:/Users/biocbuild/bbs-3.7-bioc/R/library/Rcpp/include" -I"C:/extsoft/include" -O2 -Wall -mtune=generic -c best_in_cluster.cpp -o best_in_cluster.o
C:/Rtools/mingw_32/bin/g++ -std=gnu++11 -I"C:/Users/BIOCBU˜1/BBS-3˜1.7-B/R/include" -DNDEBUG -I"C:/Users/biocbuild/bbs-3.7-bioc/R/library/Rhtslib/include" -I"C:/Users/biocbuild/bbs-3.7-bioc/R/library/zlibbioc/include" -I"C:/Users/biocbuild/bbs-3.7-bioc/R/library/Rcpp/include" -I"C:/extsoft/include" -O2 -Wall -mtune=generic -c check_bimodality.cpp -o check_bimodality.o
C:/Rtools/mingw_32/bin/g++ -std=gnu++11 -I"C:/Users/BIOCBU˜1/BBS-3˜1.7-B/R/include" -DNDEBUG -I"C:/Users/biocbuild/bbs-3.7-bioc/R/library/Rhtslib/include" -I"C:/Users/biocbuild/bbs-3.7-bioc/R/library/zlibbioc/include" -I"C:/Users/biocbuild/bbs-3.7-bioc/R/library/Rcpp/include" -I"C:/extsoft/include" -O2 -Wall -mtune=generic -c correlate_reads.cpp -o correlate_reads.o
C:/Rtools/mingw_32/bin/g++ -std=gnu++11 -I"C:/Users/BIOCBU˜1/BBS-3˜1.7-B/R/include" -DNDEBUG -I"C:/Users/biocbuild/bbs-3.7-bioc/R/library/Rhtslib/include" -I"C:/Users/biocbuild/bbs-3.7-bioc/R/library/zlibbioc/include" -I"C:/Users/biocbuild/bbs-3.7-bioc/R/library/Rcpp/include" -I"C:/extsoft/include" -O2 -Wall -mtune=generic -c find_maxima.cpp -o find_maxima.o
C:/Rtools/mingw_32/bin/g++ -std=gnu++11 -I"C:/Users/BIOCBU˜1/BBS-3˜1.7-B/R/include" -DNDEBUG -I"C:/Users/biocbuild/bbs-3.7-bioc/R/library/Rhtslib/include" -I"C:/Users/biocbuild/bbs-3.7-bioc/R/library/zlibbioc/include" -I"C:/Users/biocbuild/bbs-3.7-bioc/R/library/Rcpp/include" -I"C:/extsoft/include" -O2 -Wall -mtune=generic -c get_cluster_stats.cpp -o get_cluster_stats.o
C:/Rtools/mingw_32/bin/g++ -std=gnu++11 -I"C:/Users/BIOCBU˜1/BBS-3˜1.7-B/R/include" -DNDEBUG -I"C:/Users/biocbuild/bbs-3.7-bioc/R/library/Rhtslib/include" -I"C:/Users/biocbuild/bbs-3.7-bioc/R/library/zlibbioc/include" -I"C:/Users/biocbuild/bbs-3.7-bioc/R/library/Rcpp/include" -I"C:/extsoft/include" -O2 -Wall -mtune=generic -c get_profile.cpp -o get_profile.o
C:/Rtools/mingw_32/bin/g++ -std=gnu++11 -I"C:/Users/BIOCBU˜1/BBS-3˜1.7-B/R/include" -DNDEBUG -I"C:/Users/biocbuild/bbs-3.7-bioc/R/library/Rhtslib/include" -I"C:/Users/biocbuild/bbs-3.7-bioc/R/library/zlibbioc/include" -I"C:/Users/biocbuild/bbs-3.7-bioc/R/library/Rcpp/include" -I"C:/extsoft/include" -O2 -Wall -mtune=generic -c get_rle_counts.cpp -o get_rle_counts.o
C:/Rtools/mingw_32/bin/g++ -std=gnu++11 -I"C:/Users/BIOCBU˜1/BBS-3˜1.7-B/R/include" -DNDEBUG -I"C:/Users/biocbuild/bbs-3.7-bioc/R/library/Rhtslib/include" -I"C:/Users/biocbuild/bbs-3.7-bioc/R/library/zlibbioc/include" -I"C:/Users/biocbuild/bbs-3.7-bioc/R/library/Rcpp/include" -I"C:/extsoft/include" -O2 -Wall -mtune=generic -c init.cpp -o init.o
C:/Rtools/mingw_32/bin/g++ -std=gnu++11 -I"C:/Users/BIOCBU˜1/BBS-3˜1.7-B/R/include" -DNDEBUG -I"C:/Users/biocbuild/bbs-3.7-bioc/R/library/Rhtslib/include" -I"C:/Users/biocbuild/bbs-3.7-bioc/R/library/zlibbioc/include" -I"C:/Users/biocbuild/bbs-3.7-bioc/R/library/Rcpp/include" -I"C:/extsoft/include" -O2 -Wall -mtune=generic -c merge_windows.cpp -o merge_windows.o
C:/Rtools/mingw_32/bin/g++ -std=gnu++11 -I"C:/Users/BIOCBU˜1/BBS-3˜1.7-B/R/include" -DNDEBUG -I"C:/Users/biocbuild/bbs-3.7-bioc/R/library/Rhtslib/include" -I"C:/Users/biocbuild/bbs-3.7-bioc/R/library/zlibbioc/include" -I"C:/Users/biocbuild/bbs-3.7-bioc/R/library/Rcpp/include" -I"C:/extsoft/include" -O2 -Wall -mtune=generic -c pair_reads.cpp -o pair_reads.o
C:/Rtools/mingw_32/bin/g++ -std=gnu++11 -I"C:/Users/BIOCBU˜1/BBS-3˜1.7-B/R/include" -DNDEBUG -I"C:/Users/biocbuild/bbs-3.7-bioc/R/library/Rhtslib/include" -I"C:/Users/biocbuild/bbs-3.7-bioc/R/library/zlibbioc/include" -I"C:/Users/biocbuild/bbs-3.7-bioc/R/library/Rcpp/include" -I"C:/extsoft/include" -O2 -Wall -mtune=generic -c single_reads.cpp -o single_reads.o
C:/Rtools/mingw_32/bin/g++ -std=gnu++11 -I"C:/Users/BIOCBU˜1/BBS-3˜1.7-B/R/include" -DNDEBUG -I"C:/Users/biocbuild/bbs-3.7-bioc/R/library/Rhtslib/include" -I"C:/Users/biocbuild/bbs-3.7-bioc/R/library/zlibbioc/include" -I"C:/Users/biocbuild/bbs-3.7-bioc/R/library/Rcpp/include" -I"C:/extsoft/include" -O2 -Wall -mtune=generic -c utils.cpp -o utils.o
C:/Rtools/mingw_32/bin/g++ -shared -s -static-libgcc -o csaw.dll tmp.def annotator.o bam_utils.o best_in_cluster.o check_bimodality.o correlate_reads.o find_maxima.o get_cluster_stats.o get_profile.o get_rle_counts.o init.o merge_windows.o pair_reads.o single_reads.o utils.o -LC:/Users/biocbuild/bbs-3.7-bioc/R/library/Rhtslib/usrlib/i386 -lhts -lz -lm -lws2_32 -lpthread -LC:/extsoft/lib/i386 -LC:/extsoft/lib -LC:/Users/BIOCBU˜1/BBS-3˜1.7-B/R/bin/i386 -lR
installing to C:/Users/biocbuild/bbs-3.7-bioc/meat/csaw.buildbin-libdir/csaw/libs/i386
** R
** inst
** byte-compile and prepare package for lazy loading
** help
*** installing help indices
converting help for package 'csaw'
finding HTML links ... done
SEmethods html
finding level-2 HTML links ... done
checkBimodality html
clusterFDR html
clusterWindows html
combineTests html
consolidateClusters html
consolidateSizes html
correlateReads html
csawUsersGuide html
detailRanges html
empiricalFDR html
extractReads html
filterWindows html
findMaxima html
getBestTest html
getPESizes html
getWidths html
maximizeCcf html
mergeWindows html
mixedClusters html
normOffsets html
overlapStats html
profileSites html
readParam html
regionCounts html
scaledAverage html
strandedCounts html
upweightSummit html
windowCounts html
wwhm html
** building package indices
** installing vignettes
'csaw.Rnw'
** testing if installed package can be loaded
In R CMD INSTALL
install for x64
* installing *source* package 'csaw' ...
** libs
C:/Rtools/mingw_64/bin/g++ -std=gnu++11 -I"C:/Users/BIOCBU˜1/BBS-3˜1.7-B/R/include" -DNDEBUG -I"C:/Users/biocbuild/bbs-3.7-bioc/R/library/Rhtslib/include" -I"C:/Users/biocbuild/bbs-3.7-bioc/R/library/zlibbioc/include" -I"C:/Users/biocbuild/bbs-3.7-bioc/R/library/Rcpp/include" -I"C:/extsoft/include" -O2 -Wall -mtune=generic -c annotator.cpp -o annotator.o
C:/Rtools/mingw_64/bin/g++ -std=gnu++11 -I"C:/Users/BIOCBU˜1/BBS-3˜1.7-B/R/include" -DNDEBUG -I"C:/Users/biocbuild/bbs-3.7-bioc/R/library/Rhtslib/include" -I"C:/Users/biocbuild/bbs-3.7-bioc/R/library/zlibbioc/include" -I"C:/Users/biocbuild/bbs-3.7-bioc/R/library/Rcpp/include" -I"C:/extsoft/include" -O2 -Wall -mtune=generic -c bam_utils.cpp -o bam_utils.o
C:/Rtools/mingw_64/bin/g++ -std=gnu++11 -I"C:/Users/BIOCBU˜1/BBS-3˜1.7-B/R/include" -DNDEBUG -I"C:/Users/biocbuild/bbs-3.7-bioc/R/library/Rhtslib/include" -I"C:/Users/biocbuild/bbs-3.7-bioc/R/library/zlibbioc/include" -I"C:/Users/biocbuild/bbs-3.7-bioc/R/library/Rcpp/include" -I"C:/extsoft/include" -O2 -Wall -mtune=generic -c best_in_cluster.cpp -o best_in_cluster.o
C:/Rtools/mingw_64/bin/g++ -std=gnu++11 -I"C:/Users/BIOCBU˜1/BBS-3˜1.7-B/R/include" -DNDEBUG -I"C:/Users/biocbuild/bbs-3.7-bioc/R/library/Rhtslib/include" -I"C:/Users/biocbuild/bbs-3.7-bioc/R/library/zlibbioc/include" -I"C:/Users/biocbuild/bbs-3.7-bioc/R/library/Rcpp/include" -I"C:/extsoft/include" -O2 -Wall -mtune=generic -c check_bimodality.cpp -o check_bimodality.o
C:/Rtools/mingw_64/bin/g++ -std=gnu++11 -I"C:/Users/BIOCBU˜1/BBS-3˜1.7-B/R/include" -DNDEBUG -I"C:/Users/biocbuild/bbs-3.7-bioc/R/library/Rhtslib/include" -I"C:/Users/biocbuild/bbs-3.7-bioc/R/library/zlibbioc/include" -I"C:/Users/biocbuild/bbs-3.7-bioc/R/library/Rcpp/include" -I"C:/extsoft/include" -O2 -Wall -mtune=generic -c correlate_reads.cpp -o correlate_reads.o
C:/Rtools/mingw_64/bin/g++ -std=gnu++11 -I"C:/Users/BIOCBU˜1/BBS-3˜1.7-B/R/include" -DNDEBUG -I"C:/Users/biocbuild/bbs-3.7-bioc/R/library/Rhtslib/include" -I"C:/Users/biocbuild/bbs-3.7-bioc/R/library/zlibbioc/include" -I"C:/Users/biocbuild/bbs-3.7-bioc/R/library/Rcpp/include" -I"C:/extsoft/include" -O2 -Wall -mtune=generic -c find_maxima.cpp -o find_maxima.o
C:/Rtools/mingw_64/bin/g++ -std=gnu++11 -I"C:/Users/BIOCBU˜1/BBS-3˜1.7-B/R/include" -DNDEBUG -I"C:/Users/biocbuild/bbs-3.7-bioc/R/library/Rhtslib/include" -I"C:/Users/biocbuild/bbs-3.7-bioc/R/library/zlibbioc/include" -I"C:/Users/biocbuild/bbs-3.7-bioc/R/library/Rcpp/include" -I"C:/extsoft/include" -O2 -Wall -mtune=generic -c get_cluster_stats.cpp -o get_cluster_stats.o
C:/Rtools/mingw_64/bin/g++ -std=gnu++11 -I"C:/Users/BIOCBU˜1/BBS-3˜1.7-B/R/include" -DNDEBUG -I"C:/Users/biocbuild/bbs-3.7-bioc/R/library/Rhtslib/include" -I"C:/Users/biocbuild/bbs-3.7-bioc/R/library/zlibbioc/include" -I"C:/Users/biocbuild/bbs-3.7-bioc/R/library/Rcpp/include" -I"C:/extsoft/include" -O2 -Wall -mtune=generic -c get_profile.cpp -o get_profile.o
C:/Rtools/mingw_64/bin/g++ -std=gnu++11 -I"C:/Users/BIOCBU˜1/BBS-3˜1.7-B/R/include" -DNDEBUG -I"C:/Users/biocbuild/bbs-3.7-bioc/R/library/Rhtslib/include" -I"C:/Users/biocbuild/bbs-3.7-bioc/R/library/zlibbioc/include" -I"C:/Users/biocbuild/bbs-3.7-bioc/R/library/Rcpp/include" -I"C:/extsoft/include" -O2 -Wall -mtune=generic -c get_rle_counts.cpp -o get_rle_counts.o
C:/Rtools/mingw_64/bin/g++ -std=gnu++11 -I"C:/Users/BIOCBU˜1/BBS-3˜1.7-B/R/include" -DNDEBUG -I"C:/Users/biocbuild/bbs-3.7-bioc/R/library/Rhtslib/include" -I"C:/Users/biocbuild/bbs-3.7-bioc/R/library/zlibbioc/include" -I"C:/Users/biocbuild/bbs-3.7-bioc/R/library/Rcpp/include" -I"C:/extsoft/include" -O2 -Wall -mtune=generic -c init.cpp -o init.o
C:/Rtools/mingw_64/bin/g++ -std=gnu++11 -I"C:/Users/BIOCBU˜1/BBS-3˜1.7-B/R/include" -DNDEBUG -I"C:/Users/biocbuild/bbs-3.7-bioc/R/library/Rhtslib/include" -I"C:/Users/biocbuild/bbs-3.7-bioc/R/library/zlibbioc/include" -I"C:/Users/biocbuild/bbs-3.7-bioc/R/library/Rcpp/include" -I"C:/extsoft/include" -O2 -Wall -mtune=generic -c merge_windows.cpp -o merge_windows.o
C:/Rtools/mingw_64/bin/g++ -std=gnu++11 -I"C:/Users/BIOCBU˜1/BBS-3˜1.7-B/R/include" -DNDEBUG -I"C:/Users/biocbuild/bbs-3.7-bioc/R/library/Rhtslib/include" -I"C:/Users/biocbuild/bbs-3.7-bioc/R/library/zlibbioc/include" -I"C:/Users/biocbuild/bbs-3.7-bioc/R/library/Rcpp/include" -I"C:/extsoft/include" -O2 -Wall -mtune=generic -c pair_reads.cpp -o pair_reads.o
C:/Rtools/mingw_64/bin/g++ -std=gnu++11 -I"C:/Users/BIOCBU˜1/BBS-3˜1.7-B/R/include" -DNDEBUG -I"C:/Users/biocbuild/bbs-3.7-bioc/R/library/Rhtslib/include" -I"C:/Users/biocbuild/bbs-3.7-bioc/R/library/zlibbioc/include" -I"C:/Users/biocbuild/bbs-3.7-bioc/R/library/Rcpp/include" -I"C:/extsoft/include" -O2 -Wall -mtune=generic -c single_reads.cpp -o single_reads.o
C:/Rtools/mingw_64/bin/g++ -std=gnu++11 -I"C:/Users/BIOCBU˜1/BBS-3˜1.7-B/R/include" -DNDEBUG -I"C:/Users/biocbuild/bbs-3.7-bioc/R/library/Rhtslib/include" -I"C:/Users/biocbuild/bbs-3.7-bioc/R/library/zlibbioc/include" -I"C:/Users/biocbuild/bbs-3.7-bioc/R/library/Rcpp/include" -I"C:/extsoft/include" -O2 -Wall -mtune=generic -c utils.cpp -o utils.o
C:/Rtools/mingw_64/bin/g++ -shared -s -static-libgcc -o csaw.dll tmp.def annotator.o bam_utils.o best_in_cluster.o check_bimodality.o correlate_reads.o find_maxima.o get_cluster_stats.o get_profile.o get_rle_counts.o init.o merge_windows.o pair_reads.o single_reads.o utils.o -LC:/Users/biocbuild/bbs-3.7-bioc/R/library/Rhtslib/usrlib/x64 -lhts -lz -lm -lws2_32 -lpthread -LC:/extsoft/lib/x64 -LC:/extsoft/lib -LC:/Users/BIOCBU˜1/BBS-3˜1.7-B/R/bin/x64 -lR
installing to C:/Users/biocbuild/bbs-3.7-bioc/meat/csaw.buildbin-libdir/csaw/libs/x64
** testing if installed package can be loaded
* MD5 sums
packaged installation of 'csaw' as csaw_1.14.1.zip
* DONE (csaw)
In R CMD INSTALL
In R CMD INSTALL
* installing to library 'C:/Users/biocbuild/bbs-3.7-bioc/R/library'
package 'csaw' successfully unpacked and MD5 sums checked
In R CMD INSTALL