| Back to Multiple platform build/check report for BioC 3.7 |
|
This page was generated on 2018-10-17 08:43:21 -0400 (Wed, 17 Oct 2018).
| Package 311/1561 | Hostname | OS / Arch | INSTALL | BUILD | CHECK | BUILD BIN | ||||||
| coseq 1.4.0 Andrea Rau
| malbec2 | Linux (Ubuntu 16.04.1 LTS) / x86_64 | OK | OK | OK | |||||||
| tokay2 | Windows Server 2012 R2 Standard / x64 | OK | OK | OK | [ OK ] | |||||||
| merida2 | OS X 10.11.6 El Capitan / x86_64 | OK | OK | OK | OK |
| Package: coseq |
| Version: 1.4.0 |
| Command: rm -rf coseq.buildbin-libdir && mkdir coseq.buildbin-libdir && C:\Users\biocbuild\bbs-3.7-bioc\R\bin\R.exe CMD INSTALL --merge-multiarch --build --library=coseq.buildbin-libdir coseq_1.4.0.tar.gz |
| StartedAt: 2018-10-17 06:12:33 -0400 (Wed, 17 Oct 2018) |
| EndedAt: 2018-10-17 06:13:14 -0400 (Wed, 17 Oct 2018) |
| EllapsedTime: 40.9 seconds |
| RetCode: 0 |
| Status: OK |
| PackageFile: coseq_1.4.0.zip |
| PackageFileSize: 938.1 KiB |
##############################################################################
##############################################################################
###
### Running command:
###
### rm -rf coseq.buildbin-libdir && mkdir coseq.buildbin-libdir && C:\Users\biocbuild\bbs-3.7-bioc\R\bin\R.exe CMD INSTALL --merge-multiarch --build --library=coseq.buildbin-libdir coseq_1.4.0.tar.gz
###
##############################################################################
##############################################################################
install for i386
* installing *source* package 'coseq' ...
** R
** data
** inst
** byte-compile and prepare package for lazy loading
** help
*** installing help indices
converting help for package 'coseq'
finding HTML links ... done
NormMixClus html
NormMixClusK html
NormMixParam html
clusterEntropy html
clusterInertia html
compareARI html
compareICL html
convertLegacyCoseq html
coseq-package html
coseq html
coseqHelpers html
coseqResults html
coseqRun html
fietz html
kmeansProbaPost html
logclr html
matchContTable html
plot html
summary html
transformRNAseq html
** building package indices
** installing vignettes
** testing if installed package can be loaded
In R CMD INSTALL
install for x64
* installing *source* package 'coseq' ...
** testing if installed package can be loaded
* MD5 sums
packaged installation of 'coseq' as coseq_1.4.0.zip
* DONE (coseq)
In R CMD INSTALL
In R CMD INSTALL