| Back to Multiple platform build/check report for BioC 3.7 |
|
This page was generated on 2018-10-17 08:46:18 -0400 (Wed, 17 Oct 2018).
| Package 303/1561 | Hostname | OS / Arch | INSTALL | BUILD | CHECK | BUILD BIN | ||||||
| convert 1.56.0 Yee Hwa (Jean) Yang
| malbec2 | Linux (Ubuntu 16.04.1 LTS) / x86_64 | OK | OK | OK | |||||||
| tokay2 | Windows Server 2012 R2 Standard / x64 | OK | OK | OK | OK | |||||||
| merida2 | OS X 10.11.6 El Capitan / x86_64 | OK | OK | OK | [ OK ] |
| Package: convert |
| Version: 1.56.0 |
| Command: rm -rf convert.buildbin-libdir && mkdir convert.buildbin-libdir && /Users/biocbuild/BBS/utils/build-universal.sh convert_1.56.0.tar.gz /Library/Frameworks/R.framework/Versions/Current/Resources/bin/R convert.buildbin-libdir |
| StartedAt: 2018-10-17 01:08:46 -0400 (Wed, 17 Oct 2018) |
| EndedAt: 2018-10-17 01:09:29 -0400 (Wed, 17 Oct 2018) |
| EllapsedTime: 43.5 seconds |
| RetCode: 0 |
| Status: OK |
| PackageFile: convert_1.56.0.tgz |
| PackageFileSize: 111.7 KiB |
############################################################################## ############################################################################## ### ### Running command: ### ### rm -rf convert.buildbin-libdir && mkdir convert.buildbin-libdir && /Users/biocbuild/BBS/utils/build-universal.sh convert_1.56.0.tar.gz /Library/Frameworks/R.framework/Versions/Current/Resources/bin/R convert.buildbin-libdir ### ############################################################################## ############################################################################## >>>>>>> >>>>>>> INSTALLATION WITH 'R CMD INSTALL --preclean --no-multiarch --library=convert.buildbin-libdir convert_1.56.0.tar.gz' >>>>>>> * installing *source* package ‘convert’ ... ** R ** inst ** byte-compile and prepare package for lazy loading ** help *** installing help indices ** building package indices ** installing vignettes ** testing if installed package can be loaded * DONE (convert)