| Back to Multiple platform build/check report for BioC 3.7 |
|
This page was generated on 2018-10-17 08:44:13 -0400 (Wed, 17 Oct 2018).
| Package 299/1561 | Hostname | OS / Arch | INSTALL | BUILD | CHECK | BUILD BIN | ||||||
| consensusOV 1.2.0 Benjamin Haibe-Kains
| malbec2 | Linux (Ubuntu 16.04.1 LTS) / x86_64 | OK | OK | OK | |||||||
| tokay2 | Windows Server 2012 R2 Standard / x64 | OK | OK | OK | [ OK ] | |||||||
| merida2 | OS X 10.11.6 El Capitan / x86_64 | OK | OK | OK | OK |
| Package: consensusOV |
| Version: 1.2.0 |
| Command: rm -rf consensusOV.buildbin-libdir && mkdir consensusOV.buildbin-libdir && C:\Users\biocbuild\bbs-3.7-bioc\R\bin\R.exe CMD INSTALL --merge-multiarch --build --library=consensusOV.buildbin-libdir consensusOV_1.2.0.tar.gz |
| StartedAt: 2018-10-17 06:11:54 -0400 (Wed, 17 Oct 2018) |
| EndedAt: 2018-10-17 06:12:31 -0400 (Wed, 17 Oct 2018) |
| EllapsedTime: 36.8 seconds |
| RetCode: 0 |
| Status: OK |
| PackageFile: consensusOV_1.2.0.zip |
| PackageFileSize: 4.028 MiB |
##############################################################################
##############################################################################
###
### Running command:
###
### rm -rf consensusOV.buildbin-libdir && mkdir consensusOV.buildbin-libdir && C:\Users\biocbuild\bbs-3.7-bioc\R\bin\R.exe CMD INSTALL --merge-multiarch --build --library=consensusOV.buildbin-libdir consensusOV_1.2.0.tar.gz
###
##############################################################################
##############################################################################
install for i386
* installing *source* package 'consensusOV' ...
** R
** data
*** moving datasets to lazyload DB
** inst
** byte-compile and prepare package for lazy loading
** help
*** installing help indices
converting help for package 'consensusOV'
finding HTML links ... done
GSE14764.eset html
dataset.merging html
get.bentink.subtypes html
get.consensus.subtypes html
get.helland.subtypes html
get.konecny.subtypes html
get.subtypes html
get.verhaak.subtypes html
** building package indices
** installing vignettes
** testing if installed package can be loaded
In R CMD INSTALL
install for x64
* installing *source* package 'consensusOV' ...
** testing if installed package can be loaded
* MD5 sums
packaged installation of 'consensusOV' as consensusOV_1.2.0.zip
* DONE (consensusOV)
In R CMD INSTALL
In R CMD INSTALL