| Back to Multiple platform build/check report for BioC 3.7 |
|
This page was generated on 2018-10-17 08:39:06 -0400 (Wed, 17 Oct 2018).
| Package 294/1561 | Hostname | OS / Arch | INSTALL | BUILD | CHECK | BUILD BIN | ||||||
| compEpiTools 1.14.1 Kamal Kishore
| malbec2 | Linux (Ubuntu 16.04.1 LTS) / x86_64 | OK | OK | OK | |||||||
| tokay2 | Windows Server 2012 R2 Standard / x64 | OK | OK | OK | [ OK ] | |||||||
| merida2 | OS X 10.11.6 El Capitan / x86_64 | OK | OK | OK | OK |
| Package: compEpiTools |
| Version: 1.14.1 |
| Command: rm -rf compEpiTools.buildbin-libdir && mkdir compEpiTools.buildbin-libdir && C:\Users\biocbuild\bbs-3.7-bioc\R\bin\R.exe CMD INSTALL --merge-multiarch --build --library=compEpiTools.buildbin-libdir compEpiTools_1.14.1.tar.gz |
| StartedAt: 2018-10-17 06:11:39 -0400 (Wed, 17 Oct 2018) |
| EndedAt: 2018-10-17 06:12:33 -0400 (Wed, 17 Oct 2018) |
| EllapsedTime: 53.7 seconds |
| RetCode: 0 |
| Status: OK |
| PackageFile: compEpiTools_1.14.1.zip |
| PackageFileSize: 2.418 MiB |
##############################################################################
##############################################################################
###
### Running command:
###
### rm -rf compEpiTools.buildbin-libdir && mkdir compEpiTools.buildbin-libdir && C:\Users\biocbuild\bbs-3.7-bioc\R\bin\R.exe CMD INSTALL --merge-multiarch --build --library=compEpiTools.buildbin-libdir compEpiTools_1.14.1.tar.gz
###
##############################################################################
##############################################################################
install for i386
* installing *source* package 'compEpiTools' ...
** R
** inst
** byte-compile and prepare package for lazy loading
groupGOTerms: GOBPTerm, GOMFTerm, GOCCTerm environments built.
** help
*** installing help indices
converting help for package 'compEpiTools'
finding HTML links ... done
GR2fasta-methods html
GRanges2ucsc-methods html
GRangesInPromoters-methods html
GRannotate-methods html
GRannotateSimple html
GRbaseCoverage-methods html
GRcoverage-methods html
GRcoverageSummit-methods html
GRenrichment-methods html
GRmidpoint-methods html
GRsetwidth html
TSS html
compEpiTools-package html
countOverlapsInBins-methods html
distanceFromTSS-methods html
enhancers html
findLncRNA html
getPromoterClass-methods html
finding level-2 HTML links ... done
heatmapData html
heatmapPlot html
makeGtfFromDb html
matchEnhancers html
overlapOfGRanges-methods html
palette2d html
plotStallingIndex html
simplifyGOterms html
stallingIndex html
topGOres html
ucsc2GRanges html
unionMaxScore-methods html
** building package indices
** installing vignettes
** testing if installed package can be loaded
groupGOTerms: GOBPTerm, GOMFTerm, GOCCTerm environments built.
In R CMD INSTALL
install for x64
* installing *source* package 'compEpiTools' ...
** testing if installed package can be loaded
groupGOTerms: GOBPTerm, GOMFTerm, GOCCTerm environments built.
* MD5 sums
packaged installation of 'compEpiTools' as compEpiTools_1.14.1.zip
* DONE (compEpiTools)
In R CMD INSTALL
In R CMD INSTALL