| Back to Multiple platform build/check report for BioC 3.7 |
|
This page was generated on 2018-10-17 08:40:20 -0400 (Wed, 17 Oct 2018).
| Package 288/1561 | Hostname | OS / Arch | INSTALL | BUILD | CHECK | BUILD BIN | ||||||
| cogena 1.14.0 Zhilong Jia
| malbec2 | Linux (Ubuntu 16.04.1 LTS) / x86_64 | OK | OK | WARNINGS | |||||||
| tokay2 | Windows Server 2012 R2 Standard / x64 | [ OK ] | OK | WARNINGS | OK | |||||||
| merida2 | OS X 10.11.6 El Capitan / x86_64 | OK | OK | WARNINGS | OK |
| Package: cogena |
| Version: 1.14.0 |
| Command: C:\cygwin\bin\curl.exe -O https://malbec2.bioconductor.org/BBS/3.7/bioc/src/contrib/cogena_1.14.0.tar.gz && rm -rf cogena.buildbin-libdir && mkdir cogena.buildbin-libdir && C:\Users\biocbuild\bbs-3.7-bioc\R\bin\R.exe CMD INSTALL --merge-multiarch --build --library=cogena.buildbin-libdir cogena_1.14.0.tar.gz && C:\Users\biocbuild\bbs-3.7-bioc\R\bin\R.exe CMD INSTALL cogena_1.14.0.zip && rm cogena_1.14.0.tar.gz cogena_1.14.0.zip |
| StartedAt: 2018-10-16 20:29:51 -0400 (Tue, 16 Oct 2018) |
| EndedAt: 2018-10-16 20:30:44 -0400 (Tue, 16 Oct 2018) |
| EllapsedTime: 53.1 seconds |
| RetCode: 0 |
| Status: OK |
##############################################################################
##############################################################################
###
### Running command:
###
### C:\cygwin\bin\curl.exe -O https://malbec2.bioconductor.org/BBS/3.7/bioc/src/contrib/cogena_1.14.0.tar.gz && rm -rf cogena.buildbin-libdir && mkdir cogena.buildbin-libdir && C:\Users\biocbuild\bbs-3.7-bioc\R\bin\R.exe CMD INSTALL --merge-multiarch --build --library=cogena.buildbin-libdir cogena_1.14.0.tar.gz && C:\Users\biocbuild\bbs-3.7-bioc\R\bin\R.exe CMD INSTALL cogena_1.14.0.zip && rm cogena_1.14.0.tar.gz cogena_1.14.0.zip
###
##############################################################################
##############################################################################
% Total % Received % Xferd Average Speed Time Time Time Current
Dload Upload Total Spent Left Speed
0 0 0 0 0 0 0 0 --:--:-- --:--:-- --:--:-- 0
100 3993k 100 3993k 0 0 30.5M 0 --:--:-- --:--:-- --:--:-- 32.2M
install for i386
* installing *source* package 'cogena' ...
** R
** data
*** moving datasets to lazyload DB
** inst
** byte-compile and prepare package for lazy loading
Warning: replacing previous import 'class::somgrid' by 'kohonen::somgrid' when loading 'cogena'
** help
*** installing help indices
converting help for package 'cogena'
finding HTML links ... done
AllGeneSymbols html
DEexprs html
PEI html
Psoriasis html
clEnrich html
clEnrich_one html
clusterMethods html
coExp html
cogena_class html
cogena_package html
corInCluster html
enrichment html
gene2set html
geneExpInCluster html
geneInCluster html
genecl_class html
geneclusters html
gmt2list html
gmtlist2file html
heatmap.3 html
heatmapCluster html
heatmapCmap html
heatmapPEI html
mat html
nClusters html
pClusters html
sampleLabel html
show html
sota html
summary html
upDownGene html
** building package indices
** installing vignettes
** testing if installed package can be loaded
Warning: replacing previous import 'class::somgrid' by 'kohonen::somgrid' when loading 'cogena'
In R CMD INSTALL
install for x64
* installing *source* package 'cogena' ...
** testing if installed package can be loaded
Warning: replacing previous import 'class::somgrid' by 'kohonen::somgrid' when loading 'cogena'
* MD5 sums
packaged installation of 'cogena' as cogena_1.14.0.zip
* DONE (cogena)
In R CMD INSTALL
In R CMD INSTALL
* installing to library 'C:/Users/biocbuild/bbs-3.7-bioc/R/library'
package 'cogena' successfully unpacked and MD5 sums checked
In R CMD INSTALL