| Back to Multiple platform build/check report for BioC 3.7 |
|
This page was generated on 2018-10-17 08:42:32 -0400 (Wed, 17 Oct 2018).
| Package 261/1561 | Hostname | OS / Arch | INSTALL | BUILD | CHECK | BUILD BIN | ||||||
| clusterExperiment 2.0.2 Elizabeth Purdom
| malbec2 | Linux (Ubuntu 16.04.1 LTS) / x86_64 | OK | OK | WARNINGS | |||||||
| tokay2 | Windows Server 2012 R2 Standard / x64 | [ OK ] | OK | WARNINGS | OK | |||||||
| merida2 | OS X 10.11.6 El Capitan / x86_64 | OK | OK | WARNINGS | OK |
| Package: clusterExperiment |
| Version: 2.0.2 |
| Command: C:\cygwin\bin\curl.exe -O https://malbec2.bioconductor.org/BBS/3.7/bioc/src/contrib/clusterExperiment_2.0.2.tar.gz && rm -rf clusterExperiment.buildbin-libdir && mkdir clusterExperiment.buildbin-libdir && C:\Users\biocbuild\bbs-3.7-bioc\R\bin\R.exe CMD INSTALL --merge-multiarch --build --library=clusterExperiment.buildbin-libdir clusterExperiment_2.0.2.tar.gz && C:\Users\biocbuild\bbs-3.7-bioc\R\bin\R.exe CMD INSTALL clusterExperiment_2.0.2.zip && rm clusterExperiment_2.0.2.tar.gz clusterExperiment_2.0.2.zip |
| StartedAt: 2018-10-16 20:21:28 -0400 (Tue, 16 Oct 2018) |
| EndedAt: 2018-10-16 20:23:28 -0400 (Tue, 16 Oct 2018) |
| EllapsedTime: 120.0 seconds |
| RetCode: 0 |
| Status: OK |
##############################################################################
##############################################################################
###
### Running command:
###
### C:\cygwin\bin\curl.exe -O https://malbec2.bioconductor.org/BBS/3.7/bioc/src/contrib/clusterExperiment_2.0.2.tar.gz && rm -rf clusterExperiment.buildbin-libdir && mkdir clusterExperiment.buildbin-libdir && C:\Users\biocbuild\bbs-3.7-bioc\R\bin\R.exe CMD INSTALL --merge-multiarch --build --library=clusterExperiment.buildbin-libdir clusterExperiment_2.0.2.tar.gz && C:\Users\biocbuild\bbs-3.7-bioc\R\bin\R.exe CMD INSTALL clusterExperiment_2.0.2.zip && rm clusterExperiment_2.0.2.tar.gz clusterExperiment_2.0.2.zip
###
##############################################################################
##############################################################################
% Total % Received % Xferd Average Speed Time Time Time Current
Dload Upload Total Spent Left Speed
0 0 0 0 0 0 0 0 --:--:-- --:--:-- --:--:-- 0
100 1129k 100 1129k 0 0 16.6M 0 --:--:-- --:--:-- --:--:-- 18.6M
install for i386
* installing *source* package 'clusterExperiment' ...
** libs
C:/Rtools/mingw_32/bin/g++ -std=gnu++11 -I"C:/Users/BIOCBU˜1/BBS-3˜1.7-B/R/include" -DNDEBUG -I"C:/Users/biocbuild/bbs-3.7-bioc/R/library/Rcpp/include" -I"C:/extsoft/include" -O2 -Wall -mtune=generic -c RcppExports.cpp -o RcppExports.o
C:/Rtools/mingw_32/bin/g++ -std=gnu++11 -I"C:/Users/BIOCBU˜1/BBS-3˜1.7-B/R/include" -DNDEBUG -I"C:/Users/biocbuild/bbs-3.7-bioc/R/library/Rcpp/include" -I"C:/extsoft/include" -O2 -Wall -mtune=generic -c search_pairs.cpp -o search_pairs.o
C:/Rtools/mingw_32/bin/g++ -std=gnu++11 -I"C:/Users/BIOCBU˜1/BBS-3˜1.7-B/R/include" -DNDEBUG -I"C:/Users/biocbuild/bbs-3.7-bioc/R/library/Rcpp/include" -I"C:/extsoft/include" -O2 -Wall -mtune=generic -c subsampleLoop.cpp -o subsampleLoop.o
subsampleLoop.cpp: In function 'Rcpp::IntegerMatrix subsampleLoop(Rcpp::List, int)':
subsampleLoop.cpp:89:32: warning: suggest parentheses around comparison in operand of '&' [-Wparentheses]
LogicalVector clusterj = j <= indexClusterEnds & j >= indexClusterStarts;
^
subsampleLoop.cpp:90:32: warning: suggest parentheses around comparison in operand of '&' [-Wparentheses]
LogicalVector clusterk = k <= indexClusterEnds & k >= indexClusterStarts;
^
subsampleLoop.cpp:122:25: warning: suggest parentheses around comparison in operand of '|' [-Wparentheses]
if((it->second).first>0 | (it->second).second==NA_INTEGER){
^
C:/Rtools/mingw_32/bin/g++ -shared -s -static-libgcc -o clusterExperiment.dll tmp.def RcppExports.o search_pairs.o subsampleLoop.o -LC:/Users/BIOCBU˜1/BBS-3˜1.7-B/R/bin/i386 -lRlapack -LC:/Users/BIOCBU˜1/BBS-3˜1.7-B/R/bin/i386 -lRblas -lgfortran -lm -lquadmath -LC:/extsoft/lib/i386 -LC:/extsoft/lib -LC:/Users/BIOCBU˜1/BBS-3˜1.7-B/R/bin/i386 -lR
installing to C:/Users/biocbuild/bbs-3.7-bioc/meat/clusterExperiment.buildbin-libdir/clusterExperiment/libs/i386
** R
** data
** byte-compile and prepare package for lazy loading
Warning: subclass "DelayedArray1" of class "DelayedArray" is not local and cannot be updated for new inheritance information; consider setClassUnion()
Warning: subclass "DelayedArray1" of class "DelayedArray" is not local and cannot be updated for new inheritance information; consider setClassUnion()
Found more than one class "Annotated" in cache; using the first, from namespace 'S4Vectors'
Also defined by 'RNeXML'
Found more than one class "Annotated" in cache; using the first, from namespace 'S4Vectors'
Also defined by 'RNeXML'
Found more than one class "Annotated" in cache; using the first, from namespace 'S4Vectors'
Also defined by 'RNeXML'
Found more than one class "Annotated" in cache; using the first, from namespace 'S4Vectors'
Also defined by 'RNeXML'
Found more than one class "Annotated" in cache; using the first, from namespace 'S4Vectors'
Also defined by 'RNeXML'
** help
*** installing help indices
converting help for package 'clusterExperiment'
finding HTML links ... done
ClusterExperiment-class html
ClusterExperiment-methods html
finding level-2 HTML links ... done
ClusterFunction-class html
ClusterFunction-methods html
RSEC html
Rd warning: C:/Users/biocbuild/bbs-3.7-bioc/tmpdir/Rtmp6XFYqs/R.INSTALL220458e574b9/clusterExperiment/man/RSEC.Rd:39: file link 'SummarizedExperiment' in package 'SummarizedExperiment' does not exist and so has been treated as a topic
addClusterings html
builtInClusteringFunctions html
clusterContrasts html
Rd warning: C:/Users/biocbuild/bbs-3.7-bioc/tmpdir/Rtmp6XFYqs/R.INSTALL220458e574b9/clusterExperiment/man/clusterContrasts.Rd:41: file link 'limma' in package 'limma' does not exist and so has been treated as a topic
Rd warning: C:/Users/biocbuild/bbs-3.7-bioc/tmpdir/Rtmp6XFYqs/R.INSTALL220458e574b9/clusterExperiment/man/clusterContrasts.Rd:41: file link 'MAST' in package 'MAST' does not exist and so has been treated as a topic
clusterMany html
Rd warning: C:/Users/biocbuild/bbs-3.7-bioc/tmpdir/Rtmp6XFYqs/R.INSTALL220458e574b9/clusterExperiment/man/clusterMany.Rd:38: file link 'SummarizedExperiment' in package 'SummarizedExperiment' does not exist and so has been treated as a topic
clusterSingle html
Rd warning: C:/Users/biocbuild/bbs-3.7-bioc/tmpdir/Rtmp6XFYqs/R.INSTALL220458e574b9/clusterExperiment/man/clusterSingle.Rd:35: file link 'SummarizedExperiment' in package 'SummarizedExperiment' does not exist and so has been treated as a topic
combineMany html
getBestFeatures html
Rd warning: C:/Users/biocbuild/bbs-3.7-bioc/tmpdir/Rtmp6XFYqs/R.INSTALL220458e574b9/clusterExperiment/man/getBestFeatures.Rd:49: file link 'limma' in package 'limma' does not exist and so has been treated as a topic
Rd warning: C:/Users/biocbuild/bbs-3.7-bioc/tmpdir/Rtmp6XFYqs/R.INSTALL220458e574b9/clusterExperiment/man/getBestFeatures.Rd:54: file link 'topTableF' in package 'limma' does not exist and so has been treated as a topic
Rd warning: C:/Users/biocbuild/bbs-3.7-bioc/tmpdir/Rtmp6XFYqs/R.INSTALL220458e574b9/clusterExperiment/man/getBestFeatures.Rd:54: file link 'limma' in package 'limma' does not exist and so has been treated as a topic
Rd warning: C:/Users/biocbuild/bbs-3.7-bioc/tmpdir/Rtmp6XFYqs/R.INSTALL220458e574b9/clusterExperiment/man/getBestFeatures.Rd:84: file link 'topTableF' in package 'limma' does not exist and so has been treated as a topic
getClusterManyParams html
mainClustering html
makeDendrogram html
mergeClusters html
plotBarplot html
plotClusters html
plotClustersWorkflow html
plotContrastHeatmap html
plotDendrogram html
Rd warning: C:/Users/biocbuild/bbs-3.7-bioc/tmpdir/Rtmp6XFYqs/R.INSTALL220458e574b9/clusterExperiment/man/plotDendrogram.Rd:103: file link 'tiplabels' in package 'ape' does not exist and so has been treated as a topic
plotFeatureBoxplot html
plotHeatmap html
Rd warning: C:/Users/biocbuild/bbs-3.7-bioc/tmpdir/Rtmp6XFYqs/R.INSTALL220458e574b9/clusterExperiment/man/plotHeatmap.Rd:51: file link 'SummarizedExperiment' in package 'SummarizedExperiment' does not exist and so has been treated as a topic
plotReducedDims html
plottingFunctions html
reduceFunctions html
Rd warning: C:/Users/biocbuild/bbs-3.7-bioc/tmpdir/Rtmp6XFYqs/R.INSTALL220458e574b9/clusterExperiment/man/reduceFunctions.Rd:119: file link 'SummarizedExperiment' in package 'SummarizedExperiment' does not exist and so has been treated as a topic
rsecFluidigm html
Rd warning: C:/Users/biocbuild/bbs-3.7-bioc/tmpdir/Rtmp6XFYqs/R.INSTALL220458e574b9/clusterExperiment/man/rsecFluidigm.Rd:36: file link 'fluidigm' in package 'scRNAseq' does not exist and so has been treated as a topic
search_pairs html
seqCluster html
simData html
subsampleClustering html
transformData html
workflowClusters html
** building package indices
** installing vignettes
** testing if installed package can be loaded
In R CMD INSTALL
install for x64
* installing *source* package 'clusterExperiment' ...
** libs
C:/Rtools/mingw_64/bin/g++ -std=gnu++11 -I"C:/Users/BIOCBU˜1/BBS-3˜1.7-B/R/include" -DNDEBUG -I"C:/Users/biocbuild/bbs-3.7-bioc/R/library/Rcpp/include" -I"C:/extsoft/include" -O2 -Wall -mtune=generic -c RcppExports.cpp -o RcppExports.o
C:/Rtools/mingw_64/bin/g++ -std=gnu++11 -I"C:/Users/BIOCBU˜1/BBS-3˜1.7-B/R/include" -DNDEBUG -I"C:/Users/biocbuild/bbs-3.7-bioc/R/library/Rcpp/include" -I"C:/extsoft/include" -O2 -Wall -mtune=generic -c search_pairs.cpp -o search_pairs.o
C:/Rtools/mingw_64/bin/g++ -std=gnu++11 -I"C:/Users/BIOCBU˜1/BBS-3˜1.7-B/R/include" -DNDEBUG -I"C:/Users/biocbuild/bbs-3.7-bioc/R/library/Rcpp/include" -I"C:/extsoft/include" -O2 -Wall -mtune=generic -c subsampleLoop.cpp -o subsampleLoop.o
subsampleLoop.cpp: In function 'Rcpp::IntegerMatrix subsampleLoop(Rcpp::List, int)':
subsampleLoop.cpp:89:32: warning: suggest parentheses around comparison in operand of '&' [-Wparentheses]
LogicalVector clusterj = j <= indexClusterEnds & j >= indexClusterStarts;
^
subsampleLoop.cpp:90:32: warning: suggest parentheses around comparison in operand of '&' [-Wparentheses]
LogicalVector clusterk = k <= indexClusterEnds & k >= indexClusterStarts;
^
subsampleLoop.cpp:122:25: warning: suggest parentheses around comparison in operand of '|' [-Wparentheses]
if((it->second).first>0 | (it->second).second==NA_INTEGER){
^
C:/Rtools/mingw_64/bin/g++ -shared -s -static-libgcc -o clusterExperiment.dll tmp.def RcppExports.o search_pairs.o subsampleLoop.o -LC:/Users/BIOCBU˜1/BBS-3˜1.7-B/R/bin/x64 -lRlapack -LC:/Users/BIOCBU˜1/BBS-3˜1.7-B/R/bin/x64 -lRblas -lgfortran -lm -lquadmath -LC:/extsoft/lib/x64 -LC:/extsoft/lib -LC:/Users/BIOCBU˜1/BBS-3˜1.7-B/R/bin/x64 -lR
installing to C:/Users/biocbuild/bbs-3.7-bioc/meat/clusterExperiment.buildbin-libdir/clusterExperiment/libs/x64
** testing if installed package can be loaded
* MD5 sums
packaged installation of 'clusterExperiment' as clusterExperiment_2.0.2.zip
* DONE (clusterExperiment)
In R CMD INSTALL
In R CMD INSTALL
* installing to library 'C:/Users/biocbuild/bbs-3.7-bioc/R/library'
package 'clusterExperiment' successfully unpacked and MD5 sums checked
In R CMD INSTALL