| Back to Multiple platform build/check report for BioC 3.7 |
|
This page was generated on 2018-10-17 08:41:44 -0400 (Wed, 17 Oct 2018).
| Package 243/1561 | Hostname | OS / Arch | INSTALL | BUILD | CHECK | BUILD BIN | ||||||
| chromPlot 1.8.0 Karen Y. Orostica
| malbec2 | Linux (Ubuntu 16.04.1 LTS) / x86_64 | OK | OK | OK | |||||||
| tokay2 | Windows Server 2012 R2 Standard / x64 | OK | OK | WARNINGS | [ OK ] | |||||||
| merida2 | OS X 10.11.6 El Capitan / x86_64 | OK | OK | OK | OK |
| Package: chromPlot |
| Version: 1.8.0 |
| Command: rm -rf chromPlot.buildbin-libdir && mkdir chromPlot.buildbin-libdir && C:\Users\biocbuild\bbs-3.7-bioc\R\bin\R.exe CMD INSTALL --merge-multiarch --build --library=chromPlot.buildbin-libdir chromPlot_1.8.0.tar.gz |
| StartedAt: 2018-10-17 06:09:40 -0400 (Wed, 17 Oct 2018) |
| EndedAt: 2018-10-17 06:10:07 -0400 (Wed, 17 Oct 2018) |
| EllapsedTime: 26.0 seconds |
| RetCode: 0 |
| Status: OK |
| PackageFile: chromPlot_1.8.0.zip |
| PackageFileSize: 1.431 MiB |
##############################################################################
##############################################################################
###
### Running command:
###
### rm -rf chromPlot.buildbin-libdir && mkdir chromPlot.buildbin-libdir && C:\Users\biocbuild\bbs-3.7-bioc\R\bin\R.exe CMD INSTALL --merge-multiarch --build --library=chromPlot.buildbin-libdir chromPlot_1.8.0.tar.gz
###
##############################################################################
##############################################################################
install for i386
* installing *source* package 'chromPlot' ...
** R
** data
*** moving datasets to lazyload DB
** inst
** byte-compile and prepare package for lazy loading
Warning: replacing previous import 'grDevices::windows' by 'GenomicRanges::windows' when loading 'chromPlot'
** help
*** installing help indices
converting help for package 'chromPlot'
finding HTML links ... done
chromPlot-package html
chromPlot html
hg_cytoBandIdeo html
hg_gap html
mm10_cytoBandIdeo html
mm10_gap html
** building package indices
** installing vignettes
** testing if installed package can be loaded
Warning: replacing previous import 'grDevices::windows' by 'GenomicRanges::windows' when loading 'chromPlot'
In R CMD INSTALL
install for x64
* installing *source* package 'chromPlot' ...
** testing if installed package can be loaded
Warning: replacing previous import 'grDevices::windows' by 'GenomicRanges::windows' when loading 'chromPlot'
* MD5 sums
packaged installation of 'chromPlot' as chromPlot_1.8.0.zip
* DONE (chromPlot)
In R CMD INSTALL
In R CMD INSTALL