| Back to Multiple platform build/check report for BioC 3.7 |
|
This page was generated on 2018-10-17 08:42:29 -0400 (Wed, 17 Oct 2018).
| Package 197/1561 | Hostname | OS / Arch | INSTALL | BUILD | CHECK | BUILD BIN | ||||||
| ccmap 1.6.0 Alex Pickering
| malbec2 | Linux (Ubuntu 16.04.1 LTS) / x86_64 | OK | OK | OK | |||||||
| tokay2 | Windows Server 2012 R2 Standard / x64 | [ OK ] | OK | OK | OK | |||||||
| merida2 | OS X 10.11.6 El Capitan / x86_64 | OK | OK | OK | OK |
| Package: ccmap |
| Version: 1.6.0 |
| Command: C:\cygwin\bin\curl.exe -O https://malbec2.bioconductor.org/BBS/3.7/bioc/src/contrib/ccmap_1.6.0.tar.gz && rm -rf ccmap.buildbin-libdir && mkdir ccmap.buildbin-libdir && C:\Users\biocbuild\bbs-3.7-bioc\R\bin\R.exe CMD INSTALL --merge-multiarch --build --library=ccmap.buildbin-libdir ccmap_1.6.0.tar.gz && C:\Users\biocbuild\bbs-3.7-bioc\R\bin\R.exe CMD INSTALL ccmap_1.6.0.zip && rm ccmap_1.6.0.tar.gz ccmap_1.6.0.zip |
| StartedAt: 2018-10-16 18:55:20 -0400 (Tue, 16 Oct 2018) |
| EndedAt: 2018-10-16 18:56:15 -0400 (Tue, 16 Oct 2018) |
| EllapsedTime: 55.3 seconds |
| RetCode: 0 |
| Status: OK |
##############################################################################
##############################################################################
###
### Running command:
###
### C:\cygwin\bin\curl.exe -O https://malbec2.bioconductor.org/BBS/3.7/bioc/src/contrib/ccmap_1.6.0.tar.gz && rm -rf ccmap.buildbin-libdir && mkdir ccmap.buildbin-libdir && C:\Users\biocbuild\bbs-3.7-bioc\R\bin\R.exe CMD INSTALL --merge-multiarch --build --library=ccmap.buildbin-libdir ccmap_1.6.0.tar.gz && C:\Users\biocbuild\bbs-3.7-bioc\R\bin\R.exe CMD INSTALL ccmap_1.6.0.zip && rm ccmap_1.6.0.tar.gz ccmap_1.6.0.zip
###
##############################################################################
##############################################################################
% Total % Received % Xferd Average Speed Time Time Time Current
Dload Upload Total Spent Left Speed
0 0 0 0 0 0 0 0 --:--:-- --:--:-- --:--:-- 0
100 61130 100 61130 0 0 1064k 0 --:--:-- --:--:-- --:--:-- 1218k
install for i386
* installing *source* package 'ccmap' ...
** R
** byte-compile and prepare package for lazy loading
** help
*** installing help indices
converting help for package 'ccmap'
finding HTML links ... done
get_dprimes html
query_combos html
query_drugs html
sum_rowcolCumsum html
** building package indices
** installing vignettes
** testing if installed package can be loaded
In R CMD INSTALL
install for x64
* installing *source* package 'ccmap' ...
** testing if installed package can be loaded
* MD5 sums
packaged installation of 'ccmap' as ccmap_1.6.0.zip
* DONE (ccmap)
In R CMD INSTALL
In R CMD INSTALL
* installing to library 'C:/Users/biocbuild/bbs-3.7-bioc/R/library'
package 'ccmap' successfully unpacked and MD5 sums checked
In R CMD INSTALL