| Back to Multiple platform build/check report for BioC 3.7 |
|
This page was generated on 2018-10-17 08:54:16 -0400 (Wed, 17 Oct 2018).
| Package 155/1561 | Hostname | OS / Arch | INSTALL | BUILD | CHECK | BUILD BIN | ||||||
| birte 1.16.0 Holger Froehlich
| malbec2 | Linux (Ubuntu 16.04.1 LTS) / x86_64 | OK | OK | WARNINGS | |||||||
| tokay2 | Windows Server 2012 R2 Standard / x64 | OK | OK | WARNINGS | OK | |||||||
| merida2 | OS X 10.11.6 El Capitan / x86_64 | OK | OK | [ OK ] | OK |
| Package: birte |
| Version: 1.16.0 |
| Command: /Library/Frameworks/R.framework/Versions/Current/Resources/bin/R CMD check --install=check:birte.install-out.txt --library=/Library/Frameworks/R.framework/Versions/Current/Resources/library --no-vignettes --timings birte_1.16.0.tar.gz |
| StartedAt: 2018-10-16 20:10:07 -0400 (Tue, 16 Oct 2018) |
| EndedAt: 2018-10-16 20:11:53 -0400 (Tue, 16 Oct 2018) |
| EllapsedTime: 106.2 seconds |
| RetCode: 0 |
| Status: OK |
| CheckDir: birte.Rcheck |
| Warnings: 0 |
##############################################################################
##############################################################################
###
### Running command:
###
### /Library/Frameworks/R.framework/Versions/Current/Resources/bin/R CMD check --install=check:birte.install-out.txt --library=/Library/Frameworks/R.framework/Versions/Current/Resources/library --no-vignettes --timings birte_1.16.0.tar.gz
###
##############################################################################
##############################################################################
* using log directory ‘/Users/biocbuild/bbs-3.7-bioc/meat/birte.Rcheck’
* using R version 3.5.1 Patched (2018-07-12 r74967)
* using platform: x86_64-apple-darwin15.6.0 (64-bit)
* using session charset: UTF-8
* using option ‘--no-vignettes’
* checking for file ‘birte/DESCRIPTION’ ... OK
* this is package ‘birte’ version ‘1.16.0’
* checking package namespace information ... OK
* checking package dependencies ... OK
* checking if this is a source package ... OK
* checking if there is a namespace ... OK
* checking for hidden files and directories ... OK
* checking for portable file names ... OK
* checking for sufficient/correct file permissions ... OK
* checking whether package ‘birte’ can be installed ... OK
* checking installed package size ... OK
* checking package directory ... OK
* checking ‘build’ directory ... OK
* checking DESCRIPTION meta-information ... OK
* checking top-level files ... OK
* checking for left-over files ... OK
* checking index information ... OK
* checking package subdirectories ... OK
* checking R files for non-ASCII characters ... OK
* checking R files for syntax errors ... OK
* checking whether the package can be loaded ... OK
* checking whether the package can be loaded with stated dependencies ... OK
* checking whether the package can be unloaded cleanly ... OK
* checking whether the namespace can be loaded with stated dependencies ... OK
* checking whether the namespace can be unloaded cleanly ... OK
* checking dependencies in R code ... OK
* checking S3 generic/method consistency ... OK
* checking replacement functions ... OK
* checking foreign function calls ... OK
* checking R code for possible problems ... NOTE
birte.aux: no visible global function definition for ‘is’
birteRun: no visible global function definition for ‘is’
birteStart: no visible global function definition for ‘is’
Undefined global functions or variables:
is
Consider adding
importFrom("methods", "is")
to your NAMESPACE file (and ensure that your DESCRIPTION Imports field
contains 'methods').
* checking Rd files ... OK
* checking Rd metadata ... OK
* checking Rd cross-references ... OK
* checking for missing documentation entries ... OK
* checking for code/documentation mismatches ... OK
* checking Rd \usage sections ... OK
* checking Rd contents ... OK
* checking for unstated dependencies in examples ... OK
* checking contents of ‘data’ directory ... OK
* checking data for non-ASCII characters ... OK
* checking data for ASCII and uncompressed saves ... OK
* checking line endings in C/C++/Fortran sources/headers ... OK
* checking line endings in Makefiles ... OK
* checking compilation flags in Makevars ... OK
* checking for GNU extensions in Makefiles ... OK
* checking for portable use of $(BLAS_LIBS) and $(LAPACK_LIBS) ... OK
* checking compiled code ... NOTE
Note: information on .o files is not available
File ‘/Library/Frameworks/R.framework/Versions/3.5/Resources/library/birte/libs/birte.so’:
Found ‘__ZNSt3__14cerrE’, possibly from ‘std::cerr’ (C++)
Found ‘__ZNSt3__14coutE’, possibly from ‘std::cout’ (C++)
Compiled code should not call entry points which might terminate R nor
write to stdout/stderr instead of to the console, nor use Fortran I/O
nor system RNGs. The detected symbols are linked into the code but
might come from libraries and not actually be called.
See ‘Writing portable packages’ in the ‘Writing R Extensions’ manual.
* checking sizes of PDF files under ‘inst/doc’ ... OK
* checking files in ‘vignettes’ ... OK
* checking examples ... OK
Examples with CPU or elapsed time > 5s
user system elapsed
birteFitRidge 7.109 0.148 7.347
birteRun 7.103 0.087 7.256
birtePredict 6.124 0.102 6.280
simulateData 5.897 0.057 6.015
* checking for unstated dependencies in vignettes ... OK
* checking package vignettes in ‘inst/doc’ ... OK
* checking running R code from vignettes ... SKIPPED
* checking re-building of vignette outputs ... SKIPPED
* checking PDF version of manual ... OK
* DONE
Status: 2 NOTEs
See
‘/Users/biocbuild/bbs-3.7-bioc/meat/birte.Rcheck/00check.log’
for details.
birte.Rcheck/00install.out
##############################################################################
##############################################################################
###
### Running command:
###
### /Library/Frameworks/R.framework/Versions/Current/Resources/bin/R CMD INSTALL birte
###
##############################################################################
##############################################################################
* installing to library ‘/Library/Frameworks/R.framework/Versions/3.5/Resources/library’
* installing *source* package ‘birte’ ...
** libs
clang++ -I"/Library/Frameworks/R.framework/Resources/include" -DNDEBUG -I"/Library/Frameworks/R.framework/Versions/3.5/Resources/library/RcppArmadillo/include" -I"/Library/Frameworks/R.framework/Versions/3.5/Resources/library/Rcpp/include" -I/usr/local/include -fPIC -Wall -g -O2 -c BayesNetwork.cpp -o BayesNetwork.o
In file included from BayesNetwork.cpp:26:
./BayesNetwork.h:203:3: warning: '/*' within block comment [-Wcomment]
/**
^
BayesNetwork.cpp:96:12: warning: unused variable 'r' [-Wunused-variable]
int i,j,c,r;
^
BayesNetwork.cpp:96:8: warning: unused variable 'j' [-Wunused-variable]
int i,j,c,r;
^
BayesNetwork.cpp:221:8: warning: unused variable 'i' [-Wunused-variable]
int c,i,j;
^
BayesNetwork.cpp:221:10: warning: unused variable 'j' [-Wunused-variable]
int c,i,j;
^
BayesNetwork.cpp:357:6: warning: unused variable 'found' [-Wunused-variable]
int found, omega_index = 0, i, j;
^
BayesNetwork.cpp:357:30: warning: unused variable 'i' [-Wunused-variable]
int found, omega_index = 0, i, j;
^
BayesNetwork.cpp:380:11: warning: unused variable 'k' [-Wunused-variable]
int j=1, k, del=-1; // j startet bei 1, weil die 1. Spalte der Intercept ist
^
BayesNetwork.cpp:665:6: warning: unused variable 'pos_swaps' [-Wunused-variable]
int pos_swaps = 0, condition, condition1, condition2, counter;
^
BayesNetwork.cpp:909:48: warning: unused variable 'eps_old' [-Wunused-variable]
double delta_loglik, u, delta_prior, eps_new, eps_old, delta_eps, best_loglik=-INFINITY;
^
BayesNetwork.cpp:909:39: warning: unused variable 'eps_new' [-Wunused-variable]
double delta_loglik, u, delta_prior, eps_new, eps_old, delta_eps, best_loglik=-INFINITY;
^
BayesNetwork.cpp:909:57: warning: unused variable 'delta_eps' [-Wunused-variable]
double delta_loglik, u, delta_prior, eps_new, eps_old, delta_eps, best_loglik=-INFINITY;
^
BayesNetwork.cpp:847:7: warning: unused variable 'eff_samples' [-Wunused-variable]
long eff_samples = niter / thin + 1;
^
BayesNetwork.cpp:842:6: warning: unused variable 'mir' [-Wunused-variable]
int mir, tf;
^
BayesNetwork.cpp:842:11: warning: unused variable 'tf' [-Wunused-variable]
int mir, tf;
^
BayesNetwork.cpp:910:102: warning: unused variable 'make_move_eps' [-Wunused-variable]
int nall_possible_ops, n_Tpos_swaps_total=0, n_Spos_swaps_total=0, n_Qpos_swaps_total=0, make_move, make_move_eps=0, cond=0;
^
BayesNetwork.cpp:909:26: warning: unused variable 'delta_prior' [-Wunused-variable]
double delta_loglik, u, delta_prior, eps_new, eps_old, delta_eps, best_loglik=-INFINITY;
^
BayesNetwork.cpp:910:119: warning: unused variable 'cond' [-Wunused-variable]
int nall_possible_ops, n_Tpos_swaps_total=0, n_Spos_swaps_total=0, n_Qpos_swaps_total=0, make_move, make_move_eps=0, cond=0;
^
BayesNetwork.cpp:909:23: warning: unused variable 'u' [-Wunused-variable]
double delta_loglik, u, delta_prior, eps_new, eps_old, delta_eps, best_loglik=-INFINITY;
^
BayesNetwork.cpp:1075:9: warning: unused variable 'bn' [-Wunused-variable]
double bn;
^
BayesNetwork.cpp:1078:9: warning: unused variable 'z' [-Wunused-variable]
double z;
^
BayesNetwork.cpp:1074:12: warning: unused variable 'j' [-Wunused-variable]
int c, i, j, r;
^
22 warnings generated.
clang++ -I"/Library/Frameworks/R.framework/Resources/include" -DNDEBUG -I"/Library/Frameworks/R.framework/Versions/3.5/Resources/library/RcppArmadillo/include" -I"/Library/Frameworks/R.framework/Versions/3.5/Resources/library/Rcpp/include" -I/usr/local/include -fPIC -Wall -g -O2 -c getStates.cpp -o getStates.o
In file included from getStates.cpp:24:
./BayesNetwork.h:203:3: warning: '/*' within block comment [-Wcomment]
/**
^
1 warning generated.
Loading required package: Rcpp
clang++ -dynamiclib -Wl,-headerpad_max_install_names -undefined dynamic_lookup -single_module -multiply_defined suppress -L/Library/Frameworks/R.framework/Resources/lib -L/usr/local/lib -o birte.so BayesNetwork.o getStates.o -llapack -lblas -F/Library/Frameworks/R.framework/.. -framework R -Wl,-framework -Wl,CoreFoundation
Loading required package: Rcpp
installing to /Library/Frameworks/R.framework/Versions/3.5/Resources/library/birte/libs
** R
** data
** inst
** byte-compile and prepare package for lazy loading
** help
*** installing help indices
** building package indices
** installing vignettes
** testing if installed package can be loaded
* DONE (birte)
birte.Rcheck/birte-Ex.timings
| name | user | system | elapsed | |
| birteFitRidge | 7.109 | 0.148 | 7.347 | |
| birtePredict | 6.124 | 0.102 | 6.280 | |
| birteRun | 7.103 | 0.087 | 7.256 | |
| estimateNetwork | 0 | 0 | 0 | |
| getPotentialSwaps | 0.447 | 0.027 | 0.476 | |
| limmaAnalysis | 0.001 | 0.000 | 0.000 | |
| plotConvergence | 0.000 | 0.000 | 0.001 | |
| proposeInteractions | 0.193 | 0.016 | 0.209 | |
| simplify | 0.139 | 0.004 | 0.147 | |
| simulateData | 5.897 | 0.057 | 6.015 | |
| suggestThreshold | 0.338 | 0.003 | 0.344 | |