| Back to Multiple platform build/check report for BioC 3.7 |
|
This page was generated on 2018-10-17 08:32:21 -0400 (Wed, 17 Oct 2018).
| Package 62/1561 | Hostname | OS / Arch | INSTALL | BUILD | CHECK | BUILD BIN | ||||||
| apComplex 2.46.0 Denise Scholtens
| malbec2 | Linux (Ubuntu 16.04.1 LTS) / x86_64 | OK | OK | OK | |||||||
| tokay2 | Windows Server 2012 R2 Standard / x64 | [ OK ] | OK | OK | OK | |||||||
| merida2 | OS X 10.11.6 El Capitan / x86_64 | OK | OK | OK | OK |
| Package: apComplex |
| Version: 2.46.0 |
| Command: C:\cygwin\bin\curl.exe -O https://malbec2.bioconductor.org/BBS/3.7/bioc/src/contrib/apComplex_2.46.0.tar.gz && rm -rf apComplex.buildbin-libdir && mkdir apComplex.buildbin-libdir && C:\Users\biocbuild\bbs-3.7-bioc\R\bin\R.exe CMD INSTALL --merge-multiarch --build --library=apComplex.buildbin-libdir apComplex_2.46.0.tar.gz && C:\Users\biocbuild\bbs-3.7-bioc\R\bin\R.exe CMD INSTALL apComplex_2.46.0.zip && rm apComplex_2.46.0.tar.gz apComplex_2.46.0.zip |
| StartedAt: 2018-10-16 19:29:35 -0400 (Tue, 16 Oct 2018) |
| EndedAt: 2018-10-16 19:30:20 -0400 (Tue, 16 Oct 2018) |
| EllapsedTime: 45.0 seconds |
| RetCode: 0 |
| Status: OK |
##############################################################################
##############################################################################
###
### Running command:
###
### C:\cygwin\bin\curl.exe -O https://malbec2.bioconductor.org/BBS/3.7/bioc/src/contrib/apComplex_2.46.0.tar.gz && rm -rf apComplex.buildbin-libdir && mkdir apComplex.buildbin-libdir && C:\Users\biocbuild\bbs-3.7-bioc\R\bin\R.exe CMD INSTALL --merge-multiarch --build --library=apComplex.buildbin-libdir apComplex_2.46.0.tar.gz && C:\Users\biocbuild\bbs-3.7-bioc\R\bin\R.exe CMD INSTALL apComplex_2.46.0.zip && rm apComplex_2.46.0.tar.gz apComplex_2.46.0.zip
###
##############################################################################
##############################################################################
% Total % Received % Xferd Average Speed Time Time Time Current
Dload Upload Total Spent Left Speed
0 0 0 0 0 0 0 0 --:--:-- --:--:-- --:--:-- 0
100 471k 100 471k 0 0 6100k 0 --:--:-- --:--:-- --:--:-- 6640k
install for i386
* installing *source* package 'apComplex' ...
** R
** data
** byte-compile and prepare package for lazy loading
** help
*** installing help indices
converting help for package 'apComplex'
finding HTML links ... done
FilteredEstimates html
HMSPCI html
Krogan html
LCjoin html
MBMEcHMSPCI html
MBMEcKrogan html
MBMEcTAP html
TAP html
apEX html
bhmaxSubgraph html
findComplexes html
gavinBP2006 html
kroganBPMat2006 html
mergeComplexes html
plotComplex html
sortComplexes html
yNameTAP html
yTAP html
** building package indices
** installing vignettes
** testing if installed package can be loaded
In R CMD INSTALL
install for x64
* installing *source* package 'apComplex' ...
** testing if installed package can be loaded
* MD5 sums
packaged installation of 'apComplex' as apComplex_2.46.0.zip
* DONE (apComplex)
In R CMD INSTALL
In R CMD INSTALL
* installing to library 'C:/Users/biocbuild/bbs-3.7-bioc/R/library'
package 'apComplex' successfully unpacked and MD5 sums checked
In R CMD INSTALL