| Back to Multiple platform build/check report for BioC 3.7 |
|
This page was generated on 2018-10-17 08:35:21 -0400 (Wed, 17 Oct 2018).
| Package 2/1561 | Hostname | OS / Arch | INSTALL | BUILD | CHECK | BUILD BIN | ||||||
| a4Base 1.28.0 Tobias Verbeke
| malbec2 | Linux (Ubuntu 16.04.1 LTS) / x86_64 | OK | OK | OK | |||||||
| tokay2 | Windows Server 2012 R2 Standard / x64 | [ OK ] | OK | ERROR | OK | |||||||
| merida2 | OS X 10.11.6 El Capitan / x86_64 | OK | OK | OK | OK |
| Package: a4Base |
| Version: 1.28.0 |
| Command: C:\cygwin\bin\curl.exe -O https://malbec2.bioconductor.org/BBS/3.7/bioc/src/contrib/a4Base_1.28.0.tar.gz && rm -rf a4Base.buildbin-libdir && mkdir a4Base.buildbin-libdir && C:\Users\biocbuild\bbs-3.7-bioc\R\bin\R.exe CMD INSTALL --merge-multiarch --build --library=a4Base.buildbin-libdir a4Base_1.28.0.tar.gz && C:\Users\biocbuild\bbs-3.7-bioc\R\bin\R.exe CMD INSTALL a4Base_1.28.0.zip && rm a4Base_1.28.0.tar.gz a4Base_1.28.0.zip |
| StartedAt: 2018-10-16 20:15:26 -0400 (Tue, 16 Oct 2018) |
| EndedAt: 2018-10-16 20:16:29 -0400 (Tue, 16 Oct 2018) |
| EllapsedTime: 63.3 seconds |
| RetCode: 0 |
| Status: OK |
##############################################################################
##############################################################################
###
### Running command:
###
### C:\cygwin\bin\curl.exe -O https://malbec2.bioconductor.org/BBS/3.7/bioc/src/contrib/a4Base_1.28.0.tar.gz && rm -rf a4Base.buildbin-libdir && mkdir a4Base.buildbin-libdir && C:\Users\biocbuild\bbs-3.7-bioc\R\bin\R.exe CMD INSTALL --merge-multiarch --build --library=a4Base.buildbin-libdir a4Base_1.28.0.tar.gz && C:\Users\biocbuild\bbs-3.7-bioc\R\bin\R.exe CMD INSTALL a4Base_1.28.0.zip && rm a4Base_1.28.0.tar.gz a4Base_1.28.0.zip
###
##############################################################################
##############################################################################
% Total % Received % Xferd Average Speed Time Time Time Current
Dload Upload Total Spent Left Speed
0 0 0 0 0 0 0 0 --:--:-- --:--:-- --:--:-- 0
100 345k 100 345k 0 0 5397k 0 --:--:-- --:--:-- --:--:-- 6053k
install for i386
* installing *source* package 'a4Base' ...
** R
** data
** inst
** byte-compile and prepare package for lazy loading
** help
*** installing help indices
converting help for package 'a4Base'
finding HTML links ... done
ExpressionSetWithComputation html
Rd warning: C:/Users/biocbuild/bbs-3.7-bioc/tmpdir/RtmpGcNDR7/R.INSTALL1ea0155073a2/a4Base/man/ExpressionSetWithComputation.Rd:23: file link 'ExpressionSet' in package 'Biobase' does not exist and so has been treated as a topic
Rd warning: C:/Users/biocbuild/bbs-3.7-bioc/tmpdir/RtmpGcNDR7/R.INSTALL1ea0155073a2/a4Base/man/ExpressionSetWithComputation.Rd:24: file link 'eSet' in package 'Biobase' does not exist and so has been treated as a topic
Rd warning: C:/Users/biocbuild/bbs-3.7-bioc/tmpdir/RtmpGcNDR7/R.INSTALL1ea0155073a2/a4Base/man/ExpressionSetWithComputation.Rd:25: file link 'VersionedBiobase' in package 'Biobase' does not exist and so has been treated as a topic
Rd warning: C:/Users/biocbuild/bbs-3.7-bioc/tmpdir/RtmpGcNDR7/R.INSTALL1ea0155073a2/a4Base/man/ExpressionSetWithComputation.Rd:26: file link 'Versioned' in package 'Biobase' does not exist and so has been treated as a topic
Rd warning: C:/Users/biocbuild/bbs-3.7-bioc/tmpdir/RtmpGcNDR7/R.INSTALL1ea0155073a2/a4Base/man/ExpressionSetWithComputation.Rd:33: file link 'ExpressionSet' in package 'Biobase' does not exist and so has been treated as a topic
a4palette html
Rd warning: C:/Users/biocbuild/bbs-3.7-bioc/tmpdir/RtmpGcNDR7/R.INSTALL1ea0155073a2/a4Base/man/a4palette.Rd:27: file link 'rainbow' in package 'grDevices' does not exist and so has been treated as a topic
addQuantilesColors html
boxPlot html
combineTwoExpressionSet html
Rd warning: C:/Users/biocbuild/bbs-3.7-bioc/tmpdir/RtmpGcNDR7/R.INSTALL1ea0155073a2/a4Base/man/combineTwoExpressionSet.Rd:22: file link 'ExpressionSet' in package 'Biobase' does not exist and so has been treated as a topic
computeLogRatio html
createExpressionSet html
Rd warning: C:/Users/biocbuild/bbs-3.7-bioc/tmpdir/RtmpGcNDR7/R.INSTALL1ea0155073a2/a4Base/man/createExpressionSet.Rd:30: file link 'ExpressionSet' in package 'Biobase' does not exist and so has been treated as a topic
filterVarInt html
heatmap.expressionSet html
histPvalue html
histpvalueplotter html
lassoReg html
limmaTwoLevels html
logReg html
nlcvTT html
plot1gene html
plotComb2Samples html
plotCombMultSamples html
plotCombination2genes html
plotLogRatio html
probabilitiesPlot html
probe2gene html
profilesPlot html
propDEgenes-methods html
propDEgenes html
propdegenescalculation html
replicates html
spectralMap-methods html
spectralMap html
tTest html
Rd warning: C:/Users/biocbuild/bbs-3.7-bioc/tmpdir/RtmpGcNDR7/R.INSTALL1ea0155073a2/a4Base/man/tTest.Rd:40: file link 'rowttests' in package 'genefilter' does not exist and so has been treated as a topic
topTable-methods html
volcanoPlot-methods html
volcanoPlot html
volcanoplotter html
** building package indices
** testing if installed package can be loaded
In R CMD INSTALL
install for x64
* installing *source* package 'a4Base' ...
** testing if installed package can be loaded
* MD5 sums
packaged installation of 'a4Base' as a4Base_1.28.0.zip
* DONE (a4Base)
In R CMD INSTALL
In R CMD INSTALL
* installing to library 'C:/Users/biocbuild/bbs-3.7-bioc/R/library'
package 'a4Base' successfully unpacked and MD5 sums checked
In R CMD INSTALL