| Back to Multiple platform build/check report for BioC 3.7 |
|
This page was generated on 2018-10-17 08:46:59 -0400 (Wed, 17 Oct 2018).
| Package 1523/1561 | Hostname | OS / Arch | INSTALL | BUILD | CHECK | BUILD BIN | ||||||
| TypeInfo 1.46.0 Duncan Temple Lang
| malbec2 | Linux (Ubuntu 16.04.1 LTS) / x86_64 | OK | OK | OK | |||||||
| tokay2 | Windows Server 2012 R2 Standard / x64 | OK | OK | OK | OK | |||||||
| merida2 | OS X 10.11.6 El Capitan / x86_64 | OK | OK | OK | [ OK ] |
| Package: TypeInfo |
| Version: 1.46.0 |
| Command: rm -rf TypeInfo.buildbin-libdir && mkdir TypeInfo.buildbin-libdir && /Users/biocbuild/BBS/utils/build-universal.sh TypeInfo_1.46.0.tar.gz /Library/Frameworks/R.framework/Versions/Current/Resources/bin/R TypeInfo.buildbin-libdir |
| StartedAt: 2018-10-17 02:18:30 -0400 (Wed, 17 Oct 2018) |
| EndedAt: 2018-10-17 02:19:21 -0400 (Wed, 17 Oct 2018) |
| EllapsedTime: 50.6 seconds |
| RetCode: 0 |
| Status: OK |
| PackageFile: TypeInfo_1.46.0.tgz |
| PackageFileSize: 329.6 KiB |
############################################################################## ############################################################################## ### ### Running command: ### ### rm -rf TypeInfo.buildbin-libdir && mkdir TypeInfo.buildbin-libdir && /Users/biocbuild/BBS/utils/build-universal.sh TypeInfo_1.46.0.tar.gz /Library/Frameworks/R.framework/Versions/Current/Resources/bin/R TypeInfo.buildbin-libdir ### ############################################################################## ############################################################################## >>>>>>> >>>>>>> INSTALLATION WITH 'R CMD INSTALL --preclean --no-multiarch --library=TypeInfo.buildbin-libdir TypeInfo_1.46.0.tar.gz' >>>>>>> * installing *source* package ‘TypeInfo’ ... ** R ** inst ** byte-compile and prepare package for lazy loading ** help *** installing help indices ** building package indices ** installing vignettes ** testing if installed package can be loaded * DONE (TypeInfo)