| Back to Multiple platform build/check report for BioC 3.7 |
|
This page was generated on 2018-10-17 09:00:08 -0400 (Wed, 17 Oct 2018).
| Package 1522/1561 | Hostname | OS / Arch | INSTALL | BUILD | CHECK | BUILD BIN | ||||||
| TxRegInfra 1.0.1 VJ Carey
| malbec2 | Linux (Ubuntu 16.04.1 LTS) / x86_64 | OK | OK | OK | |||||||
| tokay2 | Windows Server 2012 R2 Standard / x64 | OK | OK | OK | OK | |||||||
| merida2 | OS X 10.11.6 El Capitan / x86_64 | OK | OK | [ OK ] | OK |
| Package: TxRegInfra |
| Version: 1.0.1 |
| Command: /Library/Frameworks/R.framework/Versions/Current/Resources/bin/R CMD check --install=check:TxRegInfra.install-out.txt --library=/Library/Frameworks/R.framework/Versions/Current/Resources/library --no-vignettes --timings TxRegInfra_1.0.1.tar.gz |
| StartedAt: 2018-10-17 00:34:08 -0400 (Wed, 17 Oct 2018) |
| EndedAt: 2018-10-17 00:37:06 -0400 (Wed, 17 Oct 2018) |
| EllapsedTime: 177.4 seconds |
| RetCode: 0 |
| Status: OK |
| CheckDir: TxRegInfra.Rcheck |
| Warnings: 0 |
##############################################################################
##############################################################################
###
### Running command:
###
### /Library/Frameworks/R.framework/Versions/Current/Resources/bin/R CMD check --install=check:TxRegInfra.install-out.txt --library=/Library/Frameworks/R.framework/Versions/Current/Resources/library --no-vignettes --timings TxRegInfra_1.0.1.tar.gz
###
##############################################################################
##############################################################################
* using log directory ‘/Users/biocbuild/bbs-3.7-bioc/meat/TxRegInfra.Rcheck’
* using R version 3.5.1 Patched (2018-07-12 r74967)
* using platform: x86_64-apple-darwin15.6.0 (64-bit)
* using session charset: UTF-8
* using option ‘--no-vignettes’
* checking for file ‘TxRegInfra/DESCRIPTION’ ... OK
* this is package ‘TxRegInfra’ version ‘1.0.1’
* checking package namespace information ... OK
* checking package dependencies ... OK
* checking if this is a source package ... OK
* checking if there is a namespace ... OK
* checking for hidden files and directories ... OK
* checking for portable file names ... OK
* checking for sufficient/correct file permissions ... OK
* checking whether package ‘TxRegInfra’ can be installed ... OK
* checking installed package size ... OK
* checking package directory ... OK
* checking ‘build’ directory ... OK
* checking DESCRIPTION meta-information ... OK
* checking top-level files ... OK
* checking for left-over files ... OK
* checking index information ... OK
* checking package subdirectories ... OK
* checking R files for non-ASCII characters ... OK
* checking R files for syntax errors ... OK
* checking whether the package can be loaded ... OK
* checking whether the package can be loaded with stated dependencies ... OK
* checking whether the package can be unloaded cleanly ... OK
* checking whether the namespace can be loaded with stated dependencies ... OK
* checking whether the namespace can be unloaded cleanly ... OK
* checking dependencies in R code ... OK
* checking S3 generic/method consistency ... OK
* checking replacement functions ... OK
* checking foreign function calls ... OK
* checking R code for possible problems ... OK
* checking Rd files ... OK
* checking Rd metadata ... OK
* checking Rd cross-references ... OK
* checking for missing documentation entries ... OK
* checking for code/documentation mismatches ... OK
* checking Rd \usage sections ... OK
* checking Rd contents ... OK
* checking for unstated dependencies in examples ... OK
* checking contents of ‘data’ directory ... OK
* checking data for non-ASCII characters ... NOTE
Error in .requirePackage(package) :
unable to find required package 'RaggedExperiment'
Calls: <Anonymous> ... getClass -> getClassDef -> .classEnv -> .requirePackage
Execution halted
* checking data for ASCII and uncompressed saves ... OK
* checking files in ‘vignettes’ ... OK
* checking examples ... OK
Examples with CPU or elapsed time > 5s
user system elapsed
txmodels 18.087 1.632 21.355
* checking for unstated dependencies in vignettes ... OK
* checking package vignettes in ‘inst/doc’ ... OK
* checking running R code from vignettes ... SKIPPED
* checking re-building of vignette outputs ... SKIPPED
* checking PDF version of manual ... OK
* DONE
Status: 1 NOTE
See
‘/Users/biocbuild/bbs-3.7-bioc/meat/TxRegInfra.Rcheck/00check.log’
for details.
TxRegInfra.Rcheck/00install.out
############################################################################## ############################################################################## ### ### Running command: ### ### /Library/Frameworks/R.framework/Versions/Current/Resources/bin/R CMD INSTALL TxRegInfra ### ############################################################################## ############################################################################## * installing to library ‘/Library/Frameworks/R.framework/Versions/3.5/Resources/library’ * installing *source* package ‘TxRegInfra’ ... ** R ** data *** moving datasets to lazyload DB ** inst ** byte-compile and prepare package for lazy loading ** help *** installing help indices ** building package indices ** installing vignettes ** testing if installed package can be loaded * DONE (TxRegInfra)
TxRegInfra.Rcheck/TxRegInfra-Ex.timings
| name | user | system | elapsed | |
| URL_txregInAWS | 0.001 | 0.000 | 0.001 | |
| basicColData | 0.078 | 0.004 | 0.082 | |
| basicFormatter | 0.019 | 0.001 | 0.020 | |
| dgf_meta | 0.008 | 0.002 | 0.010 | |
| getDocumentFields | 0.002 | 0.000 | 0.003 | |
| getFieldNames | 0.096 | 0.010 | 1.527 | |
| grConverter | 0.029 | 0.000 | 0.029 | |
| importBedToMongo | 0.009 | 0.005 | 0.014 | |
| listAllCollections | 0.004 | 0.003 | 0.008 | |
| makeAggregator | 0.008 | 0.003 | 0.012 | |
| makeColData | 0.005 | 0.003 | 0.009 | |
| ragged41FP | 0.129 | 0.008 | 0.136 | |
| sbov | 0.007 | 0.004 | 0.010 | |
| txmodels | 18.087 | 1.632 | 21.355 | |
| txregCollections | 0.005 | 0.004 | 0.010 | |
| verifyHasMongoCmd | 0.001 | 0.000 | 0.001 | |
| verifyRunningMongodb | 0.002 | 0.000 | 0.001 | |