| Back to Multiple platform build/check report for BioC 3.7 |
|
This page was generated on 2018-10-17 08:27:06 -0400 (Wed, 17 Oct 2018).
| Package 1510/1561 | Hostname | OS / Arch | INSTALL | BUILD | CHECK | BUILD BIN | ||||||
| TRONCO 2.12.0 BIMIB Group
| malbec2 | Linux (Ubuntu 16.04.1 LTS) / x86_64 | OK | OK | [ OK ] | |||||||
| tokay2 | Windows Server 2012 R2 Standard / x64 | OK | OK | OK | OK | |||||||
| merida2 | OS X 10.11.6 El Capitan / x86_64 | OK | OK | OK | OK |
| Package: TRONCO |
| Version: 2.12.0 |
| Command: /home/biocbuild/bbs-3.7-bioc/R/bin/R CMD check --install=check:TRONCO.install-out.txt --library=/home/biocbuild/bbs-3.7-bioc/R/library --no-vignettes --timings TRONCO_2.12.0.tar.gz |
| StartedAt: 2018-10-16 04:19:41 -0400 (Tue, 16 Oct 2018) |
| EndedAt: 2018-10-16 04:22:38 -0400 (Tue, 16 Oct 2018) |
| EllapsedTime: 177.3 seconds |
| RetCode: 0 |
| Status: OK |
| CheckDir: TRONCO.Rcheck |
| Warnings: 0 |
##############################################################################
##############################################################################
###
### Running command:
###
### /home/biocbuild/bbs-3.7-bioc/R/bin/R CMD check --install=check:TRONCO.install-out.txt --library=/home/biocbuild/bbs-3.7-bioc/R/library --no-vignettes --timings TRONCO_2.12.0.tar.gz
###
##############################################################################
##############################################################################
* using log directory ‘/home/biocbuild/bbs-3.7-bioc/meat/TRONCO.Rcheck’
* using R version 3.5.1 Patched (2018-07-12 r74967)
* using platform: x86_64-pc-linux-gnu (64-bit)
* using session charset: UTF-8
* using option ‘--no-vignettes’
* checking for file ‘TRONCO/DESCRIPTION’ ... OK
* this is package ‘TRONCO’ version ‘2.12.0’
* package encoding: UTF-8
* checking package namespace information ... OK
* checking package dependencies ... OK
* checking if this is a source package ... OK
* checking if there is a namespace ... OK
* checking for hidden files and directories ... OK
* checking for portable file names ... OK
* checking for sufficient/correct file permissions ... OK
* checking whether package ‘TRONCO’ can be installed ... OK
* checking installed package size ... OK
* checking package directory ... OK
* checking ‘build’ directory ... OK
* checking DESCRIPTION meta-information ... OK
* checking top-level files ... OK
* checking for left-over files ... OK
* checking index information ... OK
* checking package subdirectories ... OK
* checking R files for non-ASCII characters ... OK
* checking R files for syntax errors ... OK
* checking whether the package can be loaded ... OK
* checking whether the package can be loaded with stated dependencies ... OK
* checking whether the package can be unloaded cleanly ... OK
* checking whether the namespace can be loaded with stated dependencies ... OK
* checking whether the namespace can be unloaded cleanly ... OK
* checking dependencies in R code ... OK
* checking S3 generic/method consistency ... OK
* checking replacement functions ... OK
* checking foreign function calls ... OK
* checking R code for possible problems ... OK
* checking Rd files ... OK
* checking Rd metadata ... OK
* checking Rd cross-references ... OK
* checking for missing documentation entries ... OK
* checking for code/documentation mismatches ... OK
* checking Rd \usage sections ... OK
* checking Rd contents ... OK
* checking for unstated dependencies in examples ... OK
* checking contents of ‘data’ directory ... OK
* checking data for non-ASCII characters ... OK
* checking data for ASCII and uncompressed saves ... OK
* checking files in ‘vignettes’ ... OK
* checking examples ... OK
Examples with CPU or elapsed time > 5s
user system elapsed
tronco.kfold.posterr 0.196 0.236 6.720
tronco.kfold.prederr 0.144 0.244 6.603
tronco.bootstrap 0.144 0.164 12.139
* checking for unstated dependencies in ‘tests’ ... OK
* checking tests ...
Running ‘testthat.R’
OK
* checking for unstated dependencies in vignettes ... OK
* checking package vignettes in ‘inst/doc’ ... OK
* checking running R code from vignettes ... SKIPPED
* checking re-building of vignette outputs ... SKIPPED
* checking PDF version of manual ... OK
* DONE
Status: OK
TRONCO.Rcheck/00install.out
############################################################################## ############################################################################## ### ### Running command: ### ### /home/biocbuild/bbs-3.7-bioc/R/bin/R CMD INSTALL TRONCO ### ############################################################################## ############################################################################## * installing to library ‘/home/biocbuild/bbs-3.7-bioc/R/library’ * installing *source* package ‘TRONCO’ ... ** R ** data *** moving datasets to lazyload DB ** inst ** byte-compile and prepare package for lazy loading ** help *** installing help indices ** building package indices ** installing vignettes ** testing if installed package can be loaded * DONE (TRONCO)
TRONCO.Rcheck/tests/testthat.Rout
R version 3.5.1 Patched (2018-07-12 r74967) -- "Feather Spray"
Copyright (C) 2018 The R Foundation for Statistical Computing
Platform: x86_64-pc-linux-gnu (64-bit)
R is free software and comes with ABSOLUTELY NO WARRANTY.
You are welcome to redistribute it under certain conditions.
Type 'license()' or 'licence()' for distribution details.
R is a collaborative project with many contributors.
Type 'contributors()' for more information and
'citation()' on how to cite R or R packages in publications.
Type 'demo()' for some demos, 'help()' for on-line help, or
'help.start()' for an HTML browser interface to help.
Type 'q()' to quit R.
> Sys.setenv("R_TESTS" = "")
>
> library(testthat)
> library(TRONCO)
>
> test_check("TRONCO")
*** Checking input events.
*** Inferring a progression model with the following settings.
Dataset size: n = 40, m = 30.
Algorithm: CAPRESE with shrinkage coefficient: 0.5.
*** Evaluating LogLik informations.
The reconstruction has been successfully completed in 00h:00m:00s
*** Checking input events.
*** Inferring a progression model with the following settings.
Dataset size: n = 40, m = 30.
Algorithm: Edmonds with "no_reg" regularization Random seed: NULL.
Bootstrap iterations (Wilcoxon): 1.
exhaustive bootstrap: TRUE.
p-value: 0.05.
minimum bootstrapped scores: 3.
*** Bootstraping selective advantage scores (prima facie).
........
Evaluating "temporal priority" (Wilcoxon, p-value 0.05)
Evaluating "probability raising" (Wilcoxon, p-value 0.05)
*** Loop detection found loops to break.
Removed 6 edges out of 50 (12%)
*** Performing likelihood-fit with regularization: no_reg and score: pmi .
*** Evaluating BIC / AIC / LogLik informations.
The reconstruction has been successfully completed in 00h:00m:01s
*** Checking input events.
*** Inferring a progression model with the following settings.
Dataset size: n = 40, m = 30.
Algorithm: Gabow with "no_reg" regularization Random seed: NULL.
Bootstrap iterations (Wilcoxon): 1.
exhaustive bootstrap: TRUE.
p-value: 0.05.
minimum bootstrapped scores: 3.
*** Bootstraping selective advantage scores (prima facie).
......
Evaluating "temporal priority" (Wilcoxon, p-value 0.05)
Evaluating "probability raising" (Wilcoxon, p-value 0.05)
*** Loop detection found loops to break.
Removed 6 edges out of 45 (13%)
*** Performing likelihood-fit with regularization: no_reg .
*** Evaluating BIC / AIC / LogLik informations.
The reconstruction has been successfully completed in 00h:00m:01s
*** Checking input events.
*** Inferring a progression model with the following settings.
Dataset size: n = 40, m = 30.
Algorithm: Chow Liu with "bic, aic" regularization Random seed: NULL.
Bootstrap iterations (Wilcoxon): 1.
exhaustive bootstrap: TRUE.
p-value: 0.05.
minimum bootstrapped scores: 3.
*** Bootstraping selective advantage scores (prima facie).
..........
Evaluating "temporal priority" (Wilcoxon, p-value 0.05)
Evaluating "probability raising" (Wilcoxon, p-value 0.05)
*** Loop detection found loops to break.
Removed 6 edges out of 47 (13%)
*** Performing likelihood-fit with regularization bic .
*** Performing likelihood-fit with regularization aic .
*** Evaluating BIC / AIC / LogLik informations.
The reconstruction has been successfully completed in 00h:00m:02s
*** Checking input events.
*** Inferring a progression model with the following settings.
Dataset size: n = 40, m = 30.
Algorithm: Prim with "no_reg" regularization Random seed: NULL.
Bootstrap iterations (Wilcoxon): 1.
exhaustive bootstrap: TRUE.
p-value: 0.05.
minimum bootstrapped scores: 3.
*** Bootstraping selective advantage scores (prima facie).
..........
Evaluating "temporal priority" (Wilcoxon, p-value 0.05)
Evaluating "probability raising" (Wilcoxon, p-value 0.05)
*** Loop detection found loops to break.
Removed 5 edges out of 47 (11%)
*** Performing likelihood-fit with regularization: no_reg .
*** Evaluating BIC / AIC / LogLik informations.
The reconstruction has been successfully completed in 00h:00m:02s
══ testthat results ═══════════════════════════════════════════════════════════
OK: 253 SKIPPED: 0 FAILED: 0
>
> proc.time()
user system elapsed
36.772 1.580 89.080
TRONCO.Rcheck/TRONCO-Ex.timings
| name | user | system | elapsed | |
| TCGA.multiple.samples | 0.016 | 0.000 | 0.014 | |
| TCGA.remove.multiple.samples | 0.016 | 0.000 | 0.015 | |
| TCGA.shorten.barcodes | 0.008 | 0.004 | 0.010 | |
| annotate.description | 0.008 | 0.004 | 0.010 | |
| annotate.stages | 0.012 | 0.000 | 0.013 | |
| as.adj.matrix | 0.008 | 0.004 | 0.010 | |
| as.alterations | 0.004 | 0.000 | 0.004 | |
| as.bootstrap.scores | 0.028 | 0.004 | 0.031 | |
| as.colors | 0.004 | 0.000 | 0.002 | |
| as.confidence | 0.004 | 0.008 | 0.012 | |
| as.description | 0.000 | 0.000 | 0.001 | |
| as.events | 0.000 | 0.000 | 0.002 | |
| as.events.in.patterns | 0.004 | 0.000 | 0.004 | |
| as.events.in.sample | 0.008 | 0.000 | 0.008 | |
| as.gene | 0.004 | 0.000 | 0.004 | |
| as.genes | 0.004 | 0.000 | 0.001 | |
| as.genes.in.patterns | 0.004 | 0.000 | 0.004 | |
| as.genotypes | 0.004 | 0.004 | 0.008 | |
| as.hypotheses | 0.004 | 0.000 | 0.004 | |
| as.joint.probs | 0.008 | 0.004 | 0.009 | |
| as.kfold.eloss | 0.036 | 0.000 | 0.035 | |
| as.kfold.posterr | 0.056 | 0.000 | 0.057 | |
| as.kfold.prederr | 0.092 | 0.000 | 0.090 | |
| as.marginal.probs | 0.004 | 0.000 | 0.004 | |
| as.models | 0.012 | 0.008 | 0.018 | |
| as.parameters | 0.004 | 0.000 | 0.003 | |
| as.pathway | 0.004 | 0.000 | 0.005 | |
| as.patterns | 0.000 | 0.000 | 0.001 | |
| as.samples | 0.000 | 0.000 | 0.002 | |
| as.selective.advantage.relations | 0.064 | 0.004 | 0.065 | |
| as.stages | 0.004 | 0.004 | 0.007 | |
| as.types | 0.000 | 0.000 | 0.001 | |
| as.types.in.patterns | 0.004 | 0.000 | 0.004 | |
| change.color | 0.000 | 0.000 | 0.002 | |
| consolidate.data | 0.016 | 0.012 | 0.028 | |
| delete.event | 0.004 | 0.000 | 0.004 | |
| delete.gene | 0.004 | 0.000 | 0.004 | |
| delete.hypothesis | 0.020 | 0.012 | 0.032 | |
| delete.model | 0.000 | 0.004 | 0.003 | |
| delete.pattern | 0.004 | 0.008 | 0.012 | |
| delete.samples | 0.004 | 0.000 | 0.003 | |
| delete.type | 0.004 | 0.000 | 0.004 | |
| duplicates | 0.000 | 0.000 | 0.002 | |
| enforce.numeric | 0.004 | 0.000 | 0.002 | |
| enforce.string | 0.000 | 0.004 | 0.003 | |
| events.selection | 0.000 | 0.004 | 0.004 | |
| export.graphml | 0.088 | 0.004 | 0.093 | |
| export.mutex | 0.004 | 0.000 | 0.008 | |
| has.duplicates | 0.000 | 0.000 | 0.002 | |
| has.model | 0.000 | 0.004 | 0.002 | |
| has.stages | 0.004 | 0.000 | 0.006 | |
| import.GISTIC | 0.004 | 0.000 | 0.004 | |
| import.MAF | 0.072 | 0.000 | 0.073 | |
| intersect.datasets | 0.004 | 0.000 | 0.001 | |
| is.compliant | 0.000 | 0.000 | 0.001 | |
| join.events | 0.004 | 0.000 | 0.003 | |
| join.types | 0.048 | 0.000 | 0.045 | |
| keysToNames | 0.004 | 0.000 | 0.004 | |
| nameToKey | 0.004 | 0.000 | 0.003 | |
| nevents | 0.000 | 0.000 | 0.002 | |
| ngenes | 0.004 | 0.000 | 0.001 | |
| nhypotheses | 0.000 | 0.000 | 0.001 | |
| npatterns | 0.000 | 0.000 | 0.001 | |
| nsamples | 0.000 | 0.000 | 0.002 | |
| ntypes | 0.000 | 0.000 | 0.001 | |
| oncoprint.cbio | 0.008 | 0.000 | 0.005 | |
| order.frequency | 0.004 | 0.004 | 0.008 | |
| pheatmap | 0.044 | 0.000 | 0.044 | |
| rank.recurrents | 0.004 | 0.000 | 0.003 | |
| rename.gene | 0.004 | 0.000 | 0.002 | |
| rename.type | 0.000 | 0.000 | 0.002 | |
| samples.selection | 0.000 | 0.000 | 0.002 | |
| trim | 0.000 | 0.000 | 0.003 | |
| tronco.bootstrap | 0.144 | 0.164 | 12.139 | |
| tronco.caprese | 0.140 | 0.008 | 0.148 | |
| tronco.capri | 1.696 | 0.040 | 1.742 | |
| tronco.chowliu | 1.192 | 0.004 | 1.198 | |
| tronco.edmonds | 1.360 | 0.000 | 1.363 | |
| tronco.gabow | 1.412 | 0.004 | 1.413 | |
| tronco.kfold.eloss | 0.132 | 0.004 | 0.136 | |
| tronco.kfold.posterr | 0.196 | 0.236 | 6.720 | |
| tronco.kfold.prederr | 0.144 | 0.244 | 6.603 | |
| tronco.plot | 0.156 | 0.012 | 0.168 | |
| tronco.prim | 2.004 | 0.040 | 2.045 | |
| view | 0.004 | 0.000 | 0.003 | |
| which.samples | 0.004 | 0.000 | 0.003 | |