| Back to Multiple platform build/check report for BioC 3.7 |
|
This page was generated on 2018-10-17 08:40:22 -0400 (Wed, 17 Oct 2018).
| Package 1494/1561 | Hostname | OS / Arch | INSTALL | BUILD | CHECK | BUILD BIN | ||||||
| TPP 3.8.5 Dorothee Childs
| malbec2 | Linux (Ubuntu 16.04.1 LTS) / x86_64 | OK | OK | OK | |||||||
| tokay2 | Windows Server 2012 R2 Standard / x64 | [ OK ] | OK | OK | OK | |||||||
| merida2 | OS X 10.11.6 El Capitan / x86_64 | OK | OK | OK | OK |
| Package: TPP |
| Version: 3.8.5 |
| Command: C:\cygwin\bin\curl.exe -O https://malbec2.bioconductor.org/BBS/3.7/bioc/src/contrib/TPP_3.8.5.tar.gz && rm -rf TPP.buildbin-libdir && mkdir TPP.buildbin-libdir && C:\Users\biocbuild\bbs-3.7-bioc\R\bin\R.exe CMD INSTALL --merge-multiarch --build --library=TPP.buildbin-libdir TPP_3.8.5.tar.gz && C:\Users\biocbuild\bbs-3.7-bioc\R\bin\R.exe CMD INSTALL TPP_3.8.5.zip && rm TPP_3.8.5.tar.gz TPP_3.8.5.zip |
| StartedAt: 2018-10-16 19:12:03 -0400 (Tue, 16 Oct 2018) |
| EndedAt: 2018-10-16 19:14:24 -0400 (Tue, 16 Oct 2018) |
| EllapsedTime: 141.3 seconds |
| RetCode: 0 |
| Status: OK |
##############################################################################
##############################################################################
###
### Running command:
###
### C:\cygwin\bin\curl.exe -O https://malbec2.bioconductor.org/BBS/3.7/bioc/src/contrib/TPP_3.8.5.tar.gz && rm -rf TPP.buildbin-libdir && mkdir TPP.buildbin-libdir && C:\Users\biocbuild\bbs-3.7-bioc\R\bin\R.exe CMD INSTALL --merge-multiarch --build --library=TPP.buildbin-libdir TPP_3.8.5.tar.gz && C:\Users\biocbuild\bbs-3.7-bioc\R\bin\R.exe CMD INSTALL TPP_3.8.5.zip && rm TPP_3.8.5.tar.gz TPP_3.8.5.zip
###
##############################################################################
##############################################################################
% Total % Received % Xferd Average Speed Time Time Time Current
Dload Upload Total Spent Left Speed
0 0 0 0 0 0 0 0 --:--:-- --:--:-- --:--:-- 0
100 8056k 100 8056k 0 0 61.6M 0 --:--:-- --:--:-- --:--:-- 65.0M
install for i386
* installing *source* package 'TPP' ...
** R
** data
** inst
** byte-compile and prepare package for lazy loading
** help
*** installing help indices
converting help for package 'TPP'
finding HTML links ... done
TPP-deprecated html
TPP html
TPPTR_reference_results_HepG2 html
analyze2DTPP html
finding level-2 HTML links ... done
analyzeTPPCCR html
analyzeTPPTR html
hdacCCR_config html
hdacCCR_data html
hdacCCR_smallExample html
hdacTR_config html
hdacTR_data html
hdacTR_resultsTable_smallExample html
hdacTR_smallExample html
panobinostat_2DTPP_config html
panobinostat_2DTPP_data html
panobinostat_2DTPP_smallExample html
resultTable html
tpp2dAddAdditionalInfo html
tpp2dCalcFractAbundance html
tpp2dComputeFoldChanges html
tpp2dCreateDRplots html
tpp2dCreateReport html
tpp2dCreateTPPTRreference html
tpp2dCurveFit html
tpp2dExport html
tpp2dExportPlots html
tpp2dImport html
tpp2dMerge2dRef html
tpp2dNormalize html
tpp2dPlotQChist html
tpp2dPlotQCpEC50 html
tpp2dSplineFitAndTest html
tpp2dSplinePlot html
tpp2dTRReferenceObject html
tppDefaultTheme html
tppExport html
tppQCPlotsCorrelateExperiments html
tppRefData html
tppccrCurveFit html
tppccrImport html
tppccrNormalize html
tppccrNormalizeToReference html
tppccrPlotCurves html
tppccrResultTable html
tppccrTransform html
tpptrAnalyzeMeltingCurves html
tpptrCurveFit html
tpptrDefaultNormReqs html
tpptrFTest html
tpptrFitSplines html
tpptrImport html
tpptrNormalize html
tpptrPlotSplines html
tpptrSplineFitAndTest html
tpptrTidyUpESets html
** building package indices
** installing vignettes
** testing if installed package can be loaded
In R CMD INSTALL
install for x64
* installing *source* package 'TPP' ...
** testing if installed package can be loaded
* MD5 sums
packaged installation of 'TPP' as TPP_3.8.5.zip
* DONE (TPP)
In R CMD INSTALL
In R CMD INSTALL
* installing to library 'C:/Users/biocbuild/bbs-3.7-bioc/R/library'
package 'TPP' successfully unpacked and MD5 sums checked
In R CMD INSTALL