| Back to Multiple platform build/check report for BioC 3.7 |
|
This page was generated on 2018-10-17 08:40:12 -0400 (Wed, 17 Oct 2018).
| Package 1484/1561 | Hostname | OS / Arch | INSTALL | BUILD | CHECK | BUILD BIN | ||||||
| TIN 1.12.0 Bjarne Johannessen
| malbec2 | Linux (Ubuntu 16.04.1 LTS) / x86_64 | OK | OK | OK | |||||||
| tokay2 | Windows Server 2012 R2 Standard / x64 | OK | OK | OK | [ OK ] | |||||||
| merida2 | OS X 10.11.6 El Capitan / x86_64 | OK | OK | OK | OK |
| Package: TIN |
| Version: 1.12.0 |
| Command: rm -rf TIN.buildbin-libdir && mkdir TIN.buildbin-libdir && C:\Users\biocbuild\bbs-3.7-bioc\R\bin\R.exe CMD INSTALL --merge-multiarch --build --library=TIN.buildbin-libdir TIN_1.12.0.tar.gz |
| StartedAt: 2018-10-17 07:04:28 -0400 (Wed, 17 Oct 2018) |
| EndedAt: 2018-10-17 07:05:05 -0400 (Wed, 17 Oct 2018) |
| EllapsedTime: 36.8 seconds |
| RetCode: 0 |
| Status: OK |
| PackageFile: TIN_1.12.0.zip |
| PackageFileSize: 4.589 MiB |
##############################################################################
##############################################################################
###
### Running command:
###
### rm -rf TIN.buildbin-libdir && mkdir TIN.buildbin-libdir && C:\Users\biocbuild\bbs-3.7-bioc\R\bin\R.exe CMD INSTALL --merge-multiarch --build --library=TIN.buildbin-libdir TIN_1.12.0.tar.gz
###
##############################################################################
##############################################################################
install for i386
* installing *source* package 'TIN' ...
** R
** data
** inst
** byte-compile and prepare package for lazy loading
The following object is masked _by_ package:aroma.affymetrix:
writeCdf
The following object is masked from package:R.utils:
findFiles
** help
*** installing help indices
converting help for package 'TIN'
finding HTML links ... done
aberrantExonUsage html
clusterPlot html
correlation html
correlationPlot html
firmaAnalysis html
geneAnnotation html
geneSetCorrelation html
geneSets html
posNegCorrPlot html
probesetPermutations html
readGeneSummaries html
sampleSetFirmaScores html
sampleSetGeneSummaries html
scatterPlot html
splicingFactors html
** building package indices
** installing vignettes
** testing if installed package can be loaded
The following object is masked _by_ package:aroma.affymetrix:
writeCdf
The following object is masked from package:R.utils:
findFiles
In R CMD INSTALL
install for x64
* installing *source* package 'TIN' ...
** testing if installed package can be loaded
The following object is masked _by_ package:aroma.affymetrix:
writeCdf
The following object is masked from package:R.utils:
findFiles
* MD5 sums
packaged installation of 'TIN' as TIN_1.12.0.zip
* DONE (TIN)
In R CMD INSTALL
In R CMD INSTALL