| Back to Multiple platform build/check report for BioC 3.7 |
|
This page was generated on 2018-10-17 08:45:28 -0400 (Wed, 17 Oct 2018).
| Package 1445/1561 | Hostname | OS / Arch | INSTALL | BUILD | CHECK | BUILD BIN | ||||||
| SummarizedBenchmark 1.0.4 Alejandro Reyes
| malbec2 | Linux (Ubuntu 16.04.1 LTS) / x86_64 | OK | OK | OK | |||||||
| tokay2 | Windows Server 2012 R2 Standard / x64 | OK | OK | OK | [ OK ] | |||||||
| merida2 | OS X 10.11.6 El Capitan / x86_64 | OK | OK | OK | OK |
| Package: SummarizedBenchmark |
| Version: 1.0.4 |
| Command: rm -rf SummarizedBenchmark.buildbin-libdir && mkdir SummarizedBenchmark.buildbin-libdir && C:\Users\biocbuild\bbs-3.7-bioc\R\bin\R.exe CMD INSTALL --merge-multiarch --build --library=SummarizedBenchmark.buildbin-libdir SummarizedBenchmark_1.0.4.tar.gz |
| StartedAt: 2018-10-17 07:02:57 -0400 (Wed, 17 Oct 2018) |
| EndedAt: 2018-10-17 07:03:31 -0400 (Wed, 17 Oct 2018) |
| EllapsedTime: 34.5 seconds |
| RetCode: 0 |
| Status: OK |
| PackageFile: SummarizedBenchmark_1.0.4.zip |
| PackageFileSize: 10.2 MiB |
##############################################################################
##############################################################################
###
### Running command:
###
### rm -rf SummarizedBenchmark.buildbin-libdir && mkdir SummarizedBenchmark.buildbin-libdir && C:\Users\biocbuild\bbs-3.7-bioc\R\bin\R.exe CMD INSTALL --merge-multiarch --build --library=SummarizedBenchmark.buildbin-libdir SummarizedBenchmark_1.0.4.tar.gz
###
##############################################################################
##############################################################################
install for i386
* installing *source* package 'SummarizedBenchmark' ...
** R
** data
*** moving datasets to lazyload DB
** inst
** byte-compile and prepare package for lazy loading
** help
*** installing help indices
converting help for package 'SummarizedBenchmark'
finding HTML links ... done
Accessors html
BenchDesign html
SummarizedBenchmark-class html
finding level-2 HTML links ... done
SummarizedBenchmark html
addMethod html
addPerformanceMetric html
allSB html
availableMetrics html
buildBench html
dropMethod html
estimateMetrics html
expandMethod html
is.BenchDesign html
modifyMethod html
modmethod html
performanceMetrics html
plotMethodsOverlap html
plotROC html
print.BenchDesign html
printMethod html
sb html
tdat html
tidyUpMetrics html
** building package indices
** installing vignettes
** testing if installed package can be loaded
In R CMD INSTALL
install for x64
* installing *source* package 'SummarizedBenchmark' ...
** testing if installed package can be loaded
* MD5 sums
packaged installation of 'SummarizedBenchmark' as SummarizedBenchmark_1.0.4.zip
* DONE (SummarizedBenchmark)
In R CMD INSTALL
In R CMD INSTALL