| Back to Multiple platform build/check report for BioC 3.7 | 
 | 
This page was generated on 2018-10-17 08:59:56 -0400 (Wed, 17 Oct 2018).
| Package 1404/1561 | Hostname | OS / Arch | INSTALL | BUILD | CHECK | BUILD BIN | ||||||
| SparseSignatures 1.0.3 Luca De Sano 
 | malbec2 | Linux (Ubuntu 16.04.1 LTS) / x86_64 | OK | OK | OK |  | ||||||
| tokay2 | Windows Server 2012 R2 Standard / x64 | OK | OK | OK | OK |  | ||||||
| merida2 | OS X 10.11.6 El Capitan / x86_64 | OK | OK | OK | [ OK ] |  | 
| Package: SparseSignatures | 
| Version: 1.0.3 | 
| Command: rm -rf SparseSignatures.buildbin-libdir && mkdir SparseSignatures.buildbin-libdir && /Users/biocbuild/BBS/utils/build-universal.sh SparseSignatures_1.0.3.tar.gz /Library/Frameworks/R.framework/Versions/Current/Resources/bin/R SparseSignatures.buildbin-libdir | 
| StartedAt: 2018-10-17 02:10:40 -0400 (Wed, 17 Oct 2018) | 
| EndedAt: 2018-10-17 02:12:34 -0400 (Wed, 17 Oct 2018) | 
| EllapsedTime: 114.4 seconds | 
| RetCode: 0 | 
| Status: OK | 
| PackageFile: SparseSignatures_1.0.3.tgz | 
| PackageFileSize: 1.042 MiB | 
############################################################################## ############################################################################## ### ### Running command: ### ### rm -rf SparseSignatures.buildbin-libdir && mkdir SparseSignatures.buildbin-libdir && /Users/biocbuild/BBS/utils/build-universal.sh SparseSignatures_1.0.3.tar.gz /Library/Frameworks/R.framework/Versions/Current/Resources/bin/R SparseSignatures.buildbin-libdir ### ############################################################################## ############################################################################## >>>>>>> >>>>>>> INSTALLATION WITH 'R CMD INSTALL --preclean --no-multiarch --library=SparseSignatures.buildbin-libdir SparseSignatures_1.0.3.tar.gz' >>>>>>> * installing *source* package ‘SparseSignatures’ ... ** R ** data *** moving datasets to lazyload DB ** inst ** byte-compile and prepare package for lazy loading ** help *** installing help indices ** building package indices ** installing vignettes ** testing if installed package can be loaded * DONE (SparseSignatures)