| Back to Multiple platform build/check report for BioC 3.7 |
|
This page was generated on 2018-10-17 08:38:09 -0400 (Wed, 17 Oct 2018).
| Package 1401/1561 | Hostname | OS / Arch | INSTALL | BUILD | CHECK | BUILD BIN | ||||||
| SomaticSignatures 2.16.0 Julian Gehring
| malbec2 | Linux (Ubuntu 16.04.1 LTS) / x86_64 | OK | OK | OK | |||||||
| tokay2 | Windows Server 2012 R2 Standard / x64 | OK | OK | WARNINGS | [ OK ] | |||||||
| merida2 | OS X 10.11.6 El Capitan / x86_64 | OK | OK | OK | OK |
| Package: SomaticSignatures |
| Version: 2.16.0 |
| Command: rm -rf SomaticSignatures.buildbin-libdir && mkdir SomaticSignatures.buildbin-libdir && C:\Users\biocbuild\bbs-3.7-bioc\R\bin\R.exe CMD INSTALL --merge-multiarch --build --library=SomaticSignatures.buildbin-libdir SomaticSignatures_2.16.0.tar.gz |
| StartedAt: 2018-10-17 07:01:17 -0400 (Wed, 17 Oct 2018) |
| EndedAt: 2018-10-17 07:02:12 -0400 (Wed, 17 Oct 2018) |
| EllapsedTime: 54.8 seconds |
| RetCode: 0 |
| Status: OK |
| PackageFile: SomaticSignatures_2.16.0.zip |
| PackageFileSize: 1.304 MiB |
##############################################################################
##############################################################################
###
### Running command:
###
### rm -rf SomaticSignatures.buildbin-libdir && mkdir SomaticSignatures.buildbin-libdir && C:\Users\biocbuild\bbs-3.7-bioc\R\bin\R.exe CMD INSTALL --merge-multiarch --build --library=SomaticSignatures.buildbin-libdir SomaticSignatures_2.16.0.tar.gz
###
##############################################################################
##############################################################################
install for i386
* installing *source* package 'SomaticSignatures' ...
** R
** data
** inst
** byte-compile and prepare package for lazy loading
** help
*** installing help indices
converting help for package 'SomaticSignatures'
finding HTML links ... done
MutationalSignatures-class html
SomaticSignatures-package html
cluster-spetrum html
decomposition-functions html
Rd warning: C:/Users/biocbuild/bbs-3.7-bioc/tmpdir/Rtmp06O0GM/R.INSTALL17402f161596/SomaticSignatures/man/decomposition-functions.Rd:75: file link 'NMF' in package 'NMF' does not exist and so has been treated as a topic
gc html
granges-utils html
finding level-2 HTML links ... done
hs-chrs html
kmers-data html
kmers html
motif-functions html
mutation-context html
mutation-distribution html
mutational-normalization html
mutational-plots html
mutational-signatures html
mutect html
number-signatures html
Rd warning: C:/Users/biocbuild/bbs-3.7-bioc/tmpdir/Rtmp06O0GM/R.INSTALL17402f161596/SomaticSignatures/man/number-signatures.Rd:98: file link 'evar' in package 'NMF' does not exist and so has been treated as a topic
sca-data html
signature-plot-functions html
signatures21-data html
utils html
** building package indices
** installing vignettes
** testing if installed package can be loaded
In R CMD INSTALL
install for x64
* installing *source* package 'SomaticSignatures' ...
** testing if installed package can be loaded
* MD5 sums
packaged installation of 'SomaticSignatures' as SomaticSignatures_2.16.0.zip
* DONE (SomaticSignatures)
In R CMD INSTALL
In R CMD INSTALL