| Back to Multiple platform build/check report for BioC 3.7 |
|
This page was generated on 2018-10-17 08:59:47 -0400 (Wed, 17 Oct 2018).
| Package 1330/1561 | Hostname | OS / Arch | INSTALL | BUILD | CHECK | BUILD BIN | ||||||
| Sconify 1.0.4 Tyler J Burns
| malbec2 | Linux (Ubuntu 16.04.1 LTS) / x86_64 | OK | OK | OK | |||||||
| tokay2 | Windows Server 2012 R2 Standard / x64 | OK | OK | OK | OK | |||||||
| merida2 | OS X 10.11.6 El Capitan / x86_64 | OK | OK | [ OK ] | OK |
| Package: Sconify |
| Version: 1.0.4 |
| Command: /Library/Frameworks/R.framework/Versions/Current/Resources/bin/R CMD check --install=check:Sconify.install-out.txt --library=/Library/Frameworks/R.framework/Versions/Current/Resources/library --no-vignettes --timings Sconify_1.0.4.tar.gz |
| StartedAt: 2018-10-16 23:57:55 -0400 (Tue, 16 Oct 2018) |
| EndedAt: 2018-10-17 00:00:22 -0400 (Wed, 17 Oct 2018) |
| EllapsedTime: 147.2 seconds |
| RetCode: 0 |
| Status: OK |
| CheckDir: Sconify.Rcheck |
| Warnings: 0 |
##############################################################################
##############################################################################
###
### Running command:
###
### /Library/Frameworks/R.framework/Versions/Current/Resources/bin/R CMD check --install=check:Sconify.install-out.txt --library=/Library/Frameworks/R.framework/Versions/Current/Resources/library --no-vignettes --timings Sconify_1.0.4.tar.gz
###
##############################################################################
##############################################################################
* using log directory ‘/Users/biocbuild/bbs-3.7-bioc/meat/Sconify.Rcheck’
* using R version 3.5.1 Patched (2018-07-12 r74967)
* using platform: x86_64-apple-darwin15.6.0 (64-bit)
* using session charset: UTF-8
* using option ‘--no-vignettes’
* checking for file ‘Sconify/DESCRIPTION’ ... OK
* checking extension type ... Package
* this is package ‘Sconify’ version ‘1.0.4’
* package encoding: UTF-8
* checking package namespace information ... OK
* checking package dependencies ... OK
* checking if this is a source package ... OK
* checking if there is a namespace ... OK
* checking for hidden files and directories ... OK
* checking for portable file names ... OK
* checking for sufficient/correct file permissions ... OK
* checking whether package ‘Sconify’ can be installed ... OK
* checking installed package size ... OK
* checking package directory ... OK
* checking ‘build’ directory ... OK
* checking DESCRIPTION meta-information ... OK
* checking top-level files ... OK
* checking for left-over files ... OK
* checking index information ... OK
* checking package subdirectories ... OK
* checking R files for non-ASCII characters ... OK
* checking R files for syntax errors ... OK
* checking whether the package can be loaded ... OK
* checking whether the package can be loaded with stated dependencies ... OK
* checking whether the package can be unloaded cleanly ... OK
* checking whether the namespace can be loaded with stated dependencies ... OK
* checking whether the namespace can be unloaded cleanly ... OK
* checking dependencies in R code ... OK
* checking S3 generic/method consistency ... OK
* checking replacement functions ... OK
* checking foreign function calls ... OK
* checking R code for possible problems ... OK
* checking Rd files ... OK
* checking Rd metadata ... OK
* checking Rd cross-references ... OK
* checking for missing documentation entries ... OK
* checking for code/documentation mismatches ... OK
* checking Rd \usage sections ... OK
* checking Rd contents ... OK
* checking for unstated dependencies in examples ... OK
* checking contents of ‘data’ directory ... OK
* checking data for non-ASCII characters ... OK
* checking data for ASCII and uncompressed saves ... OK
* checking files in ‘vignettes’ ... OK
* checking examples ... OK
Examples with CPU or elapsed time > 5s
user system elapsed
SconeValues 21.542 0.215 21.953
ImputeTesting 6.908 0.040 6.993
SubsampleAndTsne 6.893 0.015 6.965
* checking for unstated dependencies in ‘tests’ ... OK
* checking tests ...
Running ‘testthat.R’
OK
* checking for unstated dependencies in vignettes ... OK
* checking package vignettes in ‘inst/doc’ ... OK
* checking running R code from vignettes ... SKIPPED
* checking re-building of vignette outputs ... SKIPPED
* checking PDF version of manual ... OK
* DONE
Status: OK
Sconify.Rcheck/00install.out
############################################################################## ############################################################################## ### ### Running command: ### ### /Library/Frameworks/R.framework/Versions/Current/Resources/bin/R CMD INSTALL Sconify ### ############################################################################## ############################################################################## * installing to library ‘/Library/Frameworks/R.framework/Versions/3.5/Resources/library’ * installing *source* package ‘Sconify’ ... ** R ** data *** moving datasets to lazyload DB ** inst ** byte-compile and prepare package for lazy loading Note: wrong number of arguments to '/' Note: wrong number of arguments to 'asinh' ** help *** installing help indices ** building package indices ** installing vignettes ** testing if installed package can be loaded * DONE (Sconify)
Sconify.Rcheck/tests/testthat.Rout
R version 3.5.1 Patched (2018-07-12 r74967) -- "Feather Spray"
Copyright (C) 2018 The R Foundation for Statistical Computing
Platform: x86_64-apple-darwin15.6.0 (64-bit)
R is free software and comes with ABSOLUTELY NO WARRANTY.
You are welcome to redistribute it under certain conditions.
Type 'license()' or 'licence()' for distribution details.
R is a collaborative project with many contributors.
Type 'contributors()' for more information and
'citation()' on how to cite R or R packages in publications.
Type 'demo()' for some demos, 'help()' for on-line help, or
'help.start()' for an HTML browser interface to help.
Type 'q()' to quit R.
> library(testthat)
> library(Sconify)
>
> test_check("Sconify")
Read the 100 x 27 data matrix successfully!
Using no_dims = 2, perplexity = 30.000000, and theta = 0.500000
Computing input similarities...
Normalizing input...
Building tree...
- point 0 of 100
Done in 0.01 seconds (sparsity = 0.970800)!
Learning embedding...
Iteration 50: error is 53.371168 (50 iterations in 0.05 seconds)
Iteration 100: error is 51.822066 (50 iterations in 0.05 seconds)
Iteration 150: error is 51.700141 (50 iterations in 0.05 seconds)
Iteration 200: error is 50.663206 (50 iterations in 0.05 seconds)
Iteration 250: error is 56.199314 (50 iterations in 0.04 seconds)
Iteration 300: error is 1.450317 (50 iterations in 0.03 seconds)
Iteration 350: error is 1.007414 (50 iterations in 0.04 seconds)
Iteration 400: error is 0.597553 (50 iterations in 0.04 seconds)
Iteration 450: error is 0.274188 (50 iterations in 0.05 seconds)
Iteration 500: error is 0.188300 (50 iterations in 0.05 seconds)
Iteration 550: error is 0.175753 (50 iterations in 0.04 seconds)
Iteration 600: error is 0.174388 (50 iterations in 0.04 seconds)
Iteration 650: error is 0.175419 (50 iterations in 0.04 seconds)
Iteration 700: error is 0.176707 (50 iterations in 0.05 seconds)
Iteration 750: error is 0.174398 (50 iterations in 0.04 seconds)
Iteration 800: error is 0.174240 (50 iterations in 0.05 seconds)
Iteration 850: error is 0.174325 (50 iterations in 0.05 seconds)
Iteration 900: error is 0.175216 (50 iterations in 0.04 seconds)
Iteration 950: error is 0.175421 (50 iterations in 0.05 seconds)
Iteration 1000: error is 0.173399 (50 iterations in 0.04 seconds)
Fitting performed in 0.87 seconds.
Read the 1000 x 27 data matrix successfully!
Using no_dims = 2, perplexity = 30.000000, and theta = 0.500000
Computing input similarities...
Normalizing input...
Building tree...
- point 0 of 1000
Done in 0.16 seconds (sparsity = 0.129120)!
Learning embedding...
Iteration 50: error is 66.831982 (50 iterations in 0.76 seconds)
Iteration 100: error is 60.726509 (50 iterations in 0.70 seconds)
Iteration 150: error is 60.308309 (50 iterations in 0.64 seconds)
Iteration 200: error is 60.183378 (50 iterations in 0.58 seconds)
Iteration 250: error is 60.121218 (50 iterations in 0.69 seconds)
Iteration 300: error is 1.332664 (50 iterations in 0.63 seconds)
Iteration 350: error is 1.229011 (50 iterations in 0.55 seconds)
Iteration 400: error is 1.199355 (50 iterations in 0.57 seconds)
Iteration 450: error is 1.186509 (50 iterations in 0.52 seconds)
Iteration 500: error is 1.177768 (50 iterations in 0.57 seconds)
Iteration 550: error is 1.172535 (50 iterations in 0.55 seconds)
Iteration 600: error is 1.167575 (50 iterations in 0.61 seconds)
Iteration 650: error is 1.163034 (50 iterations in 0.57 seconds)
Iteration 700: error is 1.159557 (50 iterations in 0.52 seconds)
Iteration 750: error is 1.157628 (50 iterations in 0.58 seconds)
Iteration 800: error is 1.153003 (50 iterations in 0.54 seconds)
Iteration 850: error is 1.149784 (50 iterations in 0.58 seconds)
Iteration 900: error is 1.146905 (50 iterations in 0.58 seconds)
Iteration 950: error is 1.144629 (50 iterations in 0.56 seconds)
Iteration 1000: error is 1.142662 (50 iterations in 0.57 seconds)
Fitting performed in 11.88 seconds.
══ testthat results ═══════════════════════════════════════════════════════════
OK: 72 SKIPPED: 0 FAILED: 0
>
> proc.time()
user system elapsed
41.379 0.537 42.294
Sconify.Rcheck/Sconify-Ex.timings
| name | user | system | elapsed | |
| FcsToTibble | 0.362 | 0.012 | 0.381 | |
| Fnn | 0.731 | 0.714 | 1.453 | |
| GetKnnDe | 0.097 | 0.005 | 0.103 | |
| GetMarkerNames | 0.038 | 0.002 | 0.041 | |
| ImputeTesting | 6.908 | 0.040 | 6.993 | |
| MakeHist | 0.351 | 0.004 | 0.356 | |
| MakeKnnList | 0.227 | 0.009 | 0.236 | |
| MeaningOfLife | 0.001 | 0.000 | 0.001 | |
| ParseMarkers | 0.030 | 0.036 | 0.070 | |
| PostProcessing | 0.260 | 0.004 | 0.266 | |
| ProcessMultipleFiles | 0.292 | 0.005 | 0.299 | |
| QuantNormalizeElements | 0.400 | 0.004 | 0.408 | |
| SconeValues | 21.542 | 0.215 | 21.953 | |
| SplitFile | 0.256 | 0.005 | 0.263 | |
| StringToNumbers | 0.002 | 0.000 | 0.002 | |
| SubsampleAndTsne | 6.893 | 0.015 | 6.965 | |
| TsneVis | 0.356 | 0.003 | 0.361 | |