| Back to Multiple platform build/check report for BioC 3.7 |
|
This page was generated on 2018-10-15 10:22:44 -0400 (Mon, 15 Oct 2018).
| Package 1418/1561 | Hostname | OS / Arch | INSTALL | BUILD | CHECK | BUILD BIN | ||||||
| SPLINTER 1.6.0 Diana Low
| malbec2 | Linux (Ubuntu 16.04.1 LTS) / x86_64 | OK | OK | OK | |||||||
| tokay2 | Windows Server 2012 R2 Standard / x64 | OK | OK | OK | [ OK ] | |||||||
| merida2 | OS X 10.11.6 El Capitan / x86_64 | OK | OK | OK | OK |
| Package: SPLINTER |
| Version: 1.6.0 |
| Command: rm -rf SPLINTER.buildbin-libdir && mkdir SPLINTER.buildbin-libdir && C:\Users\biocbuild\bbs-3.7-bioc\R\bin\R.exe CMD INSTALL --merge-multiarch --build --library=SPLINTER.buildbin-libdir SPLINTER_1.6.0.tar.gz |
| StartedAt: 2018-10-15 06:49:55 -0400 (Mon, 15 Oct 2018) |
| EndedAt: 2018-10-15 06:50:40 -0400 (Mon, 15 Oct 2018) |
| EllapsedTime: 44.8 seconds |
| RetCode: 0 |
| Status: OK |
| PackageFile: SPLINTER_1.6.0.zip |
| PackageFileSize: 1.098 MiB |
##############################################################################
##############################################################################
###
### Running command:
###
### rm -rf SPLINTER.buildbin-libdir && mkdir SPLINTER.buildbin-libdir && C:\Users\biocbuild\bbs-3.7-bioc\R\bin\R.exe CMD INSTALL --merge-multiarch --build --library=SPLINTER.buildbin-libdir SPLINTER_1.6.0.tar.gz
###
##############################################################################
##############################################################################
install for i386
* installing *source* package 'SPLINTER' ...
** R
** data
*** moving datasets to lazyload DB
** inst
** byte-compile and prepare package for lazy loading
** help
*** installing help indices
converting help for package 'SPLINTER'
finding HTML links ... done
acceptor.m html
addEnsemblAnnotation html
callPrimer3 html
checkPrimer html
compatible_cds html
compatible_tx html
donor.m html
eventOutcomeCompare html
eventOutcomeTranslate html
eventPlot html
extendROI html
extractSpliceEvents html
extractSpliceSites html
findCompatibleEvents html
findCompatibleExon html
findExactOverlaps html
findTX html
findTermination html
getPCRsizes html
getRegionDNA html
insertRegion html
makeROI html
makeUniqueIDs html
matchExons html
metaremove html
pcr_result1 html
plot_seqlogo html
primers html
psiPlot html
region_minus_exon html
removeRegion html
remvalue html
roi html
shapiroAcceptor html
shapiroDensity html
shapiroDonor html
splice_data html
splice_fasta html
splitPCRhit html
thecds html
theexons html
valid_cds html
valid_tx html
** building package indices
** installing vignettes
** testing if installed package can be loaded
In R CMD INSTALL
install for x64
* installing *source* package 'SPLINTER' ...
** testing if installed package can be loaded
* MD5 sums
packaged installation of 'SPLINTER' as SPLINTER_1.6.0.zip
* DONE (SPLINTER)
In R CMD INSTALL
In R CMD INSTALL