| Back to Multiple platform build/check report for BioC 3.7 |
|
This page was generated on 2018-10-17 08:45:49 -0400 (Wed, 17 Oct 2018).
| Package 1179/1561 | Hostname | OS / Arch | INSTALL | BUILD | CHECK | BUILD BIN | ||||||
| RandomWalkRestartMH 1.0.0 Alberto Valdeolivas Urbelz
| malbec2 | Linux (Ubuntu 16.04.1 LTS) / x86_64 | OK | OK | OK | |||||||
| tokay2 | Windows Server 2012 R2 Standard / x64 | [ OK ] | OK | OK | OK | |||||||
| merida2 | OS X 10.11.6 El Capitan / x86_64 | OK | OK | OK | OK |
| Package: RandomWalkRestartMH |
| Version: 1.0.0 |
| Command: C:\cygwin\bin\curl.exe -O https://malbec2.bioconductor.org/BBS/3.7/bioc/src/contrib/RandomWalkRestartMH_1.0.0.tar.gz && rm -rf RandomWalkRestartMH.buildbin-libdir && mkdir RandomWalkRestartMH.buildbin-libdir && C:\Users\biocbuild\bbs-3.7-bioc\R\bin\R.exe CMD INSTALL --merge-multiarch --build --library=RandomWalkRestartMH.buildbin-libdir RandomWalkRestartMH_1.0.0.tar.gz && C:\Users\biocbuild\bbs-3.7-bioc\R\bin\R.exe CMD INSTALL RandomWalkRestartMH_1.0.0.zip && rm RandomWalkRestartMH_1.0.0.tar.gz RandomWalkRestartMH_1.0.0.zip |
| StartedAt: 2018-10-16 19:46:53 -0400 (Tue, 16 Oct 2018) |
| EndedAt: 2018-10-16 19:47:40 -0400 (Tue, 16 Oct 2018) |
| EllapsedTime: 46.9 seconds |
| RetCode: 0 |
| Status: OK |
##############################################################################
##############################################################################
###
### Running command:
###
### C:\cygwin\bin\curl.exe -O https://malbec2.bioconductor.org/BBS/3.7/bioc/src/contrib/RandomWalkRestartMH_1.0.0.tar.gz && rm -rf RandomWalkRestartMH.buildbin-libdir && mkdir RandomWalkRestartMH.buildbin-libdir && C:\Users\biocbuild\bbs-3.7-bioc\R\bin\R.exe CMD INSTALL --merge-multiarch --build --library=RandomWalkRestartMH.buildbin-libdir RandomWalkRestartMH_1.0.0.tar.gz && C:\Users\biocbuild\bbs-3.7-bioc\R\bin\R.exe CMD INSTALL RandomWalkRestartMH_1.0.0.zip && rm RandomWalkRestartMH_1.0.0.tar.gz RandomWalkRestartMH_1.0.0.zip
###
##############################################################################
##############################################################################
% Total % Received % Xferd Average Speed Time Time Time Current
Dload Upload Total Spent Left Speed
0 0 0 0 0 0 0 0 --:--:-- --:--:-- --:--:-- 0
100 394k 100 394k 0 0 5781k 0 --:--:-- --:--:-- --:--:-- 6362k
install for i386
* installing *source* package 'RandomWalkRestartMH' ...
** R
** data
*** moving datasets to lazyload DB
** byte-compile and prepare package for lazy loading
** help
*** installing help indices
converting help for package 'RandomWalkRestartMH'
finding HTML links ... done
Disease_Network html
GeneDiseaseRelations html
PPI_Network html
Pathway_Network html
Random.Walk.Restart.Multiplex html
Random.Walk.Restart.MultiplexHet html
compute.adjacency.matrix html
compute.transition.matrix html
create.multiplex html
create.multiplexHet html
create.multiplexHetNetwork.topResults html
create.multiplexNetwork.topResults html
isMultiplex html
isMultiplexHet html
isRWRMH_Results html
isRWRM_Results html
normalize.multiplex.adjacency html
** building package indices
** installing vignettes
** testing if installed package can be loaded
In R CMD INSTALL
install for x64
* installing *source* package 'RandomWalkRestartMH' ...
** testing if installed package can be loaded
* MD5 sums
packaged installation of 'RandomWalkRestartMH' as RandomWalkRestartMH_1.0.0.zip
* DONE (RandomWalkRestartMH)
In R CMD INSTALL
In R CMD INSTALL
* installing to library 'C:/Users/biocbuild/bbs-3.7-bioc/R/library'
package 'RandomWalkRestartMH' successfully unpacked and MD5 sums checked
In R CMD INSTALL