| Back to Multiple platform build/check report for BioC 3.7 |
|
This page was generated on 2018-10-17 08:43:48 -0400 (Wed, 17 Oct 2018).
| Package 1174/1561 | Hostname | OS / Arch | INSTALL | BUILD | CHECK | BUILD BIN | ||||||
| RaggedExperiment 1.4.0 Martin Morgan
| malbec2 | Linux (Ubuntu 16.04.1 LTS) / x86_64 | OK | OK | OK | |||||||
| tokay2 | Windows Server 2012 R2 Standard / x64 | OK | OK | WARNINGS | [ OK ] | |||||||
| merida2 | OS X 10.11.6 El Capitan / x86_64 | OK | OK | OK | OK |
| Package: RaggedExperiment |
| Version: 1.4.0 |
| Command: rm -rf RaggedExperiment.buildbin-libdir && mkdir RaggedExperiment.buildbin-libdir && C:\Users\biocbuild\bbs-3.7-bioc\R\bin\R.exe CMD INSTALL --merge-multiarch --build --library=RaggedExperiment.buildbin-libdir RaggedExperiment_1.4.0.tar.gz |
| StartedAt: 2018-10-17 06:50:37 -0400 (Wed, 17 Oct 2018) |
| EndedAt: 2018-10-17 06:51:03 -0400 (Wed, 17 Oct 2018) |
| EllapsedTime: 25.9 seconds |
| RetCode: 0 |
| Status: OK |
| PackageFile: RaggedExperiment_1.4.0.zip |
| PackageFileSize: 840.2 KiB |
##############################################################################
##############################################################################
###
### Running command:
###
### rm -rf RaggedExperiment.buildbin-libdir && mkdir RaggedExperiment.buildbin-libdir && C:\Users\biocbuild\bbs-3.7-bioc\R\bin\R.exe CMD INSTALL --merge-multiarch --build --library=RaggedExperiment.buildbin-libdir RaggedExperiment_1.4.0.tar.gz
###
##############################################################################
##############################################################################
install for i386
* installing *source* package 'RaggedExperiment' ...
** R
** inst
** byte-compile and prepare package for lazy loading
** help
*** installing help indices
converting help for package 'RaggedExperiment'
finding HTML links ... done
RaggedExperiment-class html
finding level-2 HTML links ... done
Rd warning: C:/Users/biocbuild/bbs-3.7-bioc/tmpdir/Rtmpq8IZgM/R.INSTALL12a834093014/RaggedExperiment/man/RaggedExperiment-class.Rd:88: file link 'DataFrame' in package 'S4Vectors' does not exist and so has been treated as a topic
Rd warning: C:/Users/biocbuild/bbs-3.7-bioc/tmpdir/Rtmpq8IZgM/R.INSTALL12a834093014/RaggedExperiment/man/RaggedExperiment-class.Rd:309: file link 'SimpleList' in package 'S4Vectors' does not exist and so has been treated as a topic
Rd warning: C:/Users/biocbuild/bbs-3.7-bioc/tmpdir/Rtmpq8IZgM/R.INSTALL12a834093014/RaggedExperiment/man/RaggedExperiment-class.Rd:323: file link 'DataFrame' in package 'S4Vectors' does not exist and so has been treated as a topic
RaggedExperiment-package html
assay-functions html
coerce-functions html
** building package indices
** installing vignettes
** testing if installed package can be loaded
In R CMD INSTALL
install for x64
* installing *source* package 'RaggedExperiment' ...
** testing if installed package can be loaded
* MD5 sums
packaged installation of 'RaggedExperiment' as RaggedExperiment_1.4.0.zip
* DONE (RaggedExperiment)
In R CMD INSTALL
In R CMD INSTALL