| Back to Multiple platform build/check report for BioC 3.7 |
|
This page was generated on 2018-10-17 08:34:25 -0400 (Wed, 17 Oct 2018).
| Package 1288/1561 | Hostname | OS / Arch | INSTALL | BUILD | CHECK | BUILD BIN | ||||||
| RTCA 1.32.0 Jitao David Zhang
| malbec2 | Linux (Ubuntu 16.04.1 LTS) / x86_64 | OK | OK | OK | |||||||
| tokay2 | Windows Server 2012 R2 Standard / x64 | OK | OK | OK | [ OK ] | |||||||
| merida2 | OS X 10.11.6 El Capitan / x86_64 | OK | OK | OK | OK |
| Package: RTCA |
| Version: 1.32.0 |
| Command: rm -rf RTCA.buildbin-libdir && mkdir RTCA.buildbin-libdir && C:\Users\biocbuild\bbs-3.7-bioc\R\bin\R.exe CMD INSTALL --merge-multiarch --build --library=RTCA.buildbin-libdir RTCA_1.32.0.tar.gz |
| StartedAt: 2018-10-17 06:55:55 -0400 (Wed, 17 Oct 2018) |
| EndedAt: 2018-10-17 06:56:05 -0400 (Wed, 17 Oct 2018) |
| EllapsedTime: 10.0 seconds |
| RetCode: 0 |
| Status: OK |
| PackageFile: RTCA_1.32.0.zip |
| PackageFileSize: 649.6 KiB |
##############################################################################
##############################################################################
###
### Running command:
###
### rm -rf RTCA.buildbin-libdir && mkdir RTCA.buildbin-libdir && C:\Users\biocbuild\bbs-3.7-bioc\R\bin\R.exe CMD INSTALL --merge-multiarch --build --library=RTCA.buildbin-libdir RTCA_1.32.0.tar.gz
###
##############################################################################
##############################################################################
install for i386
* installing *source* package 'RTCA' ...
** R
** inst
** byte-compile and prepare package for lazy loading
** help
*** installing help indices
converting help for package 'RTCA'
finding HTML links ... done
RTCA-class html
finding level-2 HTML links ... done
RTCAtimeline-class html
alphaNames html
combineRTCA html
controlView html
derivativeTransform html
factor2numeric html
interpolationTransform html
nearestTimeIndex html
parseRTCA html
plateView html
plotGridEffect html
ratioTransform html
rgrTransform html
sliceRTCA html
smoothTransform html
spectramaxImport html
** building package indices
** installing vignettes
** testing if installed package can be loaded
In R CMD INSTALL
install for x64
* installing *source* package 'RTCA' ...
** testing if installed package can be loaded
* MD5 sums
packaged installation of 'RTCA' as RTCA_1.32.0.zip
* DONE (RTCA)
In R CMD INSTALL
In R CMD INSTALL