| Back to Multiple platform build/check report for BioC 3.7 |
|
This page was generated on 2018-10-17 08:40:24 -0400 (Wed, 17 Oct 2018).
| Package 1202/1561 | Hostname | OS / Arch | INSTALL | BUILD | CHECK | BUILD BIN | ||||||
| RCyjs 2.2.2 Paul Shannon
| malbec2 | Linux (Ubuntu 16.04.1 LTS) / x86_64 | OK | OK | OK | |||||||
| tokay2 | Windows Server 2012 R2 Standard / x64 | OK | OK | [ OK ] | OK | |||||||
| merida2 | OS X 10.11.6 El Capitan / x86_64 | OK | OK | OK | OK |
| Package: RCyjs |
| Version: 2.2.2 |
| Command: C:\Users\biocbuild\bbs-3.7-bioc\R\bin\R.exe CMD check --force-multiarch --install=check:RCyjs.install-out.txt --library=C:\Users\biocbuild\bbs-3.7-bioc\R\library --no-vignettes --timings RCyjs_2.2.2.tar.gz |
| StartedAt: 2018-10-17 04:17:56 -0400 (Wed, 17 Oct 2018) |
| EndedAt: 2018-10-17 04:19:03 -0400 (Wed, 17 Oct 2018) |
| EllapsedTime: 67.5 seconds |
| RetCode: 0 |
| Status: OK |
| CheckDir: RCyjs.Rcheck |
| Warnings: 0 |
############################################################################## ############################################################################## ### ### Running command: ### ### C:\Users\biocbuild\bbs-3.7-bioc\R\bin\R.exe CMD check --force-multiarch --install=check:RCyjs.install-out.txt --library=C:\Users\biocbuild\bbs-3.7-bioc\R\library --no-vignettes --timings RCyjs_2.2.2.tar.gz ### ############################################################################## ############################################################################## * using log directory 'C:/Users/biocbuild/bbs-3.7-bioc/meat/RCyjs.Rcheck' * using R version 3.5.1 Patched (2018-07-24 r75005) * using platform: x86_64-w64-mingw32 (64-bit) * using session charset: ISO8859-1 * using option '--no-vignettes' * checking for file 'RCyjs/DESCRIPTION' ... OK * checking extension type ... Package * this is package 'RCyjs' version '2.2.2' * checking package namespace information ... OK * checking package dependencies ... OK * checking if this is a source package ... OK * checking if there is a namespace ... OK * checking for hidden files and directories ... OK * checking for portable file names ... OK * checking whether package 'RCyjs' can be installed ... OK * checking installed package size ... OK * checking package directory ... OK * checking 'build' directory ... OK * checking DESCRIPTION meta-information ... OK * checking top-level files ... OK * checking for left-over files ... OK * checking index information ... OK * checking package subdirectories ... OK * checking R files for non-ASCII characters ... OK * checking R files for syntax errors ... OK * loading checks for arch 'i386' ** checking whether the package can be loaded ... OK ** checking whether the package can be loaded with stated dependencies ... OK ** checking whether the package can be unloaded cleanly ... OK ** checking whether the namespace can be loaded with stated dependencies ... OK ** checking whether the namespace can be unloaded cleanly ... OK * loading checks for arch 'x64' ** checking whether the package can be loaded ... OK ** checking whether the package can be loaded with stated dependencies ... OK ** checking whether the package can be unloaded cleanly ... OK ** checking whether the namespace can be loaded with stated dependencies ... OK ** checking whether the namespace can be unloaded cleanly ... OK * checking dependencies in R code ... OK * checking S3 generic/method consistency ... OK * checking replacement functions ... OK * checking foreign function calls ... OK * checking R code for possible problems ... OK * checking Rd files ... OK * checking Rd metadata ... OK * checking Rd cross-references ... OK * checking for missing documentation entries ... OK * checking for code/documentation mismatches ... OK * checking Rd \usage sections ... OK * checking Rd contents ... OK * checking for unstated dependencies in examples ... OK * checking include directives in Makefiles ... OK * checking installed files from 'inst/doc' ... OK * checking files in 'vignettes' ... OK * checking examples ... ** running examples for arch 'i386' ... OK ** running examples for arch 'x64' ... OK * checking for unstated dependencies in 'tests' ... OK * checking tests ... ** running tests for arch 'i386' ... Running 'runTests.R' OK ** running tests for arch 'x64' ... Running 'runTests.R' OK * checking for unstated dependencies in vignettes ... OK * checking package vignettes in 'inst/doc' ... OK * checking running R code from vignettes ... SKIPPED * checking re-building of vignette outputs ... SKIPPED * checking PDF version of manual ... OK * DONE Status: OK
RCyjs.Rcheck/00install.out
##############################################################################
##############################################################################
###
### Running command:
###
### C:\cygwin\bin\curl.exe -O https://malbec2.bioconductor.org/BBS/3.7/bioc/src/contrib/RCyjs_2.2.2.tar.gz && rm -rf RCyjs.buildbin-libdir && mkdir RCyjs.buildbin-libdir && C:\Users\biocbuild\bbs-3.7-bioc\R\bin\R.exe CMD INSTALL --merge-multiarch --build --library=RCyjs.buildbin-libdir RCyjs_2.2.2.tar.gz && C:\Users\biocbuild\bbs-3.7-bioc\R\bin\R.exe CMD INSTALL RCyjs_2.2.2.zip && rm RCyjs_2.2.2.tar.gz RCyjs_2.2.2.zip
###
##############################################################################
##############################################################################
% Total % Received % Xferd Average Speed Time Time Time Current
Dload Upload Total Spent Left Speed
0 0 0 0 0 0 0 0 --:--:-- --:--:-- --:--:-- 0
100 1647k 100 1647k 0 0 22.3M 0 --:--:-- --:--:-- --:--:-- 24.7M
install for i386
* installing *source* package 'RCyjs' ...
** R
** inst
** byte-compile and prepare package for lazy loading
Creating a new generic function for 'layout' in package 'RCyjs'
** help
*** installing help indices
converting help for package 'RCyjs'
finding HTML links ... done
RCyjs-class html
addGraph html
addGraphFromFile html
clearSelection html
createTestGaph html
deleteGraph html
deleteSelectedNodes html
eda html
edaNames html
fit html
fitSelection html
getEdgeCount html
getJSON html
getLayoutStrategies html
getNodeCount html
getNodes html
getPosition html
getSelectedNodes html
getSupportedEdgeDecoratorShapes html
getSupportedNodeShapes html
getZoom html
hAlign html
hideAllEdges html
hideEdges html
hideSelectedNodes html
invertNodeSelection html
layout html
layoutSelectionInGrid html
layoutSelectionInGridInferAnchorm html
loadStyleFile html
noa html
noaNames html
redraw html
restoreLayout html
saveJPG html
saveLayout html
savePNG html
selectFirstNeighborsOfSelectedNodes html
selectNodes html
setBackgroundColor html
setDefaultEdgeColor html
setDefaultEdgeLineColor html
setDefaultEdgeLineStyle html
setDefaultEdgeSourceArrowColor html
setDefaultEdgeSourceArrowShape html
setDefaultEdgeTargetArrowColor html
setDefaultEdgeTargetArrowShape html
setDefaultEdgeWidth html
setDefaultNodeBorderColor html
setDefaultNodeBorderWidth html
setDefaultNodeColor html
setDefaultNodeFontColor html
setDefaultNodeFontSize html
setDefaultNodeHeight html
setDefaultNodeShape html
setDefaultNodeSize html
setDefaultNodeWidth html
setDefaultStyle html
setEdgeAttributes html
setEdgeStyle html
setGraph html
setNodeAttributes html
setNodeBorderColor html
setNodeBorderWidth html
setNodeColor html
setNodeColorRule html
setNodeFontColor html
setNodeFontSize html
setNodeHeight html
setNodeLabelAlignment html
setNodeLabelRule html
setNodeShape html
setNodeSize html
setNodeSizeRule html
setNodeWidth html
setPosition html
setZoom html
sfn html
showAll html
showEdges html
simpleDemoGraph html
vAlign html
** building package indices
** installing vignettes
** testing if installed package can be loaded
In R CMD INSTALL
install for x64
* installing *source* package 'RCyjs' ...
** testing if installed package can be loaded
* MD5 sums
packaged installation of 'RCyjs' as RCyjs_2.2.2.zip
* DONE (RCyjs)
In R CMD INSTALL
In R CMD INSTALL
* installing to library 'C:/Users/biocbuild/bbs-3.7-bioc/R/library'
package 'RCyjs' successfully unpacked and MD5 sums checked
In R CMD INSTALL
|
RCyjs.Rcheck/tests_i386/runTests.Rout
R version 3.5.1 Patched (2018-07-24 r75005) -- "Feather Spray"
Copyright (C) 2018 The R Foundation for Statistical Computing
Platform: i386-w64-mingw32/i386 (32-bit)
R is free software and comes with ABSOLUTELY NO WARRANTY.
You are welcome to redistribute it under certain conditions.
Type 'license()' or 'licence()' for distribution details.
R is a collaborative project with many contributors.
Type 'contributors()' for more information and
'citation()' on how to cite R or R packages in publications.
Type 'demo()' for some demos, 'help()' for on-line help, or
'help.start()' for an HTML browser interface to help.
Type 'q()' to quit R.
> # disabled: the bioc build system no longer supports browser use.
> # BiocGenerics:::testPackage("RCyjs")
>
> proc.time()
user system elapsed
0.23 0.06 0.28
|
RCyjs.Rcheck/tests_x64/runTests.Rout
R version 3.5.1 Patched (2018-07-24 r75005) -- "Feather Spray"
Copyright (C) 2018 The R Foundation for Statistical Computing
Platform: x86_64-w64-mingw32/x64 (64-bit)
R is free software and comes with ABSOLUTELY NO WARRANTY.
You are welcome to redistribute it under certain conditions.
Type 'license()' or 'licence()' for distribution details.
R is a collaborative project with many contributors.
Type 'contributors()' for more information and
'citation()' on how to cite R or R packages in publications.
Type 'demo()' for some demos, 'help()' for on-line help, or
'help.start()' for an HTML browser interface to help.
Type 'q()' to quit R.
> # disabled: the bioc build system no longer supports browser use.
> # BiocGenerics:::testPackage("RCyjs")
>
> proc.time()
user system elapsed
0.23 0.03 0.25
|
|
RCyjs.Rcheck/examples_i386/RCyjs-Ex.timings
|
RCyjs.Rcheck/examples_x64/RCyjs-Ex.timings
|