| Back to Multiple platform build/check report for BioC 3.7 |
|
This page was generated on 2018-10-17 08:29:13 -0400 (Wed, 17 Oct 2018).
| Package 1193/1561 | Hostname | OS / Arch | INSTALL | BUILD | CHECK | BUILD BIN | ||||||
| RCAS 1.6.0 Bora Uyar
| malbec2 | Linux (Ubuntu 16.04.1 LTS) / x86_64 | OK | OK | [ OK ] | |||||||
| tokay2 | Windows Server 2012 R2 Standard / x64 | OK | OK | OK | OK | |||||||
| merida2 | OS X 10.11.6 El Capitan / x86_64 | OK | OK | OK | OK |
| Package: RCAS |
| Version: 1.6.0 |
| Command: /home/biocbuild/bbs-3.7-bioc/R/bin/R CMD check --install=check:RCAS.install-out.txt --library=/home/biocbuild/bbs-3.7-bioc/R/library --no-vignettes --timings RCAS_1.6.0.tar.gz |
| StartedAt: 2018-10-16 03:05:27 -0400 (Tue, 16 Oct 2018) |
| EndedAt: 2018-10-16 03:15:41 -0400 (Tue, 16 Oct 2018) |
| EllapsedTime: 614.5 seconds |
| RetCode: 0 |
| Status: OK |
| CheckDir: RCAS.Rcheck |
| Warnings: 0 |
##############################################################################
##############################################################################
###
### Running command:
###
### /home/biocbuild/bbs-3.7-bioc/R/bin/R CMD check --install=check:RCAS.install-out.txt --library=/home/biocbuild/bbs-3.7-bioc/R/library --no-vignettes --timings RCAS_1.6.0.tar.gz
###
##############################################################################
##############################################################################
* using log directory ‘/home/biocbuild/bbs-3.7-bioc/meat/RCAS.Rcheck’
* using R version 3.5.1 Patched (2018-07-12 r74967)
* using platform: x86_64-pc-linux-gnu (64-bit)
* using session charset: UTF-8
* using option ‘--no-vignettes’
* checking for file ‘RCAS/DESCRIPTION’ ... OK
* checking extension type ... Package
* this is package ‘RCAS’ version ‘1.6.0’
* checking package namespace information ... OK
* checking package dependencies ... OK
* checking if this is a source package ... OK
* checking if there is a namespace ... OK
* checking for hidden files and directories ... OK
* checking for portable file names ... OK
* checking for sufficient/correct file permissions ... OK
* checking whether package ‘RCAS’ can be installed ... OK
* checking installed package size ... OK
* checking package directory ... OK
* checking ‘build’ directory ... OK
* checking DESCRIPTION meta-information ... OK
* checking top-level files ... OK
* checking for left-over files ... OK
* checking index information ... OK
* checking package subdirectories ... OK
* checking R files for non-ASCII characters ... OK
* checking R files for syntax errors ... OK
* checking whether the package can be loaded ... OK
* checking whether the package can be loaded with stated dependencies ... OK
* checking whether the package can be unloaded cleanly ... OK
* checking whether the namespace can be loaded with stated dependencies ... OK
* checking whether the namespace can be unloaded cleanly ... OK
* checking dependencies in R code ... NOTE
Namespace in Imports field not imported from: ‘DBI’
All declared Imports should be used.
* checking S3 generic/method consistency ... OK
* checking replacement functions ... OK
* checking foreign function calls ... OK
* checking R code for possible problems ... OK
* checking Rd files ... OK
* checking Rd metadata ... OK
* checking Rd cross-references ... OK
* checking for missing documentation entries ... OK
* checking for code/documentation mismatches ... OK
* checking Rd \usage sections ... OK
* checking Rd contents ... OK
* checking for unstated dependencies in examples ... OK
* checking contents of ‘data’ directory ... OK
* checking data for non-ASCII characters ... OK
* checking data for ASCII and uncompressed saves ... OK
* checking files in ‘vignettes’ ... OK
* checking examples ... OK
Examples with CPU or elapsed time > 5s
user system elapsed
runMotifRG 38.208 3.760 25.070
getMotifSummaryTable 36.392 3.748 24.366
getFeatureBoundaryCoverageMulti 21.216 0.244 21.477
calculateCoverageProfileList 14.672 0.100 14.782
calculateCoverageProfile 13.388 0.192 13.588
summarizeQueryRegionsMulti 12.268 0.324 23.276
calculateCoverageProfileListFromTxdb 12.184 0.116 12.305
summarizeQueryRegions 10.828 0.212 11.049
getTxdbFeaturesFromGRanges 10.660 0.072 10.739
getTxdbFeatures 10.468 0.104 10.577
getTargetedGenesTable 10.224 0.148 10.379
plotFeatureBoundaryCoverage 9.872 0.064 9.946
getFeatureBoundaryCoverageBin 8.444 0.084 8.535
calculateCoverageProfileFromTxdb 8.140 0.040 8.185
getFeatureBoundaryCoverage 7.572 0.208 7.790
createDB 2.264 0.108 12.782
createOrthologousGeneSetList 0.472 0.044 20.132
retrieveOrthologs 0.320 0.000 9.675
* checking for unstated dependencies in ‘tests’ ... OK
* checking tests ...
Running ‘testthat.R’
OK
* checking for unstated dependencies in vignettes ... OK
* checking package vignettes in ‘inst/doc’ ... OK
* checking running R code from vignettes ... SKIPPED
* checking re-building of vignette outputs ... SKIPPED
* checking PDF version of manual ... OK
* DONE
Status: 1 NOTE
See
‘/home/biocbuild/bbs-3.7-bioc/meat/RCAS.Rcheck/00check.log’
for details.
RCAS.Rcheck/00install.out
############################################################################## ############################################################################## ### ### Running command: ### ### /home/biocbuild/bbs-3.7-bioc/R/bin/R CMD INSTALL RCAS ### ############################################################################## ############################################################################## * installing to library ‘/home/biocbuild/bbs-3.7-bioc/R/library’ * installing *source* package ‘RCAS’ ... ** R ** data *** moving datasets to lazyload DB ** inst ** byte-compile and prepare package for lazy loading groupGOTerms: GOBPTerm, GOMFTerm, GOCCTerm environments built. ** help *** installing help indices ** building package indices ** installing vignettes ** testing if installed package can be loaded groupGOTerms: GOBPTerm, GOMFTerm, GOCCTerm environments built. * DONE (RCAS)
RCAS.Rcheck/tests/testthat.Rout
R version 3.5.1 Patched (2018-07-12 r74967) -- "Feather Spray"
Copyright (C) 2018 The R Foundation for Statistical Computing
Platform: x86_64-pc-linux-gnu (64-bit)
R is free software and comes with ABSOLUTELY NO WARRANTY.
You are welcome to redistribute it under certain conditions.
Type 'license()' or 'licence()' for distribution details.
R is a collaborative project with many contributors.
Type 'contributors()' for more information and
'citation()' on how to cite R or R packages in publications.
Type 'demo()' for some demos, 'help()' for on-line help, or
'help.start()' for an HTML browser interface to help.
Type 'q()' to quit R.
> library(testthat)
> library(RCAS)
Loading required package: plotly
Loading required package: ggplot2
Attaching package: 'plotly'
The following object is masked from 'package:ggplot2':
last_plot
The following object is masked from 'package:stats':
filter
The following object is masked from 'package:graphics':
layout
Loading required package: DT
Loading required package: data.table
Loading required package: topGO
Loading required package: BiocGenerics
Loading required package: parallel
Attaching package: 'BiocGenerics'
The following objects are masked from 'package:parallel':
clusterApply, clusterApplyLB, clusterCall, clusterEvalQ,
clusterExport, clusterMap, parApply, parCapply, parLapply,
parLapplyLB, parRapply, parSapply, parSapplyLB
The following objects are masked from 'package:stats':
IQR, mad, sd, var, xtabs
The following objects are masked from 'package:base':
Filter, Find, Map, Position, Reduce, anyDuplicated, append,
as.data.frame, basename, cbind, colMeans, colSums, colnames,
dirname, do.call, duplicated, eval, evalq, get, grep, grepl,
intersect, is.unsorted, lapply, lengths, mapply, match, mget,
order, paste, pmax, pmax.int, pmin, pmin.int, rank, rbind,
rowMeans, rowSums, rownames, sapply, setdiff, sort, table, tapply,
union, unique, unsplit, which, which.max, which.min
Loading required package: graph
Loading required package: Biobase
Welcome to Bioconductor
Vignettes contain introductory material; view with
'browseVignettes()'. To cite Bioconductor, see
'citation("Biobase")', and for packages 'citation("pkgname")'.
Loading required package: GO.db
Loading required package: AnnotationDbi
Loading required package: stats4
Loading required package: IRanges
Loading required package: S4Vectors
Attaching package: 'S4Vectors'
The following objects are masked from 'package:data.table':
first, second
The following object is masked from 'package:plotly':
rename
The following object is masked from 'package:base':
expand.grid
Attaching package: 'IRanges'
The following object is masked from 'package:data.table':
shift
The following object is masked from 'package:plotly':
slice
Attaching package: 'AnnotationDbi'
The following object is masked from 'package:plotly':
select
Loading required package: SparseM
Attaching package: 'SparseM'
The following object is masked from 'package:base':
backsolve
groupGOTerms: GOBPTerm, GOMFTerm, GOCCTerm environments built.
Attaching package: 'topGO'
The following object is masked from 'package:IRanges':
members
Loading required package: motifRG
Loading required package: Biostrings
Loading required package: XVector
Attaching package: 'Biostrings'
The following object is masked from 'package:graph':
complement
The following object is masked from 'package:base':
strsplit
Loading required package: seqLogo
Loading required package: grid
Attaching package: 'grid'
The following object is masked from 'package:topGO':
depth
Loading required package: BSgenome
Loading required package: GenomeInfoDb
Loading required package: GenomicRanges
Loading required package: rtracklayer
Attaching package: 'rtracklayer'
The following object is masked from 'package:plotly':
export
Loading required package: BSgenome.Hsapiens.UCSC.hg19
>
> test_check("RCAS")
GAAGAA 3.915171e-06
Skip pattern ATTTTT
Refine GAAGAA 11.58469 : 12.11607 11.77742 11.24305 10.62339 12.51464 TRUE 623 238 566 223
New motif: GAAGAA
══ testthat results ═══════════════════════════════════════════════════════════
OK: 102 SKIPPED: 0 FAILED: 0
>
> proc.time()
user system elapsed
91.084 4.132 119.384
RCAS.Rcheck/RCAS-Ex.timings
| name | user | system | elapsed | |
| calculateCoverageProfile | 13.388 | 0.192 | 13.588 | |
| calculateCoverageProfileFromTxdb | 8.140 | 0.040 | 8.185 | |
| calculateCoverageProfileList | 14.672 | 0.100 | 14.782 | |
| calculateCoverageProfileListFromTxdb | 12.184 | 0.116 | 12.305 | |
| createControlRegions | 0.236 | 0.000 | 0.238 | |
| createDB | 2.264 | 0.108 | 12.782 | |
| createOrthologousGeneSetList | 0.472 | 0.044 | 20.132 | |
| discoverFeatureSpecificMotifs | 0.004 | 0.000 | 0.001 | |
| extractSequences | 1.112 | 0.096 | 1.211 | |
| getFeatureBoundaryCoverage | 7.572 | 0.208 | 7.790 | |
| getFeatureBoundaryCoverageBin | 8.444 | 0.084 | 8.535 | |
| getFeatureBoundaryCoverageMulti | 21.216 | 0.244 | 21.477 | |
| getIntervalOverlapMatrix | 1.048 | 0.144 | 1.407 | |
| getMotifSummaryTable | 36.392 | 3.748 | 24.366 | |
| getTargetedGenesTable | 10.224 | 0.148 | 10.379 | |
| getTxdbFeatures | 10.468 | 0.104 | 10.577 | |
| getTxdbFeaturesFromGRanges | 10.660 | 0.072 | 10.739 | |
| importBed | 0.188 | 0.008 | 0.194 | |
| importBedFiles | 0.820 | 0.020 | 0.839 | |
| importGtf | 0.000 | 0.000 | 0.001 | |
| parseMsigdb | 0.004 | 0.000 | 0.016 | |
| plotFeatureBoundaryCoverage | 9.872 | 0.064 | 9.946 | |
| printMsigdbDataset | 0.044 | 0.004 | 0.047 | |
| queryGff | 0.500 | 0.024 | 0.527 | |
| retrieveOrthologs | 0.320 | 0.000 | 9.675 | |
| runGSEA | 1.096 | 0.048 | 1.146 | |
| runMotifRG | 38.208 | 3.760 | 25.070 | |
| runReport | 0.000 | 0.000 | 0.002 | |
| runReportMetaAnalysis | 1.196 | 0.576 | 2.059 | |
| runTopGO | 0.000 | 0.000 | 0.001 | |
| summarizeQueryRegions | 10.828 | 0.212 | 11.049 | |
| summarizeQueryRegionsMulti | 12.268 | 0.324 | 23.276 | |