| Back to Multiple platform build/check report for BioC 3.7 |
|
This page was generated on 2018-10-17 08:43:01 -0400 (Wed, 17 Oct 2018).
| Package 1060/1561 | Hostname | OS / Arch | INSTALL | BUILD | CHECK | BUILD BIN | ||||||
| PathoStat 1.6.1 Solaiappan Manimaran
| malbec2 | Linux (Ubuntu 16.04.1 LTS) / x86_64 | OK | OK | OK | |||||||
| tokay2 | Windows Server 2012 R2 Standard / x64 | [ OK ] | OK | OK | OK | |||||||
| merida2 | OS X 10.11.6 El Capitan / x86_64 | OK | OK | OK | OK |
| Package: PathoStat |
| Version: 1.6.1 |
| Command: C:\cygwin\bin\curl.exe -O https://malbec2.bioconductor.org/BBS/3.7/bioc/src/contrib/PathoStat_1.6.1.tar.gz && rm -rf PathoStat.buildbin-libdir && mkdir PathoStat.buildbin-libdir && C:\Users\biocbuild\bbs-3.7-bioc\R\bin\R.exe CMD INSTALL --merge-multiarch --build --library=PathoStat.buildbin-libdir PathoStat_1.6.1.tar.gz && C:\Users\biocbuild\bbs-3.7-bioc\R\bin\R.exe CMD INSTALL PathoStat_1.6.1.zip && rm PathoStat_1.6.1.tar.gz PathoStat_1.6.1.zip |
| StartedAt: 2018-10-16 20:38:53 -0400 (Tue, 16 Oct 2018) |
| EndedAt: 2018-10-16 20:40:21 -0400 (Tue, 16 Oct 2018) |
| EllapsedTime: 87.7 seconds |
| RetCode: 0 |
| Status: OK |
##############################################################################
##############################################################################
###
### Running command:
###
### C:\cygwin\bin\curl.exe -O https://malbec2.bioconductor.org/BBS/3.7/bioc/src/contrib/PathoStat_1.6.1.tar.gz && rm -rf PathoStat.buildbin-libdir && mkdir PathoStat.buildbin-libdir && C:\Users\biocbuild\bbs-3.7-bioc\R\bin\R.exe CMD INSTALL --merge-multiarch --build --library=PathoStat.buildbin-libdir PathoStat_1.6.1.tar.gz && C:\Users\biocbuild\bbs-3.7-bioc\R\bin\R.exe CMD INSTALL PathoStat_1.6.1.zip && rm PathoStat_1.6.1.tar.gz PathoStat_1.6.1.zip
###
##############################################################################
##############################################################################
% Total % Received % Xferd Average Speed Time Time Time Current
Dload Upload Total Spent Left Speed
0 0 0 0 0 0 0 0 --:--:-- --:--:-- --:--:-- 0
100 977k 100 977k 0 0 14.4M 0 --:--:-- --:--:-- --:--:-- 15.9M
install for i386
* installing *source* package 'PathoStat' ...
** R
** data
** inst
** byte-compile and prepare package for lazy loading
** help
*** installing help indices
converting help for package 'PathoStat'
finding HTML links ... done
Bootstrap_LOOCV_LR_AUC html
Chisq_Test_Pam html
Fisher_Test_Pam html
GET_PAM html
LOOAUC_simple_multiple_noplot_one_df html
LOOAUC_simple_multiple_one_df html
PathoStat-class html
TranslateIdToTaxLevel html
Wilcox_Test_df html
findRAfromCount html
findTaxonMat html
findTaxonomy html
formatTaxTable html
getShinyInput html
getShinyInputCombat html
getShinyInputOrig html
getSignatureFromMultipleGlmnet html
grepTid html
loadPathoscopeReports html
loadPstat html
log2CPM html
percent html
phyloseq_to_edgeR html
plotHeatmapColor html
plotPCAPlotly html
plotPCoAPlotly html
pstat_data html
readPathoscopeData html
runPathoStat html
savePstat html
setShinyInput html
setShinyInputCombat html
setShinyInputOrig html
summarizeTable html
** building package indices
** installing vignettes
** testing if installed package can be loaded
In R CMD INSTALL
install for x64
* installing *source* package 'PathoStat' ...
** testing if installed package can be loaded
* MD5 sums
packaged installation of 'PathoStat' as PathoStat_1.6.1.zip
* DONE (PathoStat)
In R CMD INSTALL
In R CMD INSTALL
* installing to library 'C:/Users/biocbuild/bbs-3.7-bioc/R/library'
package 'PathoStat' successfully unpacked and MD5 sums checked
In R CMD INSTALL