| Back to Multiple platform build/check report for BioC 3.7 |
|
This page was generated on 2018-10-17 08:30:33 -0400 (Wed, 17 Oct 2018).
| Package 1023/1561 | Hostname | OS / Arch | INSTALL | BUILD | CHECK | BUILD BIN | ||||||
| Onassis 1.2.7 Eugenia Galeota
| malbec2 | Linux (Ubuntu 16.04.1 LTS) / x86_64 | OK | OK | [ OK ] | |||||||
| tokay2 | Windows Server 2012 R2 Standard / x64 | OK | OK | OK | OK | |||||||
| merida2 | OS X 10.11.6 El Capitan / x86_64 | OK | OK | OK | OK |
| Package: Onassis |
| Version: 1.2.7 |
| Command: /home/biocbuild/bbs-3.7-bioc/R/bin/R CMD check --install=check:Onassis.install-out.txt --library=/home/biocbuild/bbs-3.7-bioc/R/library --no-vignettes --timings Onassis_1.2.7.tar.gz |
| StartedAt: 2018-10-16 02:26:57 -0400 (Tue, 16 Oct 2018) |
| EndedAt: 2018-10-16 02:29:04 -0400 (Tue, 16 Oct 2018) |
| EllapsedTime: 127.8 seconds |
| RetCode: 0 |
| Status: OK |
| CheckDir: Onassis.Rcheck |
| Warnings: 0 |
##############################################################################
##############################################################################
###
### Running command:
###
### /home/biocbuild/bbs-3.7-bioc/R/bin/R CMD check --install=check:Onassis.install-out.txt --library=/home/biocbuild/bbs-3.7-bioc/R/library --no-vignettes --timings Onassis_1.2.7.tar.gz
###
##############################################################################
##############################################################################
* using log directory ‘/home/biocbuild/bbs-3.7-bioc/meat/Onassis.Rcheck’
* using R version 3.5.1 Patched (2018-07-12 r74967)
* using platform: x86_64-pc-linux-gnu (64-bit)
* using session charset: UTF-8
* using option ‘--no-vignettes’
* checking for file ‘Onassis/DESCRIPTION’ ... OK
* this is package ‘Onassis’ version ‘1.2.7’
* package encoding: UTF-8
* checking package namespace information ... OK
* checking package dependencies ... OK
* checking if this is a source package ... OK
* checking if there is a namespace ... OK
* checking for hidden files and directories ... OK
* checking for portable file names ... OK
* checking for sufficient/correct file permissions ... OK
* checking whether package ‘Onassis’ can be installed ... OK
* checking installed package size ... OK
* checking package directory ... OK
* checking ‘build’ directory ... OK
* checking DESCRIPTION meta-information ... OK
* checking top-level files ... OK
* checking for left-over files ... OK
* checking index information ... OK
* checking package subdirectories ... OK
* checking R files for non-ASCII characters ... OK
* checking R files for syntax errors ... OK
* checking whether the package can be loaded ... OK
* checking whether the package can be loaded with stated dependencies ... OK
* checking whether the package can be unloaded cleanly ... OK
* checking whether the namespace can be loaded with stated dependencies ... OK
* checking whether the namespace can be unloaded cleanly ... OK
* checking dependencies in R code ... NOTE
':::' call which should be '::': ‘tools:::file_path_as_absolute’
See the note in ?`:::` about the use of this operator.
* checking S3 generic/method consistency ... OK
* checking replacement functions ... OK
* checking foreign function calls ... OK
* checking R code for possible problems ... NOTE
annotate,data.frame-character-character: no visible binding for global
variable ‘sample_id’
annotateDF,EntityFinder-data.frame-character-CMoptions: no visible
binding for global variable ‘ID’
annotateDF,EntityFinder-data.frame-character-CMoptions: no visible
binding for global variable ‘NEW’
Undefined global functions or variables:
ID NEW sample_id
* checking Rd files ... OK
* checking Rd metadata ... OK
* checking Rd cross-references ... OK
* checking for missing documentation entries ... OK
* checking for code/documentation mismatches ... OK
* checking Rd \usage sections ... OK
* checking Rd contents ... OK
* checking for unstated dependencies in examples ... OK
* checking files in ‘vignettes’ ... OK
* checking examples ... OK
Examples with CPU or elapsed time > 5s
user system elapsed
semanticdifference 28.656 0.416 29.188
EntityFinder 14.832 0.508 5.408
collapse 5.904 0.412 2.466
* checking for unstated dependencies in vignettes ... OK
* checking package vignettes in ‘inst/doc’ ... OK
* checking running R code from vignettes ... SKIPPED
* checking re-building of vignette outputs ... SKIPPED
* checking PDF version of manual ... OK
* DONE
Status: 2 NOTEs
See
‘/home/biocbuild/bbs-3.7-bioc/meat/Onassis.Rcheck/00check.log’
for details.
Onassis.Rcheck/00install.out
############################################################################## ############################################################################## ### ### Running command: ### ### /home/biocbuild/bbs-3.7-bioc/R/bin/R CMD INSTALL Onassis ### ############################################################################## ############################################################################## * installing to library ‘/home/biocbuild/bbs-3.7-bioc/R/library’ * installing *source* package ‘Onassis’ ... ** R ** inst ** byte-compile and prepare package for lazy loading ** help *** installing help indices ** building package indices ** installing vignettes ** testing if installed package can be loaded * DONE (Onassis)
Onassis.Rcheck/Onassis-Ex.timings
| name | user | system | elapsed | |
| CMdictionary-class | 0.000 | 0.000 | 0.002 | |
| CMdictionary | 0.004 | 0.000 | 0.000 | |
| CMoptions-class | 0.004 | 0.004 | 0.025 | |
| CMoptions | 0.004 | 0.000 | 0.005 | |
| CaseMatch | 0.012 | 0.004 | 0.015 | |
| EntityFinder-class | 0.076 | 0.008 | 0.140 | |
| EntityFinder | 14.832 | 0.508 | 5.408 | |
| FindAllMatches | 0.036 | 0.000 | 0.019 | |
| GEOHandler-functions | 0.000 | 0.000 | 0.002 | |
| Onassis | 0.004 | 0.000 | 0.002 | |
| OrderIndependentLookup | 0.040 | 0.000 | 0.019 | |
| SearchStrategy | 0.036 | 0.000 | 0.020 | |
| Similarity-class | 0.076 | 0.000 | 0.043 | |
| Similarity | 1.436 | 0.068 | 0.577 | |
| Stemmer | 0.020 | 0.000 | 0.018 | |
| StopWords | 0.012 | 0.004 | 0.017 | |
| SynonymType | 0.016 | 0.000 | 0.018 | |
| annotate | 3.880 | 0.164 | 1.528 | |
| annotateDF | 2.188 | 0.064 | 0.560 | |
| annotateTissueDisease | 0.000 | 0.000 | 0.002 | |
| collapse | 5.904 | 0.412 | 2.466 | |
| compare | 3.692 | 0.224 | 1.425 | |
| createScoreMatrix | 2.196 | 0.016 | 2.218 | |
| dictInfo | 0.004 | 0.000 | 0.001 | |
| dictRef | 0.004 | 0.000 | 0.003 | |
| dictTypes | 0.000 | 0.000 | 0.002 | |
| dict_location | 0.000 | 0.000 | 0.001 | |
| dictionary | 0.004 | 0.000 | 0.002 | |
| entities | 0.000 | 0.000 | 0.002 | |
| experiment_types | 0 | 0 | 0 | |
| filterTerms | 0.056 | 0.000 | 0.058 | |
| filterconcepts | 0.692 | 0.060 | 0.358 | |
| findEntities | 1.024 | 0.064 | 0.362 | |
| findHealthy | 0.056 | 0.000 | 0.057 | |
| getGEOMetadata | 0.004 | 0.000 | 0.002 | |
| groupConfig | 0.048 | 0.000 | 0.049 | |
| groupsim | 0.240 | 0.000 | 0.195 | |
| groupwiseConfigRef | 0.060 | 0.000 | 0.046 | |
| icConfig | 0.000 | 0.000 | 0.001 | |
| listCMOptions | 0.004 | 0.000 | 0.002 | |
| listSimilarities | 0.048 | 0.000 | 0.047 | |
| mergeonassis | 1.788 | 0.120 | 0.767 | |
| multisim | 1.744 | 0.096 | 0.991 | |
| ontology | 0.016 | 0.000 | 0.007 | |
| organism_types | 0.000 | 0.000 | 0.001 | |
| pairsim | 0.188 | 0.000 | 0.096 | |
| pairwiseConfig | 0.120 | 0.000 | 0.102 | |
| pairwiseConfigRef | 0.044 | 0.000 | 0.047 | |
| paramValueIndex | 0.012 | 0.000 | 0.013 | |
| samplesim | 1.116 | 0.044 | 0.599 | |
| scores | 0.000 | 0.004 | 0.001 | |
| semanticdifference | 28.656 | 0.416 | 29.188 | |
| sim | 3.096 | 0.176 | 1.593 | |
| simil | 0.000 | 0.000 | 0.001 | |
| similarityInstance | 0.000 | 0.000 | 0.002 | |
| typeSystemRef | 0.012 | 0.000 | 0.011 | |