| Back to Multiple platform build/check report for BioC 3.7 |
|
This page was generated on 2018-10-17 08:35:33 -0400 (Wed, 17 Oct 2018).
| Package 1000/1561 | Hostname | OS / Arch | INSTALL | BUILD | CHECK | BUILD BIN | ||||||
| NormqPCR 1.26.0 James Perkins
| malbec2 | Linux (Ubuntu 16.04.1 LTS) / x86_64 | OK | OK | OK | |||||||
| tokay2 | Windows Server 2012 R2 Standard / x64 | [ OK ] | OK | WARNINGS | OK | |||||||
| merida2 | OS X 10.11.6 El Capitan / x86_64 | OK | OK | WARNINGS | OK |
| Package: NormqPCR |
| Version: 1.26.0 |
| Command: C:\cygwin\bin\curl.exe -O https://malbec2.bioconductor.org/BBS/3.7/bioc/src/contrib/NormqPCR_1.26.0.tar.gz && rm -rf NormqPCR.buildbin-libdir && mkdir NormqPCR.buildbin-libdir && C:\Users\biocbuild\bbs-3.7-bioc\R\bin\R.exe CMD INSTALL --merge-multiarch --build --library=NormqPCR.buildbin-libdir NormqPCR_1.26.0.tar.gz && C:\Users\biocbuild\bbs-3.7-bioc\R\bin\R.exe CMD INSTALL NormqPCR_1.26.0.zip && rm NormqPCR_1.26.0.tar.gz NormqPCR_1.26.0.zip |
| StartedAt: 2018-10-16 19:30:15 -0400 (Tue, 16 Oct 2018) |
| EndedAt: 2018-10-16 19:30:50 -0400 (Tue, 16 Oct 2018) |
| EllapsedTime: 34.9 seconds |
| RetCode: 0 |
| Status: OK |
##############################################################################
##############################################################################
###
### Running command:
###
### C:\cygwin\bin\curl.exe -O https://malbec2.bioconductor.org/BBS/3.7/bioc/src/contrib/NormqPCR_1.26.0.tar.gz && rm -rf NormqPCR.buildbin-libdir && mkdir NormqPCR.buildbin-libdir && C:\Users\biocbuild\bbs-3.7-bioc\R\bin\R.exe CMD INSTALL --merge-multiarch --build --library=NormqPCR.buildbin-libdir NormqPCR_1.26.0.tar.gz && C:\Users\biocbuild\bbs-3.7-bioc\R\bin\R.exe CMD INSTALL NormqPCR_1.26.0.zip && rm NormqPCR_1.26.0.tar.gz NormqPCR_1.26.0.zip
###
##############################################################################
##############################################################################
% Total % Received % Xferd Average Speed Time Time Time Current
Dload Upload Total Spent Left Speed
0 0 0 0 0 0 0 0 --:--:-- --:--:-- --:--:-- 0
100 313k 100 313k 0 0 4984k 0 --:--:-- --:--:-- --:--:-- 5604k
install for i386
* installing *source* package 'NormqPCR' ...
** R
** data
*** moving datasets to lazyload DB
** inst
** byte-compile and prepare package for lazy loading
** help
*** installing help indices
converting help for package 'NormqPCR'
finding HTML links ... done
Bladder html
BladderRepro html
Colon html
ComputeNRQs html
Rd warning: C:/Users/biocbuild/bbs-3.7-bioc/tmpdir/Rtmp0oA3mk/R.INSTALL11487b95f2e/NormqPCR/man/ComputeNRQs.Rd:14: file link 'qPCRBatch' in package 'ReadqPCR' does not exist and so has been treated as a topic
CqValues html
Rd warning: C:/Users/biocbuild/bbs-3.7-bioc/tmpdir/Rtmp0oA3mk/R.INSTALL11487b95f2e/NormqPCR/man/CqValues.Rd:23: file link 'CyclesSet' in package 'ReadqPCR' does not exist and so has been treated as a topic
NormqPCR-package html
combineTechReps html
combineTechRepsSD html
deltaCt html
deltaDeltaCt html
geNorm html
geomMean html
makeAllNAs html
makeAllNewVal html
replaceAboveCutOff html
replaceNAs html
selectHKs html
stabMeasureM html
stabMeasureRho html
** building package indices
** installing vignettes
'NormqPCR.Rnw'
** testing if installed package can be loaded
In R CMD INSTALL
install for x64
* installing *source* package 'NormqPCR' ...
** testing if installed package can be loaded
* MD5 sums
packaged installation of 'NormqPCR' as NormqPCR_1.26.0.zip
* DONE (NormqPCR)
In R CMD INSTALL
In R CMD INSTALL
* installing to library 'C:/Users/biocbuild/bbs-3.7-bioc/R/library'
package 'NormqPCR' successfully unpacked and MD5 sums checked
In R CMD INSTALL