| Back to Multiple platform build/check report for BioC 3.7 |
|
This page was generated on 2018-10-17 08:40:25 -0400 (Wed, 17 Oct 2018).
| Package 884/1561 | Hostname | OS / Arch | INSTALL | BUILD | CHECK | BUILD BIN | ||||||
| MethTargetedNGS 1.12.0 Muhammad Ahmer Jamil
| malbec2 | Linux (Ubuntu 16.04.1 LTS) / x86_64 | OK | OK | OK | |||||||
| tokay2 | Windows Server 2012 R2 Standard / x64 | OK | OK | OK | [ OK ] | |||||||
| merida2 | OS X 10.11.6 El Capitan / x86_64 | OK | OK | OK | OK |
| Package: MethTargetedNGS |
| Version: 1.12.0 |
| Command: rm -rf MethTargetedNGS.buildbin-libdir && mkdir MethTargetedNGS.buildbin-libdir && C:\Users\biocbuild\bbs-3.7-bioc\R\bin\R.exe CMD INSTALL --merge-multiarch --build --library=MethTargetedNGS.buildbin-libdir MethTargetedNGS_1.12.0.tar.gz |
| StartedAt: 2018-10-17 06:40:06 -0400 (Wed, 17 Oct 2018) |
| EndedAt: 2018-10-17 06:40:27 -0400 (Wed, 17 Oct 2018) |
| EllapsedTime: 20.7 seconds |
| RetCode: 0 |
| Status: OK |
| PackageFile: MethTargetedNGS_1.12.0.zip |
| PackageFileSize: 240.2 KiB |
##############################################################################
##############################################################################
###
### Running command:
###
### rm -rf MethTargetedNGS.buildbin-libdir && mkdir MethTargetedNGS.buildbin-libdir && C:\Users\biocbuild\bbs-3.7-bioc\R\bin\R.exe CMD INSTALL --merge-multiarch --build --library=MethTargetedNGS.buildbin-libdir MethTargetedNGS_1.12.0.tar.gz
###
##############################################################################
##############################################################################
install for i386
* installing *source* package 'MethTargetedNGS' ...
** R
** inst
** byte-compile and prepare package for lazy loading
** help
*** installing help indices
converting help for package 'MethTargetedNGS'
finding HTML links ... done
MethTargetedNGS-package html
bconv html
compare_samples html
fishertest_cpg html
hmmbuild html
methAlign html
methAvg html
methEntropy html
methHeatmap html
nhmmer html
odd_ratio html
** building package indices
** installing vignettes
** testing if installed package can be loaded
In R CMD INSTALL
install for x64
* installing *source* package 'MethTargetedNGS' ...
** testing if installed package can be loaded
* MD5 sums
packaged installation of 'MethTargetedNGS' as MethTargetedNGS_1.12.0.zip
* DONE (MethTargetedNGS)
In R CMD INSTALL
In R CMD INSTALL