| Back to Multiple platform build/check report for BioC 3.7 |
|
This page was generated on 2018-10-17 08:44:39 -0400 (Wed, 17 Oct 2018).
| Package 912/1561 | Hostname | OS / Arch | INSTALL | BUILD | CHECK | BUILD BIN | ||||||
| MIRA 1.2.0 John Lawson
| malbec2 | Linux (Ubuntu 16.04.1 LTS) / x86_64 | OK | OK | OK | |||||||
| tokay2 | Windows Server 2012 R2 Standard / x64 | [ OK ] | OK | OK | OK | |||||||
| merida2 | OS X 10.11.6 El Capitan / x86_64 | OK | OK | OK | OK |
| Package: MIRA |
| Version: 1.2.0 |
| Command: C:\cygwin\bin\curl.exe -O https://malbec2.bioconductor.org/BBS/3.7/bioc/src/contrib/MIRA_1.2.0.tar.gz && rm -rf MIRA.buildbin-libdir && mkdir MIRA.buildbin-libdir && C:\Users\biocbuild\bbs-3.7-bioc\R\bin\R.exe CMD INSTALL --merge-multiarch --build --library=MIRA.buildbin-libdir MIRA_1.2.0.tar.gz && C:\Users\biocbuild\bbs-3.7-bioc\R\bin\R.exe CMD INSTALL MIRA_1.2.0.zip && rm MIRA_1.2.0.tar.gz MIRA_1.2.0.zip |
| StartedAt: 2018-10-16 19:35:28 -0400 (Tue, 16 Oct 2018) |
| EndedAt: 2018-10-16 19:36:14 -0400 (Tue, 16 Oct 2018) |
| EllapsedTime: 45.4 seconds |
| RetCode: 0 |
| Status: OK |
##############################################################################
##############################################################################
###
### Running command:
###
### C:\cygwin\bin\curl.exe -O https://malbec2.bioconductor.org/BBS/3.7/bioc/src/contrib/MIRA_1.2.0.tar.gz && rm -rf MIRA.buildbin-libdir && mkdir MIRA.buildbin-libdir && C:\Users\biocbuild\bbs-3.7-bioc\R\bin\R.exe CMD INSTALL --merge-multiarch --build --library=MIRA.buildbin-libdir MIRA_1.2.0.tar.gz && C:\Users\biocbuild\bbs-3.7-bioc\R\bin\R.exe CMD INSTALL MIRA_1.2.0.zip && rm MIRA_1.2.0.tar.gz MIRA_1.2.0.zip
###
##############################################################################
##############################################################################
% Total % Received % Xferd Average Speed Time Time Time Current
Dload Upload Total Spent Left Speed
0 0 0 0 0 0 0 0 --:--:-- --:--:-- --:--:-- 0
100 1219k 100 1219k 0 0 16.7M 0 --:--:-- --:--:-- --:--:-- 18.3M
install for i386
* installing *source* package 'MIRA' ...
** R
** data
** inst
** byte-compile and prepare package for lazy loading
** help
*** installing help indices
converting help for package 'MIRA'
finding HTML links ... done
BSBinAggregate html
BSreadBiSeq html
MIRA html
SummarizedExperimentToDataTable html
addMethPropCol html
aggregateMethyl html
bigBinDT1 html
bigBinDT2 html
binRegion html
bsseqToDataTable html
calcMIRAScore html
exampleAnnoDT1 html
exampleAnnoDT2 html
exampleBSDT html
exampleBSseqObj html
exampleBins html
exampleRegionSet html
plotMIRAProfiles html
plotMIRAScores html
rbindNamedList html
** building package indices
** installing vignettes
** testing if installed package can be loaded
In R CMD INSTALL
install for x64
* installing *source* package 'MIRA' ...
** testing if installed package can be loaded
* MD5 sums
packaged installation of 'MIRA' as MIRA_1.2.0.zip
* DONE (MIRA)
In R CMD INSTALL
In R CMD INSTALL
* installing to library 'C:/Users/biocbuild/bbs-3.7-bioc/R/library'
package 'MIRA' successfully unpacked and MD5 sums checked
In R CMD INSTALL