| Back to Multiple platform build/check report for BioC 3.7 |
|
This page was generated on 2018-10-17 08:35:31 -0400 (Wed, 17 Oct 2018).
| Package 719/1561 | Hostname | OS / Arch | INSTALL | BUILD | CHECK | BUILD BIN | ||||||
| IdMappingRetrieval 1.28.0 Alex Lisovich
| malbec2 | Linux (Ubuntu 16.04.1 LTS) / x86_64 | OK | OK | OK | |||||||
| tokay2 | Windows Server 2012 R2 Standard / x64 | OK | OK | OK | [ OK ] | |||||||
| merida2 | OS X 10.11.6 El Capitan / x86_64 | OK | OK | OK | OK |
| Package: IdMappingRetrieval |
| Version: 1.28.0 |
| Command: rm -rf IdMappingRetrieval.buildbin-libdir && mkdir IdMappingRetrieval.buildbin-libdir && C:\Users\biocbuild\bbs-3.7-bioc\R\bin\R.exe CMD INSTALL --merge-multiarch --build --library=IdMappingRetrieval.buildbin-libdir IdMappingRetrieval_1.28.0.tar.gz |
| StartedAt: 2018-10-17 06:34:00 -0400 (Wed, 17 Oct 2018) |
| EndedAt: 2018-10-17 06:34:49 -0400 (Wed, 17 Oct 2018) |
| EllapsedTime: 49.3 seconds |
| RetCode: 0 |
| Status: OK |
| PackageFile: IdMappingRetrieval_1.28.0.zip |
| PackageFileSize: 399.4 KiB |
##############################################################################
##############################################################################
###
### Running command:
###
### rm -rf IdMappingRetrieval.buildbin-libdir && mkdir IdMappingRetrieval.buildbin-libdir && C:\Users\biocbuild\bbs-3.7-bioc\R\bin\R.exe CMD INSTALL --merge-multiarch --build --library=IdMappingRetrieval.buildbin-libdir IdMappingRetrieval_1.28.0.tar.gz
###
##############################################################################
##############################################################################
install for i386
* installing *source* package 'IdMappingRetrieval' ...
** R
** demo
** inst
** byte-compile and prepare package for lazy loading
** help
*** installing help indices
converting help for package 'IdMappingRetrieval'
finding HTML links ... done
Annotation html
AnnotationAffx html
AnnotationEnsembl html
AnnotationEnsemblCsv html
AnnotationEnvision html
AnnotationNetAffx html
Generic.Roo html
IdMappingAnnotationData.root html
IdMappingRetrieval-package html
ServiceManager html
addServices.ServiceManager html
as.IdMap html
as.UniquePairs html
filesExist.AnnotationNetAffx html
getColumns.Annotation html
getColumns.AnnotationAffx html
getColumns.AnnotationEnsembl html
getColumns.AnnotationEnsemblCsv html
getColumns.AnnotationEnvision html
getDataFrame.Annotation html
getDataFrameList.ServiceManager html
getFolderName.Annotation html
getIdMap.Annotation html
getIdMapList.ServiceManager html
getServiceRoot.Annotation html
getServices.ServiceManager html
readDF.Annotation html
readDF.AnnotationAffx html
readDF.AnnotationEnsembl html
readDF.AnnotationEnsemblCsv html
readDF.AnnotationEnvision html
readDF.AnnotationNetAffx html
setOptions.Annotation html
setServices.ServiceManager html
subsetByColumn html
swapKeys html
** building package indices
** installing vignettes
** testing if installed package can be loaded
In R CMD INSTALL
install for x64
* installing *source* package 'IdMappingRetrieval' ...
** testing if installed package can be loaded
* MD5 sums
packaged installation of 'IdMappingRetrieval' as IdMappingRetrieval_1.28.0.zip
* DONE (IdMappingRetrieval)
In R CMD INSTALL
In R CMD INSTALL