| Back to Multiple platform build/check report for BioC 3.7 |
|
This page was generated on 2018-10-17 08:22:34 -0400 (Wed, 17 Oct 2018).
| Package 687/1561 | Hostname | OS / Arch | INSTALL | BUILD | CHECK | BUILD BIN | ||||||
| HilbertVis 1.38.0 Simon Anders
| malbec2 | Linux (Ubuntu 16.04.1 LTS) / x86_64 | [ OK ] | OK | OK | |||||||
| tokay2 | Windows Server 2012 R2 Standard / x64 | OK | OK | OK | OK | |||||||
| merida2 | OS X 10.11.6 El Capitan / x86_64 | OK | OK | WARNINGS | OK |
| Package: HilbertVis |
| Version: 1.38.0 |
| Command: /home/biocbuild/bbs-3.7-bioc/R/bin/R CMD INSTALL HilbertVis |
| StartedAt: 2018-10-15 18:03:33 -0400 (Mon, 15 Oct 2018) |
| EndedAt: 2018-10-15 18:03:35 -0400 (Mon, 15 Oct 2018) |
| EllapsedTime: 2.5 seconds |
| RetCode: 0 |
| Status: OK |
############################################################################## ############################################################################## ### ### Running command: ### ### /home/biocbuild/bbs-3.7-bioc/R/bin/R CMD INSTALL HilbertVis ### ############################################################################## ############################################################################## * installing to library ‘/home/biocbuild/bbs-3.7-bioc/R/library’ * installing *source* package ‘HilbertVis’ ... ** libs gcc -I"/home/biocbuild/bbs-3.7-bioc/R/include" -DNDEBUG -I/usr/local/include -fpic -g -O2 -Wall -c hilbert.c -o hilbert.o gcc -I"/home/biocbuild/bbs-3.7-bioc/R/include" -DNDEBUG -I/usr/local/include -fpic -g -O2 -Wall -c make_wiggle_vector.c -o make_wiggle_vector.o gcc -I"/home/biocbuild/bbs-3.7-bioc/R/include" -DNDEBUG -I/usr/local/include -fpic -g -O2 -Wall -c shrink_vector.c -o shrink_vector.o gcc -shared -L/home/biocbuild/bbs-3.7-bioc/R/lib -L/usr/local/lib -o HilbertVis.so hilbert.o make_wiggle_vector.o shrink_vector.o -L/home/biocbuild/bbs-3.7-bioc/R/lib -lR installing to /home/biocbuild/bbs-3.7-bioc/R/library/HilbertVis/libs ** R ** inst ** byte-compile and prepare package for lazy loading ** help *** installing help indices ** building package indices ** installing vignettes ** testing if installed package can be loaded * DONE (HilbertVis)