| Back to Multiple platform build/check report for BioC 3.7 |
|
This page was generated on 2018-10-17 08:44:17 -0400 (Wed, 17 Oct 2018).
| Package 683/1561 | Hostname | OS / Arch | INSTALL | BUILD | CHECK | BUILD BIN | ||||||
| HiCcompare 1.2.0 John Stansfield
| malbec2 | Linux (Ubuntu 16.04.1 LTS) / x86_64 | OK | OK | OK | |||||||
| tokay2 | Windows Server 2012 R2 Standard / x64 | OK | OK | [ OK ] | OK | |||||||
| merida2 | OS X 10.11.6 El Capitan / x86_64 | OK | OK | OK | OK |
| Package: HiCcompare |
| Version: 1.2.0 |
| Command: C:\Users\biocbuild\bbs-3.7-bioc\R\bin\R.exe CMD check --force-multiarch --install=check:HiCcompare.install-out.txt --library=C:\Users\biocbuild\bbs-3.7-bioc\R\library --no-vignettes --timings HiCcompare_1.2.0.tar.gz |
| StartedAt: 2018-10-17 02:40:56 -0400 (Wed, 17 Oct 2018) |
| EndedAt: 2018-10-17 02:46:11 -0400 (Wed, 17 Oct 2018) |
| EllapsedTime: 314.3 seconds |
| RetCode: 0 |
| Status: OK |
| CheckDir: HiCcompare.Rcheck |
| Warnings: 0 |
##############################################################################
##############################################################################
###
### Running command:
###
### C:\Users\biocbuild\bbs-3.7-bioc\R\bin\R.exe CMD check --force-multiarch --install=check:HiCcompare.install-out.txt --library=C:\Users\biocbuild\bbs-3.7-bioc\R\library --no-vignettes --timings HiCcompare_1.2.0.tar.gz
###
##############################################################################
##############################################################################
* using log directory 'C:/Users/biocbuild/bbs-3.7-bioc/meat/HiCcompare.Rcheck'
* using R version 3.5.1 Patched (2018-07-24 r75005)
* using platform: x86_64-w64-mingw32 (64-bit)
* using session charset: ISO8859-1
* using option '--no-vignettes'
* checking for file 'HiCcompare/DESCRIPTION' ... OK
* this is package 'HiCcompare' version '1.2.0'
* package encoding: UTF-8
* checking package namespace information ... OK
* checking package dependencies ... OK
* checking if this is a source package ... OK
* checking if there is a namespace ... OK
* checking for hidden files and directories ... OK
* checking for portable file names ... OK
* checking whether package 'HiCcompare' can be installed ... OK
* checking installed package size ... NOTE
installed size is 6.1Mb
sub-directories of 1Mb or more:
data 5.6Mb
* checking package directory ... OK
* checking 'build' directory ... OK
* checking DESCRIPTION meta-information ... OK
* checking top-level files ... OK
* checking for left-over files ... OK
* checking index information ... OK
* checking package subdirectories ... OK
* checking R files for non-ASCII characters ... OK
* checking R files for syntax errors ... OK
* loading checks for arch 'i386'
** checking whether the package can be loaded ... OK
** checking whether the package can be loaded with stated dependencies ... OK
** checking whether the package can be unloaded cleanly ... OK
** checking whether the namespace can be loaded with stated dependencies ... OK
** checking whether the namespace can be unloaded cleanly ... OK
* loading checks for arch 'x64'
** checking whether the package can be loaded ... OK
** checking whether the package can be loaded with stated dependencies ... OK
** checking whether the package can be unloaded cleanly ... OK
** checking whether the namespace can be loaded with stated dependencies ... OK
** checking whether the namespace can be unloaded cleanly ... OK
* checking dependencies in R code ... OK
* checking S3 generic/method consistency ... OK
* checking replacement functions ... OK
* checking foreign function calls ... OK
* checking R code for possible problems ... NOTE
.adjust_pval : <anonymous>: no visible binding for global variable
'p.adj'
.adjust_pval : <anonymous>: no visible binding for global variable
'p.value'
.adjust_pval: no visible binding for global variable 'p.value'
.adjust_pval: no visible binding for global variable 'p.adj'
.calc.pval: no visible binding for global variable 'D'
.calc.pval: no visible binding for global variable 'p.value'
.calc.pval: no visible binding for global variable 'p.adj'
.calc.pval: no visible binding for global variable 'adj.M'
.calc.pval: no visible binding for global variable 'fold.change'
.calc.pval: no visible binding for global variable 'adj.IF2'
.calc.pval: no visible binding for global variable 'adj.IF1'
.calc_z2: no visible binding for global variable 'Z'
.calc_z2: no visible global function definition for 'pnorm'
.calc_z2: no visible binding for global variable 'p.value'
.loess.matrix: no visible binding for global variable 'adj.IF1'
.loess.matrix: no visible binding for global variable 'IF1'
.loess.matrix: no visible binding for global variable 'adj.IF2'
.loess.matrix: no visible binding for global variable 'IF2'
.loess.matrix: no visible binding for global variable 'adj.M'
.loess.matrix: no visible binding for global variable 'A'
.split_cent: no visible binding for global variable
'centromere_locations'
.split_cent: no visible binding for global variable 'start1'
.split_cent: no visible binding for global variable 'start2'
.split_cent: no visible binding for global variable 'chr1'
.split_cent: no visible binding for global variable 'chr2'
MA_norm: no visible binding for global variable 'D'
MA_norm: no visible binding for global variable 'M'
MA_norm: no visible binding for global variable 'adj.IF1'
MA_norm: no visible binding for global variable 'IF1'
MA_norm: no visible binding for global variable 'adj.IF2'
MA_norm: no visible binding for global variable 'IF2'
MA_norm: no visible binding for global variable 'adj.M'
cooler2sparse: no visible binding for global variable 'chr1'
cooler2sparse: no visible binding for global variable 'chr2'
cooler2sparse: no visible binding for global variable 'IF'
create.hic.table: no visible binding for global variable 'D'
create.hic.table: no visible binding for global variable 'region2'
create.hic.table: no visible binding for global variable 'region1'
create.hic.table: no visible binding for global variable 'IF2'
create.hic.table: no visible binding for global variable 'M'
create.hic.table: no visible binding for global variable 'IF1'
create.hic.table: no visible binding for global variable 'i'
create.hic.table: no visible binding for global variable 'j'
filter_params: no visible binding for global variable 'M'
filter_params: no visible binding for global variable 'IF1'
filter_params: no visible binding for global variable 'IF2'
filter_params: no visible global function definition for 'axis'
full2sparse: no visible binding for global variable 'IF'
hic_compare : <anonymous>: no visible binding for global variable
'p.adj'
hic_simulate: no visible binding for global variable 'bias.slope'
hicpro2bedpe: no visible binding for global variable 'chr1'
hicpro2bedpe: no visible binding for global variable 'chr2'
manhattan_plot: no visible binding for global variable 'bp'
manhattan_plot: no visible binding for global variable 'count'
sim.other.methods: no visible binding for global variable 'adj.IF1'
sim.other.methods: no visible binding for global variable 'IF1'
sim.other.methods: no visible binding for global variable 'adj.IF2'
sim.other.methods: no visible binding for global variable 'IF2'
sim.other.methods: no visible binding for global variable 'adj.M'
sim.other.methods: no visible binding for global variable 'M'
sim_matrix: no visible binding for global variable 'bias.slope'
total_sum: no visible binding for global variable 'IF2'
total_sum: no visible binding for global variable 'M'
total_sum: no visible binding for global variable 'IF1'
total_sum: no visible binding for global variable 'chr1'
volcano: no visible binding for global variable 'A'
volcano: no visible binding for global variable 'adj.IF1'
volcano: no visible binding for global variable 'adj.IF2'
volcano: no visible binding for global variable 'p.value'
volcano: no visible binding for global variable 'D'
Undefined global functions or variables:
A D IF IF1 IF2 M Z adj.IF1 adj.IF2 adj.M axis bias.slope bp
centromere_locations chr1 chr2 count fold.change i j p.adj p.value
pnorm region1 region2 start1 start2
Consider adding
importFrom("graphics", "axis")
importFrom("stats", "D", "pnorm")
to your NAMESPACE file.
* checking Rd files ... OK
* checking Rd metadata ... OK
* checking Rd cross-references ... OK
* checking for missing documentation entries ... OK
* checking for code/documentation mismatches ... OK
* checking Rd \usage sections ... OK
* checking Rd contents ... OK
* checking for unstated dependencies in examples ... OK
* checking contents of 'data' directory ... OK
* checking data for non-ASCII characters ... OK
* checking data for ASCII and uncompressed saves ... OK
* checking files in 'vignettes' ... OK
* checking examples ...
** running examples for arch 'i386' ... OK
Examples with CPU or elapsed time > 5s
user system elapsed
filter_params 5.36 0.20 5.56
hic_diff 5.38 0.18 5.57
** running examples for arch 'x64' ... OK
* checking for unstated dependencies in 'tests' ... OK
* checking tests ...
** running tests for arch 'i386' ...
Running 'testthat.R'
OK
** running tests for arch 'x64' ...
Running 'testthat.R'
OK
* checking for unstated dependencies in vignettes ... OK
* checking package vignettes in 'inst/doc' ... OK
* checking running R code from vignettes ... SKIPPED
* checking re-building of vignette outputs ... SKIPPED
* checking PDF version of manual ... OK
* DONE
Status: 2 NOTEs
See
'C:/Users/biocbuild/bbs-3.7-bioc/meat/HiCcompare.Rcheck/00check.log'
for details.
HiCcompare.Rcheck/00install.out
##############################################################################
##############################################################################
###
### Running command:
###
### C:\cygwin\bin\curl.exe -O https://malbec2.bioconductor.org/BBS/3.7/bioc/src/contrib/HiCcompare_1.2.0.tar.gz && rm -rf HiCcompare.buildbin-libdir && mkdir HiCcompare.buildbin-libdir && C:\Users\biocbuild\bbs-3.7-bioc\R\bin\R.exe CMD INSTALL --merge-multiarch --build --library=HiCcompare.buildbin-libdir HiCcompare_1.2.0.tar.gz && C:\Users\biocbuild\bbs-3.7-bioc\R\bin\R.exe CMD INSTALL HiCcompare_1.2.0.zip && rm HiCcompare_1.2.0.tar.gz HiCcompare_1.2.0.zip
###
##############################################################################
##############################################################################
% Total % Received % Xferd Average Speed Time Time Time Current
Dload Upload Total Spent Left Speed
0 0 0 0 0 0 0 0 --:--:-- --:--:-- --:--:-- 0
100 3202k 100 3202k 0 0 36.3M 0 --:--:-- --:--:-- --:--:-- 39.0M
install for i386
* installing *source* package 'HiCcompare' ...
** R
** data
*** moving datasets to lazyload DB
** byte-compile and prepare package for lazy loading
Note: wrong number of arguments to 'ceiling'
** help
*** installing help indices
converting help for package 'HiCcompare'
finding HTML links ... done
HMEC.chr10 html
HMEC.chr22 html
HiCcompare-package html
KRnorm html
MA_norm html
MD.plot1 html
MD.plot2 html
NHEK.chr10 html
NHEK.chr22 html
SCN html
brain_table html
centromere_locations html
cooler html
cooler2sparse html
create.hic.table html
filter_params html
full2sparse html
get_CNV html
hg19_blacklist html
hg38_blacklist html
hic_compare html
hic_diff html
hic_loess html
hic_simulate html
hicpro2bedpe html
hmec.IS html
make_InteractionSet html
manhattan_plot html
nhek.IS html
remove_centromere html
sim.other.methods html
sim_matrix html
sparse2full html
split_centromere html
total_sum html
visualize_pvals html
** building package indices
** installing vignettes
** testing if installed package can be loaded
In R CMD INSTALL
install for x64
* installing *source* package 'HiCcompare' ...
** testing if installed package can be loaded
* MD5 sums
packaged installation of 'HiCcompare' as HiCcompare_1.2.0.zip
* DONE (HiCcompare)
In R CMD INSTALL
In R CMD INSTALL
* installing to library 'C:/Users/biocbuild/bbs-3.7-bioc/R/library'
package 'HiCcompare' successfully unpacked and MD5 sums checked
In R CMD INSTALL
|
HiCcompare.Rcheck/tests_i386/testthat.Rout
R version 3.5.1 Patched (2018-07-24 r75005) -- "Feather Spray"
Copyright (C) 2018 The R Foundation for Statistical Computing
Platform: i386-w64-mingw32/i386 (32-bit)
R is free software and comes with ABSOLUTELY NO WARRANTY.
You are welcome to redistribute it under certain conditions.
Type 'license()' or 'licence()' for distribution details.
R is a collaborative project with many contributors.
Type 'contributors()' for more information and
'citation()' on how to cite R or R packages in publications.
Type 'demo()' for some demos, 'help()' for on-line help, or
'help.start()' for an HTML browser interface to help.
Type 'q()' to quit R.
> library(testthat)
> library(HiCcompare)
Loading required package: dplyr
Attaching package: 'dplyr'
The following object is masked from 'package:testthat':
matches
The following objects are masked from 'package:stats':
filter, lag
The following objects are masked from 'package:base':
intersect, setdiff, setequal, union
>
> test_check("HiCcompare")
== testthat results ===========================================================
OK: 28 SKIPPED: 0 FAILED: 0
>
> proc.time()
user system elapsed
8.43 0.93 9.36
|
HiCcompare.Rcheck/tests_x64/testthat.Rout
R version 3.5.1 Patched (2018-07-24 r75005) -- "Feather Spray"
Copyright (C) 2018 The R Foundation for Statistical Computing
Platform: x86_64-w64-mingw32/x64 (64-bit)
R is free software and comes with ABSOLUTELY NO WARRANTY.
You are welcome to redistribute it under certain conditions.
Type 'license()' or 'licence()' for distribution details.
R is a collaborative project with many contributors.
Type 'contributors()' for more information and
'citation()' on how to cite R or R packages in publications.
Type 'demo()' for some demos, 'help()' for on-line help, or
'help.start()' for an HTML browser interface to help.
Type 'q()' to quit R.
> library(testthat)
> library(HiCcompare)
Loading required package: dplyr
Attaching package: 'dplyr'
The following object is masked from 'package:testthat':
matches
The following objects are masked from 'package:stats':
filter, lag
The following objects are masked from 'package:base':
intersect, setdiff, setequal, union
>
> test_check("HiCcompare")
== testthat results ===========================================================
OK: 28 SKIPPED: 0 FAILED: 0
>
> proc.time()
user system elapsed
9.79 0.42 10.20
|
|
HiCcompare.Rcheck/examples_i386/HiCcompare-Ex.timings
|
HiCcompare.Rcheck/examples_x64/HiCcompare-Ex.timings
|