| Back to Multiple platform build/check report for BioC 3.7 |
|
This page was generated on 2018-10-17 08:48:24 -0400 (Wed, 17 Oct 2018).
| Package 600/1561 | Hostname | OS / Arch | INSTALL | BUILD | CHECK | BUILD BIN | ||||||
| Genominator 1.34.0 James Bullard
| malbec2 | Linux (Ubuntu 16.04.1 LTS) / x86_64 | OK | OK | OK | |||||||
| tokay2 | Windows Server 2012 R2 Standard / x64 | OK | OK | OK | OK | |||||||
| merida2 | OS X 10.11.6 El Capitan / x86_64 | OK | OK | OK | [ OK ] |
| Package: Genominator |
| Version: 1.34.0 |
| Command: rm -rf Genominator.buildbin-libdir && mkdir Genominator.buildbin-libdir && /Users/biocbuild/BBS/utils/build-universal.sh Genominator_1.34.0.tar.gz /Library/Frameworks/R.framework/Versions/Current/Resources/bin/R Genominator.buildbin-libdir |
| StartedAt: 2018-10-17 01:24:48 -0400 (Wed, 17 Oct 2018) |
| EndedAt: 2018-10-17 01:25:43 -0400 (Wed, 17 Oct 2018) |
| EllapsedTime: 55.0 seconds |
| RetCode: 0 |
| Status: OK |
| PackageFile: Genominator_1.34.0.tgz |
| PackageFileSize: 2.38 MiB |
############################################################################## ############################################################################## ### ### Running command: ### ### rm -rf Genominator.buildbin-libdir && mkdir Genominator.buildbin-libdir && /Users/biocbuild/BBS/utils/build-universal.sh Genominator_1.34.0.tar.gz /Library/Frameworks/R.framework/Versions/Current/Resources/bin/R Genominator.buildbin-libdir ### ############################################################################## ############################################################################## >>>>>>> >>>>>>> INSTALLATION WITH 'R CMD INSTALL --preclean --no-multiarch --library=Genominator.buildbin-libdir Genominator_1.34.0.tar.gz' >>>>>>> * installing *source* package ‘Genominator’ ... ** R ** data ** inst ** byte-compile and prepare package for lazy loading ** help *** installing help indices ** building package indices ** installing vignettes ** testing if installed package can be loaded * DONE (Genominator)