| Back to Multiple platform build/check report for BioC 3.7 |
|
This page was generated on 2018-10-17 08:45:33 -0400 (Wed, 17 Oct 2018).
| Package 544/1561 | Hostname | OS / Arch | INSTALL | BUILD | CHECK | BUILD BIN | ||||||
| GateFinder 1.0.0 Nima Aghaeepour
| malbec2 | Linux (Ubuntu 16.04.1 LTS) / x86_64 | OK | OK | OK | |||||||
| tokay2 | Windows Server 2012 R2 Standard / x64 | [ OK ] | OK | OK | OK | |||||||
| merida2 | OS X 10.11.6 El Capitan / x86_64 | OK | OK | OK | OK |
| Package: GateFinder |
| Version: 1.0.0 |
| Command: C:\Users\biocbuild\bbs-3.7-bioc\R\bin\R.exe --arch x64 CMD INSTALL --no-multiarch GateFinder |
| StartedAt: 2018-10-16 20:21:41 -0400 (Tue, 16 Oct 2018) |
| EndedAt: 2018-10-16 20:22:08 -0400 (Tue, 16 Oct 2018) |
| EllapsedTime: 27.1 seconds |
| RetCode: 0 |
| Status: OK |
##############################################################################
##############################################################################
###
### Running command:
###
### C:\Users\biocbuild\bbs-3.7-bioc\R\bin\R.exe --arch x64 CMD INSTALL --no-multiarch GateFinder
###
##############################################################################
##############################################################################
* installing to library 'C:/Users/biocbuild/bbs-3.7-bioc/R/library'
* installing *source* package 'GateFinder' ...
** R
** data
** inst
** byte-compile and prepare package for lazy loading
** help
*** installing help indices
converting help for package 'GateFinder'
finding HTML links ... done
GateFinder-package html
GateFinder html
GatingProjection-class html
LPSData html
plot.GateFinder html
** building package indices
** installing vignettes
** testing if installed package can be loaded
* DONE (GateFinder)
Making 'packages.html' ... done
In R CMD INSTALL