| Back to Multiple platform build/check report for BioC 3.7 |
|
This page was generated on 2018-10-17 08:38:12 -0400 (Wed, 17 Oct 2018).
| Package 656/1561 | Hostname | OS / Arch | INSTALL | BUILD | CHECK | BUILD BIN | ||||||
| GSCA 2.10.0 Zhicheng Ji
| malbec2 | Linux (Ubuntu 16.04.1 LTS) / x86_64 | OK | OK | OK | |||||||
| tokay2 | Windows Server 2012 R2 Standard / x64 | OK | OK | OK | [ OK ] | |||||||
| merida2 | OS X 10.11.6 El Capitan / x86_64 | OK | OK | OK | OK |
| Package: GSCA |
| Version: 2.10.0 |
| Command: rm -rf GSCA.buildbin-libdir && mkdir GSCA.buildbin-libdir && C:\Users\biocbuild\bbs-3.7-bioc\R\bin\R.exe CMD INSTALL --merge-multiarch --build --library=GSCA.buildbin-libdir GSCA_2.10.0.tar.gz |
| StartedAt: 2018-10-17 06:28:42 -0400 (Wed, 17 Oct 2018) |
| EndedAt: 2018-10-17 06:28:59 -0400 (Wed, 17 Oct 2018) |
| EllapsedTime: 16.5 seconds |
| RetCode: 0 |
| Status: OK |
| PackageFile: GSCA_2.10.0.zip |
| PackageFileSize: 2.32 MiB |
##############################################################################
##############################################################################
###
### Running command:
###
### rm -rf GSCA.buildbin-libdir && mkdir GSCA.buildbin-libdir && C:\Users\biocbuild\bbs-3.7-bioc\R\bin\R.exe CMD INSTALL --merge-multiarch --build --library=GSCA.buildbin-libdir GSCA_2.10.0.tar.gz
###
##############################################################################
##############################################################################
install for i386
* installing *source* package 'GSCA' ...
** R
** data
** inst
** byte-compile and prepare package for lazy loading
** help
*** installing help indices
converting help for package 'GSCA'
finding HTML links ... done
ConstructTG html
GSCA-package html
GSCA html
GSCAeda html
GSCAplot html
GSCAui html
Oct4ESC_TG html
STAT1_TG html
annotatePeaks html
geneIDdata html
tabSearch html
** building package indices
** installing vignettes
** testing if installed package can be loaded
In R CMD INSTALL
install for x64
* installing *source* package 'GSCA' ...
** testing if installed package can be loaded
* MD5 sums
packaged installation of 'GSCA' as GSCA_2.10.0.zip
* DONE (GSCA)
In R CMD INSTALL
In R CMD INSTALL