| Back to Multiple platform build/check report for BioC 3.7 |
|
This page was generated on 2018-10-17 08:46:48 -0400 (Wed, 17 Oct 2018).
| Package 607/1561 | Hostname | OS / Arch | INSTALL | BUILD | CHECK | BUILD BIN | ||||||
| GEOquery 2.48.0 Sean Davis
| malbec2 | Linux (Ubuntu 16.04.1 LTS) / x86_64 | OK | OK | OK | |||||||
| tokay2 | Windows Server 2012 R2 Standard / x64 | OK | OK | OK | OK | |||||||
| merida2 | OS X 10.11.6 El Capitan / x86_64 | OK | OK | OK | [ OK ] |
| Package: GEOquery |
| Version: 2.48.0 |
| Command: rm -rf GEOquery.buildbin-libdir && mkdir GEOquery.buildbin-libdir && /Users/biocbuild/BBS/utils/build-universal.sh GEOquery_2.48.0.tar.gz /Library/Frameworks/R.framework/Versions/Current/Resources/bin/R GEOquery.buildbin-libdir |
| StartedAt: 2018-10-17 01:25:16 -0400 (Wed, 17 Oct 2018) |
| EndedAt: 2018-10-17 01:26:08 -0400 (Wed, 17 Oct 2018) |
| EllapsedTime: 52.4 seconds |
| RetCode: 0 |
| Status: OK |
| PackageFile: GEOquery_2.48.0.tgz |
| PackageFileSize: 13.19 MiB |
############################################################################## ############################################################################## ### ### Running command: ### ### rm -rf GEOquery.buildbin-libdir && mkdir GEOquery.buildbin-libdir && /Users/biocbuild/BBS/utils/build-universal.sh GEOquery_2.48.0.tar.gz /Library/Frameworks/R.framework/Versions/Current/Resources/bin/R GEOquery.buildbin-libdir ### ############################################################################## ############################################################################## >>>>>>> >>>>>>> INSTALLATION WITH 'R CMD INSTALL --preclean --no-multiarch --library=GEOquery.buildbin-libdir GEOquery_2.48.0.tar.gz' >>>>>>> * installing *source* package ‘GEOquery’ ... ** R ** inst ** byte-compile and prepare package for lazy loading ** help *** installing help indices ** building package indices ** installing vignettes ** testing if installed package can be loaded * DONE (GEOquery)