| Back to Multiple platform build/check report for BioC 3.7 |
|
This page was generated on 2018-10-17 08:33:46 -0400 (Wed, 17 Oct 2018).
| Package 606/1561 | Hostname | OS / Arch | INSTALL | BUILD | CHECK | BUILD BIN | ||||||
| GEOmetadb 1.42.0 Jack Zhu
| malbec2 | Linux (Ubuntu 16.04.1 LTS) / x86_64 | OK | OK | OK | |||||||
| tokay2 | Windows Server 2012 R2 Standard / x64 | OK | OK | OK | [ OK ] | |||||||
| merida2 | OS X 10.11.6 El Capitan / x86_64 | OK | OK | OK | OK |
| Package: GEOmetadb |
| Version: 1.42.0 |
| Command: rm -rf GEOmetadb.buildbin-libdir && mkdir GEOmetadb.buildbin-libdir && C:\Users\biocbuild\bbs-3.7-bioc\R\bin\R.exe CMD INSTALL --merge-multiarch --build --library=GEOmetadb.buildbin-libdir GEOmetadb_1.42.0.tar.gz |
| StartedAt: 2018-10-17 06:23:40 -0400 (Wed, 17 Oct 2018) |
| EndedAt: 2018-10-17 06:34:19 -0400 (Wed, 17 Oct 2018) |
| EllapsedTime: 638.6 seconds |
| RetCode: 0 |
| Status: OK |
| PackageFile: GEOmetadb_1.42.0.zip |
| PackageFileSize: 407.2 KiB |
##############################################################################
##############################################################################
###
### Running command:
###
### rm -rf GEOmetadb.buildbin-libdir && mkdir GEOmetadb.buildbin-libdir && C:\Users\biocbuild\bbs-3.7-bioc\R\bin\R.exe CMD INSTALL --merge-multiarch --build --library=GEOmetadb.buildbin-libdir GEOmetadb_1.42.0.tar.gz
###
##############################################################################
##############################################################################
install for i386
* installing *source* package 'GEOmetadb' ...
** R
** inst
** byte-compile and prepare package for lazy loading
** help
*** installing help indices
converting help for package 'GEOmetadb'
finding HTML links ... done
GEOmetadb-package html
columnDescriptions html
geoConvert html
getBiocPlatformMap html
getSQLiteFile html
** building package indices
** installing vignettes
** testing if installed package can be loaded
In R CMD INSTALL
install for x64
* installing *source* package 'GEOmetadb' ...
** testing if installed package can be loaded
* MD5 sums
packaged installation of 'GEOmetadb' as GEOmetadb_1.42.0.zip
* DONE (GEOmetadb)
In R CMD INSTALL
In R CMD INSTALL