| Back to Multiple platform build/check report for BioC 3.7 |
|
This page was generated on 2018-10-17 08:36:20 -0400 (Wed, 17 Oct 2018).
| Package 533/1561 | Hostname | OS / Arch | INSTALL | BUILD | CHECK | BUILD BIN | ||||||
| FunciSNP 1.24.0 Simon G. Coetzee
| malbec2 | Linux (Ubuntu 16.04.1 LTS) / x86_64 | OK | OK | OK | |||||||
| tokay2 | Windows Server 2012 R2 Standard / x64 | [ OK ] | OK | OK | OK | |||||||
| merida2 | OS X 10.11.6 El Capitan / x86_64 | OK | OK | OK | OK |
| Package: FunciSNP |
| Version: 1.24.0 |
| Command: C:\cygwin\bin\curl.exe -O https://malbec2.bioconductor.org/BBS/3.7/bioc/src/contrib/FunciSNP_1.24.0.tar.gz && rm -rf FunciSNP.buildbin-libdir && mkdir FunciSNP.buildbin-libdir && C:\Users\biocbuild\bbs-3.7-bioc\R\bin\R.exe CMD INSTALL --merge-multiarch --build --library=FunciSNP.buildbin-libdir FunciSNP_1.24.0.tar.gz && C:\Users\biocbuild\bbs-3.7-bioc\R\bin\R.exe CMD INSTALL FunciSNP_1.24.0.zip && rm FunciSNP_1.24.0.tar.gz FunciSNP_1.24.0.zip |
| StartedAt: 2018-10-16 20:07:28 -0400 (Tue, 16 Oct 2018) |
| EndedAt: 2018-10-16 20:08:24 -0400 (Tue, 16 Oct 2018) |
| EllapsedTime: 56.3 seconds |
| RetCode: 0 |
| Status: OK |
##############################################################################
##############################################################################
###
### Running command:
###
### C:\cygwin\bin\curl.exe -O https://malbec2.bioconductor.org/BBS/3.7/bioc/src/contrib/FunciSNP_1.24.0.tar.gz && rm -rf FunciSNP.buildbin-libdir && mkdir FunciSNP.buildbin-libdir && C:\Users\biocbuild\bbs-3.7-bioc\R\bin\R.exe CMD INSTALL --merge-multiarch --build --library=FunciSNP.buildbin-libdir FunciSNP_1.24.0.tar.gz && C:\Users\biocbuild\bbs-3.7-bioc\R\bin\R.exe CMD INSTALL FunciSNP_1.24.0.zip && rm FunciSNP_1.24.0.tar.gz FunciSNP_1.24.0.zip
###
##############################################################################
##############################################################################
% Total % Received % Xferd Average Speed Time Time Time Current
Dload Upload Total Spent Left Speed
0 0 0 0 0 0 0 0 --:--:-- --:--:-- --:--:-- 0
100 1154k 100 1154k 0 0 15.2M 0 --:--:-- --:--:-- --:--:-- 16.8M
install for i386
* installing *source* package 'FunciSNP' ...
** R
** data
*** moving datasets to lazyload DB
** inst
** byte-compile and prepare package for lazy loading
** help
*** installing help indices
converting help for package 'FunciSNP'
finding HTML links ... done
CorrelatedSNPs-class html
FunciSNP-package html
FunciSNPAnnotateSummary html
FunciSNPbed html
FunciSNPidsFromSummary html
FunciSNPplot html
FunciSNPsummaryOverlaps html
FunciSNPtable html
TSList-class html
TagSNP-class html
getFSNPs html
** building package indices
** installing vignettes
** testing if installed package can be loaded
In R CMD INSTALL
install for x64
* installing *source* package 'FunciSNP' ...
** testing if installed package can be loaded
* MD5 sums
packaged installation of 'FunciSNP' as FunciSNP_1.24.0.zip
* DONE (FunciSNP)
In R CMD INSTALL
In R CMD INSTALL
* installing to library 'C:/Users/biocbuild/bbs-3.7-bioc/R/library'
package 'FunciSNP' successfully unpacked and MD5 sums checked
In R CMD INSTALL