| Back to Multiple platform build/check report for BioC 3.7 |
|
This page was generated on 2018-10-17 08:38:26 -0400 (Wed, 17 Oct 2018).
| Package 529/1561 | Hostname | OS / Arch | INSTALL | BUILD | CHECK | BUILD BIN | ||||||
| FRGEpistasis 1.16.0 Futao Zhang
| malbec2 | Linux (Ubuntu 16.04.1 LTS) / x86_64 | OK | OK | OK | |||||||
| tokay2 | Windows Server 2012 R2 Standard / x64 | OK | OK | OK | [ OK ] | |||||||
| merida2 | OS X 10.11.6 El Capitan / x86_64 | OK | OK | OK | OK |
| Package: FRGEpistasis |
| Version: 1.16.0 |
| Command: rm -rf FRGEpistasis.buildbin-libdir && mkdir FRGEpistasis.buildbin-libdir && C:\Users\biocbuild\bbs-3.7-bioc\R\bin\R.exe CMD INSTALL --merge-multiarch --build --library=FRGEpistasis.buildbin-libdir FRGEpistasis_1.16.0.tar.gz |
| StartedAt: 2018-10-17 06:20:52 -0400 (Wed, 17 Oct 2018) |
| EndedAt: 2018-10-17 06:21:09 -0400 (Wed, 17 Oct 2018) |
| EllapsedTime: 16.5 seconds |
| RetCode: 0 |
| Status: OK |
| PackageFile: FRGEpistasis_1.16.0.zip |
| PackageFileSize: 349.9 KiB |
##############################################################################
##############################################################################
###
### Running command:
###
### rm -rf FRGEpistasis.buildbin-libdir && mkdir FRGEpistasis.buildbin-libdir && C:\Users\biocbuild\bbs-3.7-bioc\R\bin\R.exe CMD INSTALL --merge-multiarch --build --library=FRGEpistasis.buildbin-libdir FRGEpistasis_1.16.0.tar.gz
###
##############################################################################
##############################################################################
install for i386
* installing *source* package 'FRGEpistasis' ...
** R
** inst
** byte-compile and prepare package for lazy loading
** help
*** installing help indices
converting help for package 'FRGEpistasis'
finding HTML links ... done
FRGEpistasis-package html
fRGEpistasis html
fRGInteraction html
fourierExpansion html
frgEpistasisTest html
innerEpi html
innerSnpListInteraction html
logTransPheno html
outerEpi html
outerSnpListInteraction html
pCAInteraction html
pCAPiontwiseEpistasis html
pointwiseInteraction html
rankTransPheno html
reduceGeno html
snpPairInteraction html
** building package indices
** installing vignettes
** testing if installed package can be loaded
In R CMD INSTALL
install for x64
* installing *source* package 'FRGEpistasis' ...
** testing if installed package can be loaded
* MD5 sums
packaged installation of 'FRGEpistasis' as FRGEpistasis_1.16.0.zip
* DONE (FRGEpistasis)
In R CMD INSTALL
In R CMD INSTALL